BEGIN:VCALENDAR
VERSION:2.0
PRODID:-//Mind Body Solutions - ECPv6.15.20//NONSGML v1.0//EN
CALSCALE:GREGORIAN
METHOD:PUBLISH
X-WR-CALNAME:Mind Body Solutions
X-ORIGINAL-URL:https://www.mindbodysolutions.org
X-WR-CALDESC:Events for Mind Body Solutions
REFRESH-INTERVAL;VALUE=DURATION:PT1H
X-Robots-Tag:noindex
X-PUBLISHED-TTL:PT1H
BEGIN:VTIMEZONE
TZID:America/Chicago
BEGIN:DAYLIGHT
TZOFFSETFROM:-0600
TZOFFSETTO:-0500
TZNAME:CDT
DTSTART:20220313T080000
END:DAYLIGHT
BEGIN:STANDARD
TZOFFSETFROM:-0500
TZOFFSETTO:-0600
TZNAME:CST
DTSTART:20221106T070000
END:STANDARD
BEGIN:DAYLIGHT
TZOFFSETFROM:-0600
TZOFFSETTO:-0500
TZNAME:CDT
DTSTART:20230312T080000
END:DAYLIGHT
BEGIN:STANDARD
TZOFFSETFROM:-0500
TZOFFSETTO:-0600
TZNAME:CST
DTSTART:20231105T070000
END:STANDARD
BEGIN:DAYLIGHT
TZOFFSETFROM:-0600
TZOFFSETTO:-0500
TZNAME:CDT
DTSTART:20240310T080000
END:DAYLIGHT
BEGIN:STANDARD
TZOFFSETFROM:-0500
TZOFFSETTO:-0600
TZNAME:CST
DTSTART:20241103T070000
END:STANDARD
END:VTIMEZONE
BEGIN:VEVENT
DTSTART;TZID=America/Chicago:20230810T120000
DTEND;TZID=America/Chicago:20230810T130000
DTSTAMP:20260424T183913
CREATED:20230126T180902Z
LAST-MODIFIED:20230126T183126Z
UID:40997-1691668800-1691672400@www.mindbodysolutions.org
SUMMARY:2023 Sandbox Session #7 - Networking / Resource Sharing
DESCRIPTION:Networking Session \nWhat are you up to? Are you online or in studio or both? Where in the world are you teaching? What projects do you have in the pipeline? Do you have ideas and tips to you want to pass along to each other? This session is a chance to share your work and support the work of your fellow adaptive yoga teachers!
URL:https://www.mindbodysolutions.org/event/sandbox-session-7-networking-resource-sharing/
CATEGORIES:Workshops
ATTACH;FMTTYPE=image/jpeg:https://www.mindbodysolutions.org/wp-content/uploads/2022/02/sbs.jpeg
LOCATION:https://us02web.zoom.us/j/82496001018
END:VEVENT
END:VCALENDAR