BEGIN:VCALENDAR
VERSION:2.0
PRODID:-//Mind Body Solutions - ECPv6.15.20//NONSGML v1.0//EN
CALSCALE:GREGORIAN
METHOD:PUBLISH
X-WR-CALNAME:Mind Body Solutions
X-ORIGINAL-URL:https://www.mindbodysolutions.org
X-WR-CALDESC:Events for Mind Body Solutions
REFRESH-INTERVAL;VALUE=DURATION:PT1H
X-Robots-Tag:noindex
X-PUBLISHED-TTL:PT1H
BEGIN:VTIMEZONE
TZID:America/Chicago
BEGIN:DAYLIGHT
TZOFFSETFROM:-0600
TZOFFSETTO:-0500
TZNAME:CDT
DTSTART:20220313T080000
END:DAYLIGHT
BEGIN:STANDARD
TZOFFSETFROM:-0500
TZOFFSETTO:-0600
TZNAME:CST
DTSTART:20221106T070000
END:STANDARD
BEGIN:DAYLIGHT
TZOFFSETFROM:-0600
TZOFFSETTO:-0500
TZNAME:CDT
DTSTART:20230312T080000
END:DAYLIGHT
BEGIN:STANDARD
TZOFFSETFROM:-0500
TZOFFSETTO:-0600
TZNAME:CST
DTSTART:20231105T070000
END:STANDARD
BEGIN:DAYLIGHT
TZOFFSETFROM:-0600
TZOFFSETTO:-0500
TZNAME:CDT
DTSTART:20240310T080000
END:DAYLIGHT
BEGIN:STANDARD
TZOFFSETFROM:-0500
TZOFFSETTO:-0600
TZNAME:CST
DTSTART:20241103T070000
END:STANDARD
END:VTIMEZONE
BEGIN:VEVENT
DTSTART;TZID=America/Chicago:20230713T120000
DTEND;TZID=America/Chicago:20230713T130000
DTSTAMP:20260424T202303
CREATED:20230126T180806Z
LAST-MODIFIED:20230126T182938Z
UID:40994-1689249600-1689253200@www.mindbodysolutions.org
SUMMARY:2023 Sandbox Session #6 - Supporting the Story
DESCRIPTION:Supporting the Story \nSupporting the story of another is a gesture of shared humanity\, something we always practice at Mind Body Solutions. How do you support the emerging stories of your adaptive yoga students? Intuitively\, we know this goes way beyond our yoga practice as well. As we widen the definition of support\, let’s talk about how we can support the stories of others\, as well as recognizing and honoring our own.
URL:https://www.mindbodysolutions.org/event/sandbox-session-6-supporting-the-story/
CATEGORIES:Workshops
ATTACH;FMTTYPE=image/jpeg:https://www.mindbodysolutions.org/wp-content/uploads/2022/02/sbs.jpeg
LOCATION:https://us02web.zoom.us/j/82496001018
END:VEVENT
END:VCALENDAR