BEGIN:VCALENDAR
VERSION:2.0
PRODID:-//Mind Body Solutions - ECPv6.15.20//NONSGML v1.0//EN
CALSCALE:GREGORIAN
METHOD:PUBLISH
X-ORIGINAL-URL:https://www.mindbodysolutions.org
X-WR-CALDESC:Events for Mind Body Solutions
REFRESH-INTERVAL;VALUE=DURATION:PT1H
X-Robots-Tag:noindex
X-PUBLISHED-TTL:PT1H
BEGIN:VTIMEZONE
TZID:America/Chicago
BEGIN:DAYLIGHT
TZOFFSETFROM:-0600
TZOFFSETTO:-0500
TZNAME:CDT
DTSTART:20210314T080000
END:DAYLIGHT
BEGIN:STANDARD
TZOFFSETFROM:-0500
TZOFFSETTO:-0600
TZNAME:CST
DTSTART:20211107T070000
END:STANDARD
BEGIN:DAYLIGHT
TZOFFSETFROM:-0600
TZOFFSETTO:-0500
TZNAME:CDT
DTSTART:20220313T080000
END:DAYLIGHT
BEGIN:STANDARD
TZOFFSETFROM:-0500
TZOFFSETTO:-0600
TZNAME:CST
DTSTART:20221106T070000
END:STANDARD
BEGIN:DAYLIGHT
TZOFFSETFROM:-0600
TZOFFSETTO:-0500
TZNAME:CDT
DTSTART:20230312T080000
END:DAYLIGHT
BEGIN:STANDARD
TZOFFSETFROM:-0500
TZOFFSETTO:-0600
TZNAME:CST
DTSTART:20231105T070000
END:STANDARD
END:VTIMEZONE
BEGIN:VEVENT
DTSTART;TZID=America/Chicago:20221206T120000
DTEND;TZID=America/Chicago:20221208T160000
DTSTAMP:20260425T072244
CREATED:20211011T160703Z
LAST-MODIFIED:20221208T152904Z
UID:28214-1670328000-1670515200@www.mindbodysolutions.org
SUMMARY:Online Continuing Studies
DESCRIPTION:Formerly Online Advanced Studies\, this workshop builds on learning acquired in our Intro Series workshops. Come back for more interactive learning with Matthew as you revisit concepts such as being an effective yoga teacher\, learning how to translate mind-body principles in online classes\, and refining poses without physical reference. Day 2 takes you deeply into Mind\, Consciousness\, and Activation while Day 3 explores the many facets of pain with Matthew and special guests. \nAfter the workshop ends\, keep the conversation going by enjoying a 90-minute follow-up session with Matthew and the MBS crew December 14\, from 2-3:30 pm CT.  \nThis workshop and subsequent follow-up session will be recorded and available for viewing online for 3 months after the workshop. \nCourse Information:\nDecember 6-8\, 2022 /   Noon – 4 pm CT \nDecember 14\, 2022 / Follow Up /  2-3:30 pm CT \n\nPlatform | Zoom\nFull Course Tuition $175\nPrior study with Mind Body Solutions recommended but not required. Questions? Contact amy@mindbodysolutions.org.\nThis workshop qualifies for 12 contact Yoga Alliance continuing education hours.\nOne 90 minute follow-up session December 14\, 2-3:30pm CT\n\nScholarships available | Click HERE for more information \nPrior study with Mind Body Solutions recommended but not required. Questions? Contact amy@mindbodysolutions.org. \nWhat our participants say…\nThis has been the best experience I have ever had.  The staff and students are absolute legends and are working so hard to disseminate and grow Mind Body awareness across this tiny globe of ours.  The passion and unique sense of purpose was clear to see and it was a real privilege to be in the room and feel the unity and cohesion of the community.   – Mick Warwick\, student
URL:https://www.mindbodysolutions.org/event/online-continuing-studies-2/
CATEGORIES:Training for Teachers,Workshops
ATTACH;FMTTYPE=image/png:https://www.mindbodysolutions.org/wp-content/uploads/2021/10/Copy-of-Intro-to-Adaptive-Yoga-600-x-200-px-6.png
LOCATION:https://www.mindbodysolutions.org/event/online-continuing-studies-2/
END:VEVENT
END:VCALENDAR