BEGIN:VCALENDAR
VERSION:2.0
PRODID:-//Mind Body Solutions - ECPv6.15.20//NONSGML v1.0//EN
CALSCALE:GREGORIAN
METHOD:PUBLISH
X-ORIGINAL-URL:https://www.mindbodysolutions.org
X-WR-CALDESC:Events for Mind Body Solutions
REFRESH-INTERVAL;VALUE=DURATION:PT1H
X-Robots-Tag:noindex
X-PUBLISHED-TTL:PT1H
BEGIN:VTIMEZONE
TZID:America/Chicago
BEGIN:DAYLIGHT
TZOFFSETFROM:-0600
TZOFFSETTO:-0500
TZNAME:CDT
DTSTART:20230312T080000
END:DAYLIGHT
BEGIN:STANDARD
TZOFFSETFROM:-0500
TZOFFSETTO:-0600
TZNAME:CST
DTSTART:20231105T070000
END:STANDARD
BEGIN:DAYLIGHT
TZOFFSETFROM:-0600
TZOFFSETTO:-0500
TZNAME:CDT
DTSTART:20240310T080000
END:DAYLIGHT
BEGIN:STANDARD
TZOFFSETFROM:-0500
TZOFFSETTO:-0600
TZNAME:CST
DTSTART:20241103T070000
END:STANDARD
BEGIN:DAYLIGHT
TZOFFSETFROM:-0600
TZOFFSETTO:-0500
TZNAME:CDT
DTSTART:20250309T080000
END:DAYLIGHT
BEGIN:STANDARD
TZOFFSETFROM:-0500
TZOFFSETTO:-0600
TZNAME:CST
DTSTART:20251102T070000
END:STANDARD
BEGIN:DAYLIGHT
TZOFFSETFROM:-0600
TZOFFSETTO:-0500
TZNAME:CDT
DTSTART:20260308T080000
END:DAYLIGHT
BEGIN:STANDARD
TZOFFSETFROM:-0500
TZOFFSETTO:-0600
TZNAME:CST
DTSTART:20261101T070000
END:STANDARD
END:VTIMEZONE
BEGIN:VEVENT
DTSTART;TZID=America/Chicago:20240208T080000
DTEND;TZID=America/Chicago:20250109T170000
DTSTAMP:20260423T144127
CREATED:20240117T150329Z
LAST-MODIFIED:20240205T192716Z
UID:46112-1707379200-1736442000@www.mindbodysolutions.org
SUMMARY:2024 Sandbox - Complete Series
DESCRIPTION:Receive links for the whole series!
URL:https://www.mindbodysolutions.org/event/2024-sandbox-complete-series/
CATEGORIES:Workshops
ATTACH;FMTTYPE=image/jpeg:https://www.mindbodysolutions.org/wp-content/uploads/2022/02/sbs.jpeg
LOCATION:https://us02web.zoom.us/j/84168272081?pwd=MDhYamhvNUpXckswUjQyYUxHRTUwQT09
END:VEVENT
BEGIN:VEVENT
DTSTART;TZID=America/Chicago:20241114T120000
DTEND;TZID=America/Chicago:20241114T130000
DTSTAMP:20260423T144127
CREATED:20240117T150753Z
LAST-MODIFIED:20240208T163642Z
UID:46100-1731585600-1731589200@www.mindbodysolutions.org
SUMMARY:2024 Sandbox #10: Breathing
DESCRIPTION:Most yoga teachers are taught to instruct very particular ways of breathing in a yoga sequence. This may not work or be safe for people living with certain conditions. How do we invite breath into our adaptive yoga teaching? What role does breath play in supporting the ongoing evolution of a student’s practice?
URL:https://www.mindbodysolutions.org/event/2024-sandbox-9-reference-with-touch/
CATEGORIES:Workshops
ATTACH;FMTTYPE=image/jpeg:https://www.mindbodysolutions.org/wp-content/uploads/2022/02/sbs.jpeg
ORGANIZER;CN="Mind Body Solutions":MAILTO:info@mindbodysolutions.org
LOCATION:https://us02web.zoom.us/j/84168272081?pwd=MDhYamhvNUpXckswUjQyYUxHRTUwQT09
END:VEVENT
BEGIN:VEVENT
DTSTART;TZID=America/Chicago:20241120T110000
DTEND;TZID=America/Chicago:20241120T123000
DTSTAMP:20260423T144127
CREATED:20240221T201756Z
LAST-MODIFIED:20241107T203204Z
UID:46526-1732100400-1732105800@www.mindbodysolutions.org
SUMMARY:2024 Yoga\, Disability and Transformation Session 4
DESCRIPTION:Yoga\, Disability and Transformation Session 4 \nNovember 20 | 11AM \nCan the experience of disability be healed? Does it need to be? What would it look like? Join our community’s discussion of what healing means in the context of disability. Hear real life stories of experiences small and large in which healing occurs. Our shared yoga practice will focus of the sensation of wholeness\, one that transcends psychological acceptance and begins to seep from body-to-mind.
URL:https://www.mindbodysolutions.org/event/2024-yoga-disability-and-transformation-session-4/
CATEGORIES:Workshops
ATTACH;FMTTYPE=image/png:https://www.mindbodysolutions.org/wp-content/uploads/2024/02/yoga-disability-and-transformation-1.png
LOCATION:https://us02web.zoom.us/j/81400279385?pwd=VzZaQ1RlOWhHYXBiV01Eb2U2TGFmdz09
END:VEVENT
END:VCALENDAR