BEGIN:VCALENDAR
VERSION:2.0
PRODID:-//Mind Body Solutions - ECPv6.15.20//NONSGML v1.0//EN
CALSCALE:GREGORIAN
METHOD:PUBLISH
X-ORIGINAL-URL:https://www.mindbodysolutions.org
X-WR-CALDESC:Events for Mind Body Solutions
REFRESH-INTERVAL;VALUE=DURATION:PT1H
X-Robots-Tag:noindex
X-PUBLISHED-TTL:PT1H
BEGIN:VTIMEZONE
TZID:America/Chicago
BEGIN:DAYLIGHT
TZOFFSETFROM:-0600
TZOFFSETTO:-0500
TZNAME:CDT
DTSTART:20230312T080000
END:DAYLIGHT
BEGIN:STANDARD
TZOFFSETFROM:-0500
TZOFFSETTO:-0600
TZNAME:CST
DTSTART:20231105T070000
END:STANDARD
BEGIN:DAYLIGHT
TZOFFSETFROM:-0600
TZOFFSETTO:-0500
TZNAME:CDT
DTSTART:20240310T080000
END:DAYLIGHT
BEGIN:STANDARD
TZOFFSETFROM:-0500
TZOFFSETTO:-0600
TZNAME:CST
DTSTART:20241103T070000
END:STANDARD
BEGIN:DAYLIGHT
TZOFFSETFROM:-0600
TZOFFSETTO:-0500
TZNAME:CDT
DTSTART:20250309T080000
END:DAYLIGHT
BEGIN:STANDARD
TZOFFSETFROM:-0500
TZOFFSETTO:-0600
TZNAME:CST
DTSTART:20251102T070000
END:STANDARD
BEGIN:DAYLIGHT
TZOFFSETFROM:-0600
TZOFFSETTO:-0500
TZNAME:CDT
DTSTART:20260308T080000
END:DAYLIGHT
BEGIN:STANDARD
TZOFFSETFROM:-0500
TZOFFSETTO:-0600
TZNAME:CST
DTSTART:20261101T070000
END:STANDARD
END:VTIMEZONE
BEGIN:VEVENT
DTSTART;TZID=America/Chicago:20240208T080000
DTEND;TZID=America/Chicago:20250109T170000
DTSTAMP:20260424T012140
CREATED:20240117T150329Z
LAST-MODIFIED:20240205T192716Z
UID:46112-1707379200-1736442000@www.mindbodysolutions.org
SUMMARY:2024 Sandbox - Complete Series
DESCRIPTION:Receive links for the whole series!
URL:https://www.mindbodysolutions.org/event/2024-sandbox-complete-series/
CATEGORIES:Workshops
ATTACH;FMTTYPE=image/jpeg:https://www.mindbodysolutions.org/wp-content/uploads/2022/02/sbs.jpeg
LOCATION:https://us02web.zoom.us/j/84168272081?pwd=MDhYamhvNUpXckswUjQyYUxHRTUwQT09
END:VEVENT
BEGIN:VEVENT
DTSTART;TZID=America/Chicago:20240508T110000
DTEND;TZID=America/Chicago:20240508T123000
DTSTAMP:20260424T012140
CREATED:20240221T201547Z
LAST-MODIFIED:20240313T175358Z
UID:46520-1715166000-1715171400@www.mindbodysolutions.org
SUMMARY:2024 Yoga\, Disability and Transformation Session 2
DESCRIPTION:Yoga\, Disability and Transformation Session 2 \nMay 8 | 11AM \nWhat happens when your disability is not obvious\, when people cannot see it\, and don’t believe in the difficulty of your experience? And let’s be honest\, even people who live with more overt disabilities live with other unseen issues that nobody sees. Join our community as we discuss the nature of living with invisible disabilities. A number of our students will share their real life experiences with less visible disabilities and the larger group will discuss this issue as a whole. As always\, we will uncover both differences and common ground within the wide-ranging experience of disability. Again\, through a shared practice\, we will explore how yoga can positively impact all forms of disability.
URL:https://www.mindbodysolutions.org/event/2024-yoga-disability-and-transformation-session-2/
CATEGORIES:Workshops
ATTACH;FMTTYPE=image/png:https://www.mindbodysolutions.org/wp-content/uploads/2024/02/yoga-disability-and-transformation-1.png
LOCATION:https://us02web.zoom.us/j/81400279385?pwd=VzZaQ1RlOWhHYXBiV01Eb2U2TGFmdz09
END:VEVENT
BEGIN:VEVENT
DTSTART;TZID=America/Chicago:20240509T120000
DTEND;TZID=America/Chicago:20240509T130000
DTSTAMP:20260424T012140
CREATED:20240117T150536Z
LAST-MODIFIED:20240208T163305Z
UID:46084-1715256000-1715259600@www.mindbodysolutions.org
SUMMARY:2024 Sandbox #4 - Rhythm: Creativity and Joy
DESCRIPTION:Rhythm has the potential to alight the body with joy. It is also the sensation that is often most affected by trauma\, loss and disability. Finding ways to infuse your classes with rhythm is a study in finding joy and supporting your student’s own personal rhythm and pace. Let’s talk about it! To help prepare\, take a peek at this MBS Teaching Technique Video on Rhythm.
URL:https://www.mindbodysolutions.org/event/2024-sandbox-4-rhythm-creativity-and-joy/
CATEGORIES:Workshops
ATTACH;FMTTYPE=image/jpeg:https://www.mindbodysolutions.org/wp-content/uploads/2022/02/sbs.jpeg
ORGANIZER;CN="Mind Body Solutions":MAILTO:info@mindbodysolutions.org
LOCATION:https://us02web.zoom.us/j/84168272081?pwd=MDhYamhvNUpXckswUjQyYUxHRTUwQT09
END:VEVENT
END:VCALENDAR