BEGIN:VCALENDAR
VERSION:2.0
PRODID:-//Mind Body Solutions - ECPv6.15.20//NONSGML v1.0//EN
CALSCALE:GREGORIAN
METHOD:PUBLISH
X-ORIGINAL-URL:https://www.mindbodysolutions.org
X-WR-CALDESC:Events for Mind Body Solutions
REFRESH-INTERVAL;VALUE=DURATION:PT1H
X-Robots-Tag:noindex
X-PUBLISHED-TTL:PT1H
BEGIN:VTIMEZONE
TZID:America/Chicago
BEGIN:DAYLIGHT
TZOFFSETFROM:-0600
TZOFFSETTO:-0500
TZNAME:CDT
DTSTART:20230312T080000
END:DAYLIGHT
BEGIN:STANDARD
TZOFFSETFROM:-0500
TZOFFSETTO:-0600
TZNAME:CST
DTSTART:20231105T070000
END:STANDARD
BEGIN:DAYLIGHT
TZOFFSETFROM:-0600
TZOFFSETTO:-0500
TZNAME:CDT
DTSTART:20240310T080000
END:DAYLIGHT
BEGIN:STANDARD
TZOFFSETFROM:-0500
TZOFFSETTO:-0600
TZNAME:CST
DTSTART:20241103T070000
END:STANDARD
BEGIN:DAYLIGHT
TZOFFSETFROM:-0600
TZOFFSETTO:-0500
TZNAME:CDT
DTSTART:20250309T080000
END:DAYLIGHT
BEGIN:STANDARD
TZOFFSETFROM:-0500
TZOFFSETTO:-0600
TZNAME:CST
DTSTART:20251102T070000
END:STANDARD
BEGIN:DAYLIGHT
TZOFFSETFROM:-0600
TZOFFSETTO:-0500
TZNAME:CDT
DTSTART:20260308T080000
END:DAYLIGHT
BEGIN:STANDARD
TZOFFSETFROM:-0500
TZOFFSETTO:-0600
TZNAME:CST
DTSTART:20261101T070000
END:STANDARD
END:VTIMEZONE
BEGIN:VEVENT
DTSTART;TZID=America/Chicago:20240208T080000
DTEND;TZID=America/Chicago:20250109T170000
DTSTAMP:20260424T041932
CREATED:20240117T150329Z
LAST-MODIFIED:20240205T192716Z
UID:46112-1707379200-1736442000@www.mindbodysolutions.org
SUMMARY:2024 Sandbox - Complete Series
DESCRIPTION:Receive links for the whole series!
URL:https://www.mindbodysolutions.org/event/2024-sandbox-complete-series/
CATEGORIES:Workshops
ATTACH;FMTTYPE=image/jpeg:https://www.mindbodysolutions.org/wp-content/uploads/2022/02/sbs.jpeg
LOCATION:https://us02web.zoom.us/j/84168272081?pwd=MDhYamhvNUpXckswUjQyYUxHRTUwQT09
END:VEVENT
BEGIN:VEVENT
DTSTART;TZID=America/Chicago:20240313T110000
DTEND;TZID=America/Chicago:20240313T123000
DTSTAMP:20260424T041932
CREATED:20240220T162313Z
LAST-MODIFIED:20240221T201434Z
UID:46517-1710327600-1710333000@www.mindbodysolutions.org
SUMMARY:2024 Yoga\, Disability and Transformation Session 1
DESCRIPTION:Yoga\, Disability and Transformation Session 1 \nMarch 13 | 11AM Central Time \nObviously\, living with trauma\, loss\, or disability are different experiences. And yet they also share similarities. Within the disability community\, we run the gamut. Some of us live with overt trauma\, some with more overt disabilities\, and all of us have experienced various forms of loss. Some of us have acquired a disability\, some have been born with one. By definition\, living with a disability involves some degree of traumatization and some degree of loss. Join our community for a lively\, firsthand discussion of the differences and intersectionality of trauma\, loss\, and disability. Through a shared practice\, we will also explore how yoga can positively impact all three.
URL:https://www.mindbodysolutions.org/event/2024-yoga-disability-and-transformation-session-1/
CATEGORIES:Workshops
ATTACH;FMTTYPE=image/png:https://www.mindbodysolutions.org/wp-content/uploads/2024/02/yoga-disability-and-transformation-1.png
LOCATION:https://us02web.zoom.us/j/81400279385?pwd=VzZaQ1RlOWhHYXBiV01Eb2U2TGFmdz09
END:VEVENT
BEGIN:VEVENT
DTSTART;TZID=America/Chicago:20240314T120000
DTEND;TZID=America/Chicago:20240314T130000
DTSTAMP:20260424T041932
CREATED:20240117T150426Z
LAST-MODIFIED:20240208T162130Z
UID:46078-1710417600-1710421200@www.mindbodysolutions.org
SUMMARY:2024 Sandbox #2 - Expansion: Fill the Vessel
DESCRIPTION:While it may seem abstract\, the sensation of expansion serves as one of the most practical of the core sensations. Practicing how to move into and through the world with a sense of bodily integrity\, coherence and expansion is vital to a person’s sense of belonging and purpose. Let’s fill the vessel of our bodies and share ideas on how to support this practice with our students in this month’s discussion. Watch this MBS Teaching Technique Video on Expansion to help you explore the concept more deeply in our sandbox discussion.
URL:https://www.mindbodysolutions.org/event/2024-sandbox-2-expansion-fill-the-vessel/
CATEGORIES:Workshops
ATTACH;FMTTYPE=image/jpeg:https://www.mindbodysolutions.org/wp-content/uploads/2022/02/sbs.jpeg
LOCATION:https://us02web.zoom.us/j/84168272081?pwd=MDhYamhvNUpXckswUjQyYUxHRTUwQT09
END:VEVENT
END:VCALENDAR