BEGIN:VCALENDAR
VERSION:2.0
PRODID:-//Mind Body Solutions - ECPv6.15.20//NONSGML v1.0//EN
CALSCALE:GREGORIAN
METHOD:PUBLISH
X-ORIGINAL-URL:https://www.mindbodysolutions.org
X-WR-CALDESC:Events for Mind Body Solutions
REFRESH-INTERVAL;VALUE=DURATION:PT1H
X-Robots-Tag:noindex
X-PUBLISHED-TTL:PT1H
BEGIN:VTIMEZONE
TZID:America/Chicago
BEGIN:DAYLIGHT
TZOFFSETFROM:-0600
TZOFFSETTO:-0500
TZNAME:CDT
DTSTART:20220313T080000
END:DAYLIGHT
BEGIN:STANDARD
TZOFFSETFROM:-0500
TZOFFSETTO:-0600
TZNAME:CST
DTSTART:20221106T070000
END:STANDARD
BEGIN:DAYLIGHT
TZOFFSETFROM:-0600
TZOFFSETTO:-0500
TZNAME:CDT
DTSTART:20230312T080000
END:DAYLIGHT
BEGIN:STANDARD
TZOFFSETFROM:-0500
TZOFFSETTO:-0600
TZNAME:CST
DTSTART:20231105T070000
END:STANDARD
BEGIN:DAYLIGHT
TZOFFSETFROM:-0600
TZOFFSETTO:-0500
TZNAME:CDT
DTSTART:20240310T080000
END:DAYLIGHT
BEGIN:STANDARD
TZOFFSETFROM:-0500
TZOFFSETTO:-0600
TZNAME:CST
DTSTART:20241103T070000
END:STANDARD
END:VTIMEZONE
BEGIN:VEVENT
DTSTART;TZID=America/Chicago:20230914T120000
DTEND;TZID=America/Chicago:20230914T130000
DTSTAMP:20260424T133729
CREATED:20230126T180452Z
LAST-MODIFIED:20230126T181830Z
UID:41000-1694692800-1694696400@www.mindbodysolutions.org
SUMMARY:2023 Sandbox Session #8 - Boundary
DESCRIPTION:Don’t Forget about Boundary! \nBoundary feels good! In this session we’ll talk about why the sensation of boundary\, whether physical or metaphysical\,  helps reveal the benefits of a yoga pose and deepen the experience of our students. What sensations emerge from a sense of boundary? How do you integrate Boundary into your teaching? Bring your ideas and we’ll practice together!
URL:https://www.mindbodysolutions.org/event/2023-sandbox-session-8-boundary/
CATEGORIES:Workshops
ATTACH;FMTTYPE=image/jpeg:https://www.mindbodysolutions.org/wp-content/uploads/2022/02/sbs.jpeg
LOCATION:https://us02web.zoom.us/j/82496001018
END:VEVENT
END:VCALENDAR