BEGIN:VCALENDAR
VERSION:2.0
PRODID:-//Mind Body Solutions - ECPv6.15.20//NONSGML v1.0//EN
CALSCALE:GREGORIAN
METHOD:PUBLISH
X-WR-CALNAME:Mind Body Solutions
X-ORIGINAL-URL:https://www.mindbodysolutions.org
X-WR-CALDESC:Events for Mind Body Solutions
REFRESH-INTERVAL;VALUE=DURATION:PT1H
X-Robots-Tag:noindex
X-PUBLISHED-TTL:PT1H
BEGIN:VTIMEZONE
TZID:America/Chicago
BEGIN:DAYLIGHT
TZOFFSETFROM:-0600
TZOFFSETTO:-0500
TZNAME:CDT
DTSTART:20210314T080000
END:DAYLIGHT
BEGIN:STANDARD
TZOFFSETFROM:-0500
TZOFFSETTO:-0600
TZNAME:CST
DTSTART:20211107T070000
END:STANDARD
BEGIN:DAYLIGHT
TZOFFSETFROM:-0600
TZOFFSETTO:-0500
TZNAME:CDT
DTSTART:20220313T080000
END:DAYLIGHT
BEGIN:STANDARD
TZOFFSETFROM:-0500
TZOFFSETTO:-0600
TZNAME:CST
DTSTART:20221106T070000
END:STANDARD
BEGIN:DAYLIGHT
TZOFFSETFROM:-0600
TZOFFSETTO:-0500
TZNAME:CDT
DTSTART:20230312T080000
END:DAYLIGHT
BEGIN:STANDARD
TZOFFSETFROM:-0500
TZOFFSETTO:-0600
TZNAME:CST
DTSTART:20231105T070000
END:STANDARD
END:VTIMEZONE
BEGIN:VEVENT
DTSTART;TZID=America/Chicago:20221201T110000
DTEND;TZID=America/Chicago:20221201T120000
DTSTAMP:20260425T090020
CREATED:20220225T181637Z
LAST-MODIFIED:20220810T180214Z
UID:35048-1669892400-1669896000@www.mindbodysolutions.org
SUMMARY:MBS Sandbox - Session 10
DESCRIPTION:Ask Us Anything \nJoin Bethany and Amy as they take on your most challenging questions\, muddle through existential crises\, and generally round out our year of exploring all things adaptive yoga! We may revisit lingering questions\, take a gander at new ones\, or anything in between as we celebrate this community and the opportunity to learn and grow together. Don’t miss this final MBS Yoga Sandbox of 2022! \nOpen to anyone who has studied adaptive yoga with Mind Body Solutions and is curious about learning!
URL:https://www.mindbodysolutions.org/event/mbs-sandbox-session-10/
CATEGORIES:Programs
ATTACH;FMTTYPE=image/png:https://www.mindbodysolutions.org/wp-content/uploads/2022/02/session10.png
ORGANIZER;CN="Mind Body Solutions":MAILTO:info@mindbodysolutions.org
LOCATION:https://www.mindbodysolutions.org/event/mbs-sandbox-session-10/
END:VEVENT
END:VCALENDAR