BEGIN:VCALENDAR
VERSION:2.0
PRODID:-//Mind Body Solutions - ECPv6.15.20//NONSGML v1.0//EN
CALSCALE:GREGORIAN
METHOD:PUBLISH
X-ORIGINAL-URL:https://www.mindbodysolutions.org
X-WR-CALDESC:Events for Mind Body Solutions
REFRESH-INTERVAL;VALUE=DURATION:PT1H
X-Robots-Tag:noindex
X-PUBLISHED-TTL:PT1H
BEGIN:VTIMEZONE
TZID:America/Chicago
BEGIN:DAYLIGHT
TZOFFSETFROM:-0600
TZOFFSETTO:-0500
TZNAME:CDT
DTSTART:20210314T080000
END:DAYLIGHT
BEGIN:STANDARD
TZOFFSETFROM:-0500
TZOFFSETTO:-0600
TZNAME:CST
DTSTART:20211107T070000
END:STANDARD
BEGIN:DAYLIGHT
TZOFFSETFROM:-0600
TZOFFSETTO:-0500
TZNAME:CDT
DTSTART:20220313T080000
END:DAYLIGHT
BEGIN:STANDARD
TZOFFSETFROM:-0500
TZOFFSETTO:-0600
TZNAME:CST
DTSTART:20221106T070000
END:STANDARD
BEGIN:DAYLIGHT
TZOFFSETFROM:-0600
TZOFFSETTO:-0500
TZNAME:CDT
DTSTART:20230312T080000
END:DAYLIGHT
BEGIN:STANDARD
TZOFFSETFROM:-0500
TZOFFSETTO:-0600
TZNAME:CST
DTSTART:20231105T070000
END:STANDARD
END:VTIMEZONE
BEGIN:VEVENT
DTSTART;TZID=America/Chicago:20221110T110000
DTEND;TZID=America/Chicago:20221110T120000
DTSTAMP:20260425T090018
CREATED:20220225T181137Z
LAST-MODIFIED:20220225T182552Z
UID:35044-1668078000-1668081600@www.mindbodysolutions.org
SUMMARY:MBS Sandbox - Session 9
DESCRIPTION:Pain and The Subtle Body \n“All I thought about was pain and the absence of pain\, I didn’t think about the in-between\,” MBS Student. Living in chronic pain is living with an altered mind-body relationship. It can cause fear and hesitation in our students and disconnection from their subtle body. Pain also serves as a messenger to protect our bodies from anything that may cause more pain or discomfort. How can we find ways to effectively teach a yoga practice while recognizing the reality that some students experience chronic pain? \nOpen to anyone who has studied adaptive yoga with Mind Body Solutions and is curious about learning!
URL:https://www.mindbodysolutions.org/event/mbs-sandbox-session-9/
CATEGORIES:Programs
ATTACH;FMTTYPE=image/png:https://www.mindbodysolutions.org/wp-content/uploads/2022/02/session9.png
ORGANIZER;CN="Mind Body Solutions":MAILTO:info@mindbodysolutions.org
LOCATION:https://www.mindbodysolutions.org/event/mbs-sandbox-session-9/
END:VEVENT
END:VCALENDAR