BEGIN:VCALENDAR
VERSION:2.0
PRODID:-//Mind Body Solutions - ECPv6.15.20//NONSGML v1.0//EN
CALSCALE:GREGORIAN
METHOD:PUBLISH
X-ORIGINAL-URL:https://www.mindbodysolutions.org
X-WR-CALDESC:Events for Mind Body Solutions
REFRESH-INTERVAL;VALUE=DURATION:PT1H
X-Robots-Tag:noindex
X-PUBLISHED-TTL:PT1H
BEGIN:VTIMEZONE
TZID:America/Chicago
BEGIN:DAYLIGHT
TZOFFSETFROM:-0600
TZOFFSETTO:-0500
TZNAME:CDT
DTSTART:20210314T080000
END:DAYLIGHT
BEGIN:STANDARD
TZOFFSETFROM:-0500
TZOFFSETTO:-0600
TZNAME:CST
DTSTART:20211107T070000
END:STANDARD
BEGIN:DAYLIGHT
TZOFFSETFROM:-0600
TZOFFSETTO:-0500
TZNAME:CDT
DTSTART:20220313T080000
END:DAYLIGHT
BEGIN:STANDARD
TZOFFSETFROM:-0500
TZOFFSETTO:-0600
TZNAME:CST
DTSTART:20221106T070000
END:STANDARD
BEGIN:DAYLIGHT
TZOFFSETFROM:-0600
TZOFFSETTO:-0500
TZNAME:CDT
DTSTART:20230312T080000
END:DAYLIGHT
BEGIN:STANDARD
TZOFFSETFROM:-0500
TZOFFSETTO:-0600
TZNAME:CST
DTSTART:20231105T070000
END:STANDARD
END:VTIMEZONE
BEGIN:VEVENT
DTSTART;TZID=America/Chicago:20220414T110000
DTEND;TZID=America/Chicago:20220414T120000
DTSTAMP:20260425T185319
CREATED:20220225T175124Z
LAST-MODIFIED:20220225T182851Z
UID:34986-1649934000-1649937600@www.mindbodysolutions.org
SUMMARY:MBS Sandbox - Session 2
DESCRIPTION:Reference Without Touch \n“Mind enters the body through reference\,” Matthew Sanford. With our adaptive yoga classes online and likely to remain that way for a while\, our teaching has had to significantly change. This discussion and practice focus on how we can provide opportunities for reference to students when we are online or working in any environment that does not allow teachers to physically touch their students. \nOpen to anyone who has studied adaptive yoga with Mind Body Solutions and is curious about learning!
URL:https://www.mindbodysolutions.org/event/mbs-sandbox-session-2/
CATEGORIES:Programs
ATTACH;FMTTYPE=image/png:https://www.mindbodysolutions.org/wp-content/uploads/2022/02/session5.png
ORGANIZER;CN="Mind Body Solutions":MAILTO:info@mindbodysolutions.org
LOCATION:https://www.mindbodysolutions.org/event/mbs-sandbox-session-2/
END:VEVENT
END:VCALENDAR