BEGIN:VCALENDAR
VERSION:2.0
PRODID:-//Mind Body Solutions - ECPv6.15.20//NONSGML v1.0//EN
CALSCALE:GREGORIAN
METHOD:PUBLISH
X-WR-CALNAME:Mind Body Solutions
X-ORIGINAL-URL:https://www.mindbodysolutions.org
X-WR-CALDESC:Events for Mind Body Solutions
REFRESH-INTERVAL;VALUE=DURATION:PT1H
X-Robots-Tag:noindex
X-PUBLISHED-TTL:PT1H
BEGIN:VTIMEZONE
TZID:America/Chicago
BEGIN:DAYLIGHT
TZOFFSETFROM:-0600
TZOFFSETTO:-0500
TZNAME:CDT
DTSTART:20210314T080000
END:DAYLIGHT
BEGIN:STANDARD
TZOFFSETFROM:-0500
TZOFFSETTO:-0600
TZNAME:CST
DTSTART:20211107T070000
END:STANDARD
BEGIN:DAYLIGHT
TZOFFSETFROM:-0600
TZOFFSETTO:-0500
TZNAME:CDT
DTSTART:20220313T080000
END:DAYLIGHT
BEGIN:STANDARD
TZOFFSETFROM:-0500
TZOFFSETTO:-0600
TZNAME:CST
DTSTART:20221106T070000
END:STANDARD
BEGIN:DAYLIGHT
TZOFFSETFROM:-0600
TZOFFSETTO:-0500
TZNAME:CDT
DTSTART:20230312T080000
END:DAYLIGHT
BEGIN:STANDARD
TZOFFSETFROM:-0500
TZOFFSETTO:-0600
TZNAME:CST
DTSTART:20231105T070000
END:STANDARD
END:VTIMEZONE
BEGIN:VEVENT
DTSTART;TZID=America/Chicago:20220811T110000
DTEND;TZID=America/Chicago:20220811T120000
DTSTAMP:20260425T102432
CREATED:20220225T181448Z
LAST-MODIFIED:20220225T182518Z
UID:34997-1660215600-1660219200@www.mindbodysolutions.org
SUMMARY:MBS Sandbox - Session 6
DESCRIPTION:Moving in Multiple Directions at Once \nWhat does this really mean? How does it work? What are the implications of moving in multiple directions? And why is this important in our asana practice and our teaching? This session will address those questions\, focusing on the richness that multidimensional movement brings to individual asanas and to our teaching. \nOpen to anyone who has studied adaptive yoga with Mind Body Solutions and is curious about learning!
URL:https://www.mindbodysolutions.org/event/mbs-sandbox-session-6/
CATEGORIES:Programs
ATTACH;FMTTYPE=image/png:https://www.mindbodysolutions.org/wp-content/uploads/2022/02/session7.png
ORGANIZER;CN="Mind Body Solutions":MAILTO:info@mindbodysolutions.org
LOCATION:https://www.mindbodysolutions.org/event/mbs-sandbox-session-6/
END:VEVENT
END:VCALENDAR