BEGIN:VCALENDAR
VERSION:2.0
PRODID:-//Mind Body Solutions - ECPv6.15.20//NONSGML v1.0//EN
CALSCALE:GREGORIAN
METHOD:PUBLISH
X-ORIGINAL-URL:https://www.mindbodysolutions.org
X-WR-CALDESC:Events for Mind Body Solutions
REFRESH-INTERVAL;VALUE=DURATION:PT1H
X-Robots-Tag:noindex
X-PUBLISHED-TTL:PT1H
BEGIN:VTIMEZONE
TZID:America/Chicago
BEGIN:DAYLIGHT
TZOFFSETFROM:-0600
TZOFFSETTO:-0500
TZNAME:CDT
DTSTART:20210314T080000
END:DAYLIGHT
BEGIN:STANDARD
TZOFFSETFROM:-0500
TZOFFSETTO:-0600
TZNAME:CST
DTSTART:20211107T070000
END:STANDARD
BEGIN:DAYLIGHT
TZOFFSETFROM:-0600
TZOFFSETTO:-0500
TZNAME:CDT
DTSTART:20220313T080000
END:DAYLIGHT
BEGIN:STANDARD
TZOFFSETFROM:-0500
TZOFFSETTO:-0600
TZNAME:CST
DTSTART:20221106T070000
END:STANDARD
BEGIN:DAYLIGHT
TZOFFSETFROM:-0600
TZOFFSETTO:-0500
TZNAME:CDT
DTSTART:20230312T080000
END:DAYLIGHT
BEGIN:STANDARD
TZOFFSETFROM:-0500
TZOFFSETTO:-0600
TZNAME:CST
DTSTART:20231105T070000
END:STANDARD
END:VTIMEZONE
BEGIN:VEVENT
DTSTART;TZID=America/Chicago:20220310T110000
DTEND;TZID=America/Chicago:20220310T120000
DTSTAMP:20260425T174009
CREATED:20220225T174749Z
LAST-MODIFIED:20220225T182936Z
UID:34982-1646910000-1646913600@www.mindbodysolutions.org
SUMMARY:MBS Sandbox - Session 1
DESCRIPTION:No Standing? No Worries! \nWe can’t seem to get enough of standing poses! But how do we share them with our students who are seated?  In this session we’ll identify and practice the sensations that keep us coming back to standing poses over and over. Bring your props and your imagination as we pull apart your favorite standing poses and broaden the definition of what a standing pose looks like. \nOpen to anyone who has studied adaptive yoga with Mind Body Solutions and is curious about learning! \n 
URL:https://www.mindbodysolutions.org/event/mbs-sandbox-session-1/
CATEGORIES:Programs
ATTACH;FMTTYPE=image/png:https://www.mindbodysolutions.org/wp-content/uploads/2022/02/session1.png
ORGANIZER;CN="Mind Body Solutions":MAILTO:info@mindbodysolutions.org
LOCATION:https://www.mindbodysolutions.org/event/mbs-sandbox-session-1/
END:VEVENT
END:VCALENDAR