BEGIN:VCALENDAR
VERSION:2.0
PRODID:-//Mind Body Solutions - ECPv6.15.20//NONSGML v1.0//EN
CALSCALE:GREGORIAN
METHOD:PUBLISH
X-ORIGINAL-URL:https://www.mindbodysolutions.org
X-WR-CALDESC:Events for Mind Body Solutions
REFRESH-INTERVAL;VALUE=DURATION:PT1H
X-Robots-Tag:noindex
X-PUBLISHED-TTL:PT1H
BEGIN:VTIMEZONE
TZID:America/Chicago
BEGIN:DAYLIGHT
TZOFFSETFROM:-0600
TZOFFSETTO:-0500
TZNAME:CDT
DTSTART:20230312T080000
END:DAYLIGHT
BEGIN:STANDARD
TZOFFSETFROM:-0500
TZOFFSETTO:-0600
TZNAME:CST
DTSTART:20231105T070000
END:STANDARD
BEGIN:DAYLIGHT
TZOFFSETFROM:-0600
TZOFFSETTO:-0500
TZNAME:CDT
DTSTART:20240310T080000
END:DAYLIGHT
BEGIN:STANDARD
TZOFFSETFROM:-0500
TZOFFSETTO:-0600
TZNAME:CST
DTSTART:20241103T070000
END:STANDARD
BEGIN:DAYLIGHT
TZOFFSETFROM:-0600
TZOFFSETTO:-0500
TZNAME:CDT
DTSTART:20250309T080000
END:DAYLIGHT
BEGIN:STANDARD
TZOFFSETFROM:-0500
TZOFFSETTO:-0600
TZNAME:CST
DTSTART:20251102T070000
END:STANDARD
END:VTIMEZONE
BEGIN:VEVENT
DTSTART;TZID=America/Chicago:20240405T100000
DTEND;TZID=America/Chicago:20240405T110000
DTSTAMP:20260425T075714
CREATED:20240329T191410Z
LAST-MODIFIED:20260219T170011Z
UID:48565-1712311200-1712314800@www.mindbodysolutions.org
SUMMARY:Adaptive - Low Sensory Yoga Friday AM / Audrey
DESCRIPTION:This is a gentle\, adaptive seated/supine class. It is a blend of gentle asana movements\, prāṇāyāma (breathwork)\, restorative shapes\, and guided relaxation meditation. The intention is to soothe the nervous system and chronic pain\, find bubbles of joy and rest\, and have a moment of reflection. Practice in a chair\, mat\, bed\, or couch. Low sensory. \nThis class is for individuals living with mobility disabilities such as partial or total paralysis\, amputation\, spinal cord injury\, severe arthritis\, muscular dystrophy\, multiple sclerosis\, brain injury\, spina bifida and cerebral palsy. Adaptive class participants must be able to follow simple instructions. We welcome students who do and do not use a wheelchair. \nThese classes are taught on the Zoom video conferencing platform. You will need to install free Zoom software to participate in the class. A link will be emailed to you after registering. Please add info@mindbodysolutions.org to your safe contacts list to ensure you receive the class link each week. Please allow up to one business day for your registration to process and for you to begin receiving class links. All online classes are offered to our adaptive yoga community free of charge. \nPlease note\, our online adaptive yoga classes are intended as an offering to people who are living with a disability. For teachers\, healthcare providers and practitioners interested in learning more about how Mind Body Solutions shares yoga with people of every ability\, please visit our YouTube Channel called THE HUB. Here you will find mind-body insights\, stories of transformation\, adaptive yoga teaching/training videos\, and actual yoga classes filmed right in our studio.If you have additional questions\, please contact Bethany Hutchinson at bethany@mindbodysolutions.org.
URL:https://www.mindbodysolutions.org/event/adaptive-low-sensory-yoga-friday-am-audrey/2024-04-05/
CATEGORIES:Online Classes
ATTACH;FMTTYPE=image/gif:https://www.mindbodysolutions.org/wp-content/uploads/2013/07/028620150528_MindBodySolutionsforweb.gif
END:VEVENT
END:VCALENDAR