BEGIN:VCALENDAR
VERSION:2.0
PRODID:-//Mind Body Solutions - ECPv6.15.20//NONSGML v1.0//EN
CALSCALE:GREGORIAN
METHOD:PUBLISH
X-WR-CALNAME:Mind Body Solutions
X-ORIGINAL-URL:https://www.mindbodysolutions.org
X-WR-CALDESC:Events for Mind Body Solutions
REFRESH-INTERVAL;VALUE=DURATION:PT1H
X-Robots-Tag:noindex
X-PUBLISHED-TTL:PT1H
BEGIN:VTIMEZONE
TZID:America/Chicago
BEGIN:DAYLIGHT
TZOFFSETFROM:-0600
TZOFFSETTO:-0500
TZNAME:CDT
DTSTART:20230312T080000
END:DAYLIGHT
BEGIN:STANDARD
TZOFFSETFROM:-0500
TZOFFSETTO:-0600
TZNAME:CST
DTSTART:20231105T070000
END:STANDARD
BEGIN:DAYLIGHT
TZOFFSETFROM:-0600
TZOFFSETTO:-0500
TZNAME:CDT
DTSTART:20240310T080000
END:DAYLIGHT
BEGIN:STANDARD
TZOFFSETFROM:-0500
TZOFFSETTO:-0600
TZNAME:CST
DTSTART:20241103T070000
END:STANDARD
BEGIN:DAYLIGHT
TZOFFSETFROM:-0600
TZOFFSETTO:-0500
TZNAME:CDT
DTSTART:20250309T080000
END:DAYLIGHT
BEGIN:STANDARD
TZOFFSETFROM:-0500
TZOFFSETTO:-0600
TZNAME:CST
DTSTART:20251102T070000
END:STANDARD
END:VTIMEZONE
BEGIN:VEVENT
DTSTART;TZID=America/Chicago:20240208T180000
DTEND;TZID=America/Chicago:20240208T190000
DTSTAMP:20260425T115359
CREATED:20210309T052651Z
LAST-MODIFIED:20220210T202805Z
UID:34582-1707415200-1707418800@www.mindbodysolutions.org
SUMMARY:Seated Adaptive Yoga Thur PM / Chris & Angie
DESCRIPTION:Thursdays – Ongoing Online \nThis class is for individuals living with mobility disabilities such as partial or total paralysis\, amputation\, spinal cord injury\, severe arthritis\, muscular dystrophy\, multiple sclerosis\, brain injury\, spina bifida and cerebral palsy. Adaptive class participants must be able to follow simple instructions. We welcome students who do and do not use a wheelchair. \nThese classes are taught on the Zoom video conferencing platform. You will need to install free Zoom software to participate in the class. A link will be emailed to you after registering. Please add mbsregistration@mindbodysolutions.org to your safe contacts list to ensure you receive the class link each week. All online classes are offered to our adaptive yoga community free of charge. \n\nPlease note\, our online adaptive yoga classes are intended as an offering to people who are living with a disability. For teachers\, healthcare providers and practitioners interested in learning more about how Mind Body Solutions shares yoga with people of every ability\, please visit our YouTube Channel called THE HUB. Here you will find mind-body insights\, stories of transformation\, adaptive yoga teaching/training videos\, and actual yoga classes filmed right in our studio. \nIf you have additional questions\, please contact Bethany Hutchinson at bethany@mindbodysolutions.org.
URL:https://www.mindbodysolutions.org/event/thursdays-seated-adaptive-class-2024-02-08/
CATEGORIES:Online Classes
ATTACH;FMTTYPE=image/jpeg:https://www.mindbodysolutions.org/wp-content/uploads/2021/03/seated-adaptive-2.jpg
ORGANIZER;CN="Mind Body Solutions":MAILTO:info@mindbodysolutions.org
LOCATION:https://www.mindbodysolutions.org/event/thursdays-seated-adaptive-class-2024-02-08/
END:VEVENT
END:VCALENDAR