BEGIN:VCALENDAR
VERSION:2.0
PRODID:-//Mind Body Solutions - ECPv6.15.20//NONSGML v1.0//EN
CALSCALE:GREGORIAN
METHOD:PUBLISH
X-ORIGINAL-URL:https://www.mindbodysolutions.org
X-WR-CALDESC:Events for Mind Body Solutions
REFRESH-INTERVAL;VALUE=DURATION:PT1H
X-Robots-Tag:noindex
X-PUBLISHED-TTL:PT1H
BEGIN:VTIMEZONE
TZID:America/Chicago
BEGIN:DAYLIGHT
TZOFFSETFROM:-0600
TZOFFSETTO:-0500
TZNAME:CDT
DTSTART:20250309T080000
END:DAYLIGHT
BEGIN:STANDARD
TZOFFSETFROM:-0500
TZOFFSETTO:-0600
TZNAME:CST
DTSTART:20251102T070000
END:STANDARD
BEGIN:DAYLIGHT
TZOFFSETFROM:-0600
TZOFFSETTO:-0500
TZNAME:CDT
DTSTART:20260308T080000
END:DAYLIGHT
BEGIN:STANDARD
TZOFFSETFROM:-0500
TZOFFSETTO:-0600
TZNAME:CST
DTSTART:20261101T070000
END:STANDARD
BEGIN:DAYLIGHT
TZOFFSETFROM:-0600
TZOFFSETTO:-0500
TZNAME:CDT
DTSTART:20270314T080000
END:DAYLIGHT
BEGIN:STANDARD
TZOFFSETFROM:-0500
TZOFFSETTO:-0600
TZNAME:CST
DTSTART:20271107T070000
END:STANDARD
END:VTIMEZONE
BEGIN:VEVENT
DTSTART;TZID=America/Chicago:20261005T084500
DTEND;TZID=America/Chicago:20261005T094500
DTSTAMP:20260425T100959
CREATED:20250726T014203Z
LAST-MODIFIED:20250726T014203Z
UID:53373-1791189900-1791193500@www.mindbodysolutions.org
SUMMARY:Live Support
DESCRIPTION:Office hours is a free\, drop in\, online offering where you can ask any and all questions about Mind Body Solutions’ offerings! \nHave a question about: \nZoom \nCircle \nAdditional Offerings (Book club! Chat Amongst Ourselves! Team Adaptables and more!) \nAdaptive Yoga (like what the heck is a Triangle pose anyway?!) \nPlease drop in anytime during office hours and chat with Bethany (really\, she loves to answer questions about MBS!)
URL:https://www.mindbodysolutions.org/event/live-support/2026-10-05/
CATEGORIES:General Event
LOCATION:https://us02web.zoom.us/j/83345247376
END:VEVENT
BEGIN:VEVENT
DTSTART;TZID=America/Chicago:20261007T130000
DTEND;TZID=America/Chicago:20261007T140000
DTSTAMP:20260425T100959
CREATED:20240318T195219Z
LAST-MODIFIED:20250904T172814Z
UID:50404-1791378000-1791381600@www.mindbodysolutions.org
SUMMARY:Team Adaptables - Monthly Meeting
DESCRIPTION:We are a team of superheroes who identify living with a disability as a fundamental feature of their lives. We believe that DISability does not mean UNability\, but rather\, it is ability that has traveled through the worlds of shadow and reflection. We believe that disability creates wisdom and needs to be shared. \nWe meet virtually on the first Wednesday of every month for a content-rich hour at 1 pm Central time. Registered students will receive a zoom link an hour before each meeting. \nWe laugh\, tell stories\, share yoga\, and support each other.  We create content and conversation that are centered around the real experience of disability.  We create learning\, growing\, and healing opportunities for each other and sometimes for the world at large. \n 
URL:https://www.mindbodysolutions.org/event/team-adaptables-monthly-meeting-2/2026-10-07/
CATEGORIES:General Event
ATTACH;FMTTYPE=image/png:https://www.mindbodysolutions.org/wp-content/uploads/2023/06/Team-Adaptables-for-Calendar.png
END:VEVENT
BEGIN:VEVENT
DTSTART;TZID=America/Chicago:20261008T120000
DTEND;TZID=America/Chicago:20261008T130000
DTSTAMP:20260425T100959
CREATED:20260208T193722Z
LAST-MODIFIED:20260208T194118Z
UID:55384-1791460800-1791464400@www.mindbodysolutions.org
SUMMARY:2026 Sandbox Sessions - Complete Series
DESCRIPTION:Each month we will discuss a topic related to teaching adaptive yoga – yoga for Every Body! Join us the second Thursday of each month for these lively\, free discussions!! Register for Sandbox Series here. You will receive a link an hour before our gathering each month and are welcome to join any and all of the sessions!! \n2026 Session Dates and Discussion Topics \nFebruary 12\, 12-1PM CT – Welcomings and Introductions\nMarch 12\, 12-1PM CT – Sensations Before Shapes\nApril 9\, 12-1PM CT – The Art of Invitations\nMay 14\, 12-1PM CT – Honoring Awareness\nJune 11\, 12-1PM CT – Practical Matters\nJuly 9\, 12-1PM CT – Pose Play Part One\nAugust 13\, 12-1PM CT – Pacing\nSeptember 10\, 12-1PM CT – Off the Matt and Into the World\nOctober 8\, 12-1PM CT – Using What You Have\nNovember 12\, 12-1PM CT – Pose Play Part Two\nDecember 10\, 12-1PM CT – End of Year Reflections
URL:https://www.mindbodysolutions.org/event/2026-sandbox-sessions-complete-series/2026-10-08/
CATEGORIES:General Event
ATTACH;FMTTYPE=image/png:https://www.mindbodysolutions.org/wp-content/uploads/2025/01/Website-graphic.png
END:VEVENT
END:VCALENDAR