BEGIN:VCALENDAR
VERSION:2.0
PRODID:-//Mind Body Solutions - ECPv6.15.20//NONSGML v1.0//EN
CALSCALE:GREGORIAN
METHOD:PUBLISH
X-ORIGINAL-URL:https://www.mindbodysolutions.org
X-WR-CALDESC:Events for Mind Body Solutions
REFRESH-INTERVAL;VALUE=DURATION:PT1H
X-Robots-Tag:noindex
X-PUBLISHED-TTL:PT1H
BEGIN:VTIMEZONE
TZID:America/Chicago
BEGIN:DAYLIGHT
TZOFFSETFROM:-0600
TZOFFSETTO:-0500
TZNAME:CDT
DTSTART:20240310T080000
END:DAYLIGHT
BEGIN:STANDARD
TZOFFSETFROM:-0500
TZOFFSETTO:-0600
TZNAME:CST
DTSTART:20241103T070000
END:STANDARD
BEGIN:DAYLIGHT
TZOFFSETFROM:-0600
TZOFFSETTO:-0500
TZNAME:CDT
DTSTART:20250309T080000
END:DAYLIGHT
BEGIN:STANDARD
TZOFFSETFROM:-0500
TZOFFSETTO:-0600
TZNAME:CST
DTSTART:20251102T070000
END:STANDARD
BEGIN:DAYLIGHT
TZOFFSETFROM:-0600
TZOFFSETTO:-0500
TZNAME:CDT
DTSTART:20260308T080000
END:DAYLIGHT
BEGIN:STANDARD
TZOFFSETFROM:-0500
TZOFFSETTO:-0600
TZNAME:CST
DTSTART:20261101T070000
END:STANDARD
END:VTIMEZONE
BEGIN:VEVENT
DTSTART;TZID=America/Chicago:20250117T120000
DTEND;TZID=America/Chicago:20251212T130000
DTSTAMP:20260425T210003
CREATED:20250205T002006Z
LAST-MODIFIED:20250904T171821Z
UID:51286-1737115200-1765544400@www.mindbodysolutions.org
SUMMARY:2025 Sandbox Session - Complete Series
DESCRIPTION:Each month we will discuss a topic related to teaching adaptive yoga – yoga for Every Body! Join us the second Thursday of each month for these lively\, free discussions!!
URL:https://www.mindbodysolutions.org/event/2025-sandbox-session-complete-series/
CATEGORIES:General Event
ATTACH;FMTTYPE=image/png:https://www.mindbodysolutions.org/wp-content/uploads/2025/01/Website-graphic.png
END:VEVENT
BEGIN:VEVENT
DTSTART;TZID=America/Chicago:20250312T080000
DTEND;TZID=America/Chicago:20251217T170000
DTSTAMP:20260425T210003
CREATED:20250226T172354Z
LAST-MODIFIED:20250226T172449Z
UID:51593-1741766400-1765990800@www.mindbodysolutions.org
SUMMARY:2025 Yoga\, Disability and Transformation - Complete Series
DESCRIPTION:In this series of experiential\, online gatherings\, the MBS community comes together to explore\, share\, and support the ‘inside’ story of disability.  Living with a disability fosters unique insight and wisdom\, and this is a forum through which it can be shared.  Each session presents a conversation theme framed up by our founder Matthew Sanford\, but collectively discussed within the group at large.  The resulting conversations are powerful\, heartfelt\, and helpful.  Each session also features a yoga practice inspired by the conversation theme.  These gatherings are intended to revolve around the experience of disability\, but everyone is welcome and there is no fee to attend.
URL:https://www.mindbodysolutions.org/event/2025-yoga-disability-and-transformation-complete-series/
CATEGORIES:General Event
ATTACH;FMTTYPE=image/png:https://www.mindbodysolutions.org/wp-content/uploads/2025/02/Copy-of-yoga-disability-and-transformation-600-x-300-px.png
LOCATION:https://us02web.zoom.us/j/81400279385?pwd=VzZaQ1RlOWhHYXBiV01Eb2U2TGFmdz09
END:VEVENT
BEGIN:VEVENT
DTSTART;TZID=America/Chicago:20250521T110000
DTEND;TZID=America/Chicago:20250521T123000
DTSTAMP:20260425T210003
CREATED:20250227T185416Z
LAST-MODIFIED:20250430T161344Z
UID:51617-1747825200-1747830600@www.mindbodysolutions.org
SUMMARY:2025 Yoga\, Disability and Transformation Session Two - Muscle Magic
DESCRIPTION:Best-selling author Bonnie Tsui joins our MBS adaptive community to discuss her newly released book\, “OnMuscle: The Stuff That Moves Us and Why It Matters.” Matthew and Bonnie’s conversation will put the magic of muscle into the context of trauma\, loss\, and disability. Bonnie’s descriptive exploration of muscle – scientific\, story-driven\, and thought provoking – also includes discussing Matthew’s work and MBS. Such inclusion points to the breadth and intrigue of her amazing treatment of the subject. There will also be  time for Q&A and a shared practice highlighting the relationship between muscles and bones.
URL:https://www.mindbodysolutions.org/event/2025-yoga-disability-and-transformation-session-2/
CATEGORIES:General Event
ATTACH;FMTTYPE=image/png:https://www.mindbodysolutions.org/wp-content/uploads/2025/02/Copy-of-yoga-disability-and-transformation-600-x-300-px.png
LOCATION:https://us02web.zoom.us/j/81400279385?pwd=VzZaQ1RlOWhHYXBiV01Eb2U2TGFmdz09
END:VEVENT
BEGIN:VEVENT
DTSTART;TZID=America/Chicago:20250524T113000
DTEND;TZID=America/Chicago:20250524T124500
DTSTAMP:20260425T210003
CREATED:20250421T134733Z
LAST-MODIFIED:20250421T134733Z
UID:51213-1748086200-1748090700@www.mindbodysolutions.org
SUMMARY:Mind Body Reads Book Club - May 2025
DESCRIPTION:Sharing humanity through literature \nThis is a free and welcoming space where stories deepen the connections within and among us. Whether you have read some\, all or none of the book\, we welcome everyone to join us each month to explore\, together. \nMay 24\, 2025 | 11:30-12:45 PM Central Time\nOn Muscle by Bonnie Tsui \nQuestions? Email: Bethany@mindbodysolutions.org
URL:https://www.mindbodysolutions.org/event/mind-body-reads-book-club-may-2025/
CATEGORIES:General Event
ATTACH;FMTTYPE=image/png:https://www.mindbodysolutions.org/wp-content/uploads/2024/03/MBS-reads-for-website-e1718280301871.png
ORGANIZER;CN="Mind Body Solutions":MAILTO:info@mindbodysolutions.org
LOCATION:https://us02web.zoom.us/j/87607239839
END:VEVENT
END:VCALENDAR