BEGIN:VCALENDAR
VERSION:2.0
PRODID:-//Mind Body Solutions - ECPv6.15.20//NONSGML v1.0//EN
CALSCALE:GREGORIAN
METHOD:PUBLISH
X-WR-CALNAME:Mind Body Solutions
X-ORIGINAL-URL:https://www.mindbodysolutions.org
X-WR-CALDESC:Events for Mind Body Solutions
REFRESH-INTERVAL;VALUE=DURATION:PT1H
X-Robots-Tag:noindex
X-PUBLISHED-TTL:PT1H
BEGIN:VTIMEZONE
TZID:America/Chicago
BEGIN:DAYLIGHT
TZOFFSETFROM:-0600
TZOFFSETTO:-0500
TZNAME:CDT
DTSTART:20240310T080000
END:DAYLIGHT
BEGIN:STANDARD
TZOFFSETFROM:-0500
TZOFFSETTO:-0600
TZNAME:CST
DTSTART:20241103T070000
END:STANDARD
BEGIN:DAYLIGHT
TZOFFSETFROM:-0600
TZOFFSETTO:-0500
TZNAME:CDT
DTSTART:20250309T080000
END:DAYLIGHT
BEGIN:STANDARD
TZOFFSETFROM:-0500
TZOFFSETTO:-0600
TZNAME:CST
DTSTART:20251102T070000
END:STANDARD
BEGIN:DAYLIGHT
TZOFFSETFROM:-0600
TZOFFSETTO:-0500
TZNAME:CDT
DTSTART:20260308T080000
END:DAYLIGHT
BEGIN:STANDARD
TZOFFSETFROM:-0500
TZOFFSETTO:-0600
TZNAME:CST
DTSTART:20261101T070000
END:STANDARD
END:VTIMEZONE
BEGIN:VEVENT
DTSTART;TZID=America/Chicago:20250101T130000
DTEND;TZID=America/Chicago:20250101T140000
DTSTAMP:20260425T210605
CREATED:20240318T195219Z
LAST-MODIFIED:20250904T172801Z
UID:47148-1735736400-1735740000@www.mindbodysolutions.org
SUMMARY:Team Adaptables - Monthly Meeting
DESCRIPTION:We are a team of superheroes who identify living with a disability as a fundamental feature of their lives. We believe that DISability does not mean UNability\, but rather\, it is ability that has traveled through the worlds of shadow and reflection. We believe that disability creates wisdom and needs to be shared. \nWe meet virtually on the first Wednesday of every month for a content-rich hour at 1 pm Central time. Registered students will receive a zoom link an hour before each meeting. \nWe laugh\, tell stories\, share yoga\, and support each other.  We create content and conversation that are centered around the real experience of disability.  We create learning\, growing\, and healing opportunities for each other and sometimes for the world at large. \n 
URL:https://www.mindbodysolutions.org/event/team-adaptables-monthly-meeting-2/2025-01-01/
CATEGORIES:General Event
ATTACH;FMTTYPE=image/png:https://www.mindbodysolutions.org/wp-content/uploads/2023/06/Team-Adaptables-for-Calendar.png
END:VEVENT
END:VCALENDAR