BEGIN:VCALENDAR
VERSION:2.0
PRODID:-//Mind Body Solutions - ECPv6.15.20//NONSGML v1.0//EN
CALSCALE:GREGORIAN
METHOD:PUBLISH
X-WR-CALNAME:Mind Body Solutions
X-ORIGINAL-URL:https://www.mindbodysolutions.org
X-WR-CALDESC:Events for Mind Body Solutions
REFRESH-INTERVAL;VALUE=DURATION:PT1H
X-Robots-Tag:noindex
X-PUBLISHED-TTL:PT1H
BEGIN:VTIMEZONE
TZID:America/Chicago
BEGIN:DAYLIGHT
TZOFFSETFROM:-0600
TZOFFSETTO:-0500
TZNAME:CDT
DTSTART:20250309T080000
END:DAYLIGHT
BEGIN:STANDARD
TZOFFSETFROM:-0500
TZOFFSETTO:-0600
TZNAME:CST
DTSTART:20251102T070000
END:STANDARD
BEGIN:DAYLIGHT
TZOFFSETFROM:-0600
TZOFFSETTO:-0500
TZNAME:CDT
DTSTART:20260308T080000
END:DAYLIGHT
BEGIN:STANDARD
TZOFFSETFROM:-0500
TZOFFSETTO:-0600
TZNAME:CST
DTSTART:20261101T070000
END:STANDARD
BEGIN:DAYLIGHT
TZOFFSETFROM:-0600
TZOFFSETTO:-0500
TZNAME:CDT
DTSTART:20270314T080000
END:DAYLIGHT
BEGIN:STANDARD
TZOFFSETFROM:-0500
TZOFFSETTO:-0600
TZNAME:CST
DTSTART:20271107T070000
END:STANDARD
BEGIN:DAYLIGHT
TZOFFSETFROM:-0600
TZOFFSETTO:-0500
TZNAME:CDT
DTSTART:20280312T080000
END:DAYLIGHT
BEGIN:STANDARD
TZOFFSETFROM:-0500
TZOFFSETTO:-0600
TZNAME:CST
DTSTART:20281105T070000
END:STANDARD
END:VTIMEZONE
BEGIN:VEVENT
DTSTART;TZID=America/Chicago:20261230T130000
DTEND;TZID=America/Chicago:20261230T143000
DTSTAMP:20260425T102600
CREATED:20250303T205054Z
LAST-MODIFIED:20250303T205054Z
UID:55312-1798635600-1798641000@www.mindbodysolutions.org
SUMMARY:Chat Amongst Ourselves - Monthly Meet Up
DESCRIPTION:Grab a cuppa and join us for a light-hearted chat. This will be a low-key\, safe space where we can hang out and find our own voice. It’s an opportunity for us to keep each other company and talk all things disability and yoga. Contribute as much or as little as you like —  no pressure here. No yoga or disability know-how is required\, all we ask is you be your perfectly imperfect self!  Let’s bridge the gap between yoga and community in this new zoom room\, just for us!
URL:https://www.mindbodysolutions.org/event/chat-amongst-ourselves-monthly-meet-up/2026-12-30/
CATEGORIES:General Event
ATTACH;FMTTYPE=image/png:https://www.mindbodysolutions.org/wp-content/uploads/2024/03/Chat-Amongst-logo-final-600-x-300-px-e1718280337409.png
END:VEVENT
BEGIN:VEVENT
DTSTART;TZID=America/Chicago:20270104T084500
DTEND;TZID=America/Chicago:20270104T094500
DTSTAMP:20260425T102600
CREATED:20250726T014211Z
LAST-MODIFIED:20250726T014211Z
UID:53386-1799052300-1799055900@www.mindbodysolutions.org
SUMMARY:Live Support
DESCRIPTION:Office hours is a free\, drop in\, online offering where you can ask any and all questions about Mind Body Solutions’ offerings! \nHave a question about: \nZoom \nCircle \nAdditional Offerings (Book club! Chat Amongst Ourselves! Team Adaptables and more!) \nAdaptive Yoga (like what the heck is a Triangle pose anyway?!) \nPlease drop in anytime during office hours and chat with Bethany (really\, she loves to answer questions about MBS!)
URL:https://www.mindbodysolutions.org/event/live-support/2027-01-04/
CATEGORIES:General Event
LOCATION:https://us02web.zoom.us/j/83345247376
END:VEVENT
BEGIN:VEVENT
DTSTART;TZID=America/Chicago:20270106T130000
DTEND;TZID=America/Chicago:20270106T140000
DTSTAMP:20260425T102600
CREATED:20240318T195219Z
LAST-MODIFIED:20250904T172815Z
UID:51169-1799240400-1799244000@www.mindbodysolutions.org
SUMMARY:Team Adaptables - Monthly Meeting
DESCRIPTION:We are a team of superheroes who identify living with a disability as a fundamental feature of their lives. We believe that DISability does not mean UNability\, but rather\, it is ability that has traveled through the worlds of shadow and reflection. We believe that disability creates wisdom and needs to be shared. \nWe meet virtually on the first Wednesday of every month for a content-rich hour at 1 pm Central time. Registered students will receive a zoom link an hour before each meeting. \nWe laugh\, tell stories\, share yoga\, and support each other.  We create content and conversation that are centered around the real experience of disability.  We create learning\, growing\, and healing opportunities for each other and sometimes for the world at large. \n 
URL:https://www.mindbodysolutions.org/event/team-adaptables-monthly-meeting-2/2027-01-06/
CATEGORIES:General Event
ATTACH;FMTTYPE=image/png:https://www.mindbodysolutions.org/wp-content/uploads/2023/06/Team-Adaptables-for-Calendar.png
END:VEVENT
BEGIN:VEVENT
DTSTART;TZID=America/Chicago:20270111T084500
DTEND;TZID=America/Chicago:20270111T094500
DTSTAMP:20260425T102600
CREATED:20250726T014211Z
LAST-MODIFIED:20250726T014211Z
UID:53387-1799657100-1799660700@www.mindbodysolutions.org
SUMMARY:Live Support
DESCRIPTION:Office hours is a free\, drop in\, online offering where you can ask any and all questions about Mind Body Solutions’ offerings! \nHave a question about: \nZoom \nCircle \nAdditional Offerings (Book club! Chat Amongst Ourselves! Team Adaptables and more!) \nAdaptive Yoga (like what the heck is a Triangle pose anyway?!) \nPlease drop in anytime during office hours and chat with Bethany (really\, she loves to answer questions about MBS!)
URL:https://www.mindbodysolutions.org/event/live-support/2027-01-11/
CATEGORIES:General Event
LOCATION:https://us02web.zoom.us/j/83345247376
END:VEVENT
BEGIN:VEVENT
DTSTART;TZID=America/Chicago:20270118T084500
DTEND;TZID=America/Chicago:20270118T094500
DTSTAMP:20260425T102600
CREATED:20250726T014212Z
LAST-MODIFIED:20250726T014212Z
UID:53388-1800261900-1800265500@www.mindbodysolutions.org
SUMMARY:Live Support
DESCRIPTION:Office hours is a free\, drop in\, online offering where you can ask any and all questions about Mind Body Solutions’ offerings! \nHave a question about: \nZoom \nCircle \nAdditional Offerings (Book club! Chat Amongst Ourselves! Team Adaptables and more!) \nAdaptive Yoga (like what the heck is a Triangle pose anyway?!) \nPlease drop in anytime during office hours and chat with Bethany (really\, she loves to answer questions about MBS!)
URL:https://www.mindbodysolutions.org/event/live-support/2027-01-18/
CATEGORIES:General Event
LOCATION:https://us02web.zoom.us/j/83345247376
END:VEVENT
BEGIN:VEVENT
DTSTART;TZID=America/Chicago:20270120T130000
DTEND;TZID=America/Chicago:20270120T133000
DTSTAMP:20260425T102600
CREATED:20240318T195533Z
LAST-MODIFIED:20250709T171213Z
UID:51303-1800450000-1800451800@www.mindbodysolutions.org
SUMMARY:Team Adaptables - Practice Huddle
DESCRIPTION:Join us for the Team Huddle; a student-led 10-minute mind-body practice! \n 
URL:https://www.mindbodysolutions.org/event/team-adaptables-practice-huddle/2027-01-20/
CATEGORIES:General Event
ATTACH;FMTTYPE=image/png:https://www.mindbodysolutions.org/wp-content/uploads/2023/06/Team-Adaptables-for-Calendar-1.png
LOCATION:https://us02web.zoom.us/j/82187740939
END:VEVENT
BEGIN:VEVENT
DTSTART;TZID=America/Chicago:20270125T084500
DTEND;TZID=America/Chicago:20270125T094500
DTSTAMP:20260425T102600
CREATED:20250726T014212Z
LAST-MODIFIED:20250726T014212Z
UID:53389-1800866700-1800870300@www.mindbodysolutions.org
SUMMARY:Live Support
DESCRIPTION:Office hours is a free\, drop in\, online offering where you can ask any and all questions about Mind Body Solutions’ offerings! \nHave a question about: \nZoom \nCircle \nAdditional Offerings (Book club! Chat Amongst Ourselves! Team Adaptables and more!) \nAdaptive Yoga (like what the heck is a Triangle pose anyway?!) \nPlease drop in anytime during office hours and chat with Bethany (really\, she loves to answer questions about MBS!)
URL:https://www.mindbodysolutions.org/event/live-support/2027-01-25/
CATEGORIES:General Event
LOCATION:https://us02web.zoom.us/j/83345247376
END:VEVENT
BEGIN:VEVENT
DTSTART;TZID=America/Chicago:20270127T130000
DTEND;TZID=America/Chicago:20270127T143000
DTSTAMP:20260425T102600
CREATED:20250303T205054Z
LAST-MODIFIED:20250303T205054Z
UID:55313-1801054800-1801060200@www.mindbodysolutions.org
SUMMARY:Chat Amongst Ourselves - Monthly Meet Up
DESCRIPTION:Grab a cuppa and join us for a light-hearted chat. This will be a low-key\, safe space where we can hang out and find our own voice. It’s an opportunity for us to keep each other company and talk all things disability and yoga. Contribute as much or as little as you like —  no pressure here. No yoga or disability know-how is required\, all we ask is you be your perfectly imperfect self!  Let’s bridge the gap between yoga and community in this new zoom room\, just for us!
URL:https://www.mindbodysolutions.org/event/chat-amongst-ourselves-monthly-meet-up/2027-01-27/
CATEGORIES:General Event
ATTACH;FMTTYPE=image/png:https://www.mindbodysolutions.org/wp-content/uploads/2024/03/Chat-Amongst-logo-final-600-x-300-px-e1718280337409.png
END:VEVENT
BEGIN:VEVENT
DTSTART;TZID=America/Chicago:20270201T084500
DTEND;TZID=America/Chicago:20270201T094500
DTSTAMP:20260425T102600
CREATED:20250726T014214Z
LAST-MODIFIED:20250726T014214Z
UID:53390-1801471500-1801475100@www.mindbodysolutions.org
SUMMARY:Live Support
DESCRIPTION:Office hours is a free\, drop in\, online offering where you can ask any and all questions about Mind Body Solutions’ offerings! \nHave a question about: \nZoom \nCircle \nAdditional Offerings (Book club! Chat Amongst Ourselves! Team Adaptables and more!) \nAdaptive Yoga (like what the heck is a Triangle pose anyway?!) \nPlease drop in anytime during office hours and chat with Bethany (really\, she loves to answer questions about MBS!)
URL:https://www.mindbodysolutions.org/event/live-support/2027-02-01/
CATEGORIES:General Event
LOCATION:https://us02web.zoom.us/j/83345247376
END:VEVENT
BEGIN:VEVENT
DTSTART;TZID=America/Chicago:20270208T084500
DTEND;TZID=America/Chicago:20270208T094500
DTSTAMP:20260425T102600
CREATED:20250726T014214Z
LAST-MODIFIED:20250726T014214Z
UID:53391-1802076300-1802079900@www.mindbodysolutions.org
SUMMARY:Live Support
DESCRIPTION:Office hours is a free\, drop in\, online offering where you can ask any and all questions about Mind Body Solutions’ offerings! \nHave a question about: \nZoom \nCircle \nAdditional Offerings (Book club! Chat Amongst Ourselves! Team Adaptables and more!) \nAdaptive Yoga (like what the heck is a Triangle pose anyway?!) \nPlease drop in anytime during office hours and chat with Bethany (really\, she loves to answer questions about MBS!)
URL:https://www.mindbodysolutions.org/event/live-support/2027-02-08/
CATEGORIES:General Event
LOCATION:https://us02web.zoom.us/j/83345247376
END:VEVENT
BEGIN:VEVENT
DTSTART;TZID=America/Chicago:20270215T084500
DTEND;TZID=America/Chicago:20270215T094500
DTSTAMP:20260425T102600
CREATED:20250726T014215Z
LAST-MODIFIED:20250726T014215Z
UID:53392-1802681100-1802684700@www.mindbodysolutions.org
SUMMARY:Live Support
DESCRIPTION:Office hours is a free\, drop in\, online offering where you can ask any and all questions about Mind Body Solutions’ offerings! \nHave a question about: \nZoom \nCircle \nAdditional Offerings (Book club! Chat Amongst Ourselves! Team Adaptables and more!) \nAdaptive Yoga (like what the heck is a Triangle pose anyway?!) \nPlease drop in anytime during office hours and chat with Bethany (really\, she loves to answer questions about MBS!)
URL:https://www.mindbodysolutions.org/event/live-support/2027-02-15/
CATEGORIES:General Event
LOCATION:https://us02web.zoom.us/j/83345247376
END:VEVENT
BEGIN:VEVENT
DTSTART;TZID=America/Chicago:20270222T084500
DTEND;TZID=America/Chicago:20270222T094500
DTSTAMP:20260425T102600
CREATED:20250726T014215Z
LAST-MODIFIED:20250726T014215Z
UID:53393-1803285900-1803289500@www.mindbodysolutions.org
SUMMARY:Live Support
DESCRIPTION:Office hours is a free\, drop in\, online offering where you can ask any and all questions about Mind Body Solutions’ offerings! \nHave a question about: \nZoom \nCircle \nAdditional Offerings (Book club! Chat Amongst Ourselves! Team Adaptables and more!) \nAdaptive Yoga (like what the heck is a Triangle pose anyway?!) \nPlease drop in anytime during office hours and chat with Bethany (really\, she loves to answer questions about MBS!)
URL:https://www.mindbodysolutions.org/event/live-support/2027-02-22/
CATEGORIES:General Event
LOCATION:https://us02web.zoom.us/j/83345247376
END:VEVENT
BEGIN:VEVENT
DTSTART;TZID=America/Chicago:20270224T130000
DTEND;TZID=America/Chicago:20270224T143000
DTSTAMP:20260425T102600
CREATED:20250303T205054Z
LAST-MODIFIED:20250303T205054Z
UID:55314-1803474000-1803479400@www.mindbodysolutions.org
SUMMARY:Chat Amongst Ourselves - Monthly Meet Up
DESCRIPTION:Grab a cuppa and join us for a light-hearted chat. This will be a low-key\, safe space where we can hang out and find our own voice. It’s an opportunity for us to keep each other company and talk all things disability and yoga. Contribute as much or as little as you like —  no pressure here. No yoga or disability know-how is required\, all we ask is you be your perfectly imperfect self!  Let’s bridge the gap between yoga and community in this new zoom room\, just for us!
URL:https://www.mindbodysolutions.org/event/chat-amongst-ourselves-monthly-meet-up/2027-02-24/
CATEGORIES:General Event
ATTACH;FMTTYPE=image/png:https://www.mindbodysolutions.org/wp-content/uploads/2024/03/Chat-Amongst-logo-final-600-x-300-px-e1718280337409.png
END:VEVENT
BEGIN:VEVENT
DTSTART;TZID=America/Chicago:20270301T084500
DTEND;TZID=America/Chicago:20270301T094500
DTSTAMP:20260425T102600
CREATED:20250726T014216Z
LAST-MODIFIED:20250726T014216Z
UID:53394-1803890700-1803894300@www.mindbodysolutions.org
SUMMARY:Live Support
DESCRIPTION:Office hours is a free\, drop in\, online offering where you can ask any and all questions about Mind Body Solutions’ offerings! \nHave a question about: \nZoom \nCircle \nAdditional Offerings (Book club! Chat Amongst Ourselves! Team Adaptables and more!) \nAdaptive Yoga (like what the heck is a Triangle pose anyway?!) \nPlease drop in anytime during office hours and chat with Bethany (really\, she loves to answer questions about MBS!)
URL:https://www.mindbodysolutions.org/event/live-support/2027-03-01/
CATEGORIES:General Event
LOCATION:https://us02web.zoom.us/j/83345247376
END:VEVENT
BEGIN:VEVENT
DTSTART;TZID=America/Chicago:20270308T084500
DTEND;TZID=America/Chicago:20270308T094500
DTSTAMP:20260425T102600
CREATED:20250726T014216Z
LAST-MODIFIED:20250726T014216Z
UID:53395-1804495500-1804499100@www.mindbodysolutions.org
SUMMARY:Live Support
DESCRIPTION:Office hours is a free\, drop in\, online offering where you can ask any and all questions about Mind Body Solutions’ offerings! \nHave a question about: \nZoom \nCircle \nAdditional Offerings (Book club! Chat Amongst Ourselves! Team Adaptables and more!) \nAdaptive Yoga (like what the heck is a Triangle pose anyway?!) \nPlease drop in anytime during office hours and chat with Bethany (really\, she loves to answer questions about MBS!)
URL:https://www.mindbodysolutions.org/event/live-support/2027-03-08/
CATEGORIES:General Event
LOCATION:https://us02web.zoom.us/j/83345247376
END:VEVENT
BEGIN:VEVENT
DTSTART;TZID=America/Chicago:20270315T084500
DTEND;TZID=America/Chicago:20270315T094500
DTSTAMP:20260425T102600
CREATED:20250726T014217Z
LAST-MODIFIED:20250726T014217Z
UID:53396-1805100300-1805103900@www.mindbodysolutions.org
SUMMARY:Live Support
DESCRIPTION:Office hours is a free\, drop in\, online offering where you can ask any and all questions about Mind Body Solutions’ offerings! \nHave a question about: \nZoom \nCircle \nAdditional Offerings (Book club! Chat Amongst Ourselves! Team Adaptables and more!) \nAdaptive Yoga (like what the heck is a Triangle pose anyway?!) \nPlease drop in anytime during office hours and chat with Bethany (really\, she loves to answer questions about MBS!)
URL:https://www.mindbodysolutions.org/event/live-support/2027-03-15/
CATEGORIES:General Event
LOCATION:https://us02web.zoom.us/j/83345247376
END:VEVENT
BEGIN:VEVENT
DTSTART;TZID=America/Chicago:20270322T084500
DTEND;TZID=America/Chicago:20270322T094500
DTSTAMP:20260425T102600
CREATED:20250726T014217Z
LAST-MODIFIED:20250726T014217Z
UID:53397-1805705100-1805708700@www.mindbodysolutions.org
SUMMARY:Live Support
DESCRIPTION:Office hours is a free\, drop in\, online offering where you can ask any and all questions about Mind Body Solutions’ offerings! \nHave a question about: \nZoom \nCircle \nAdditional Offerings (Book club! Chat Amongst Ourselves! Team Adaptables and more!) \nAdaptive Yoga (like what the heck is a Triangle pose anyway?!) \nPlease drop in anytime during office hours and chat with Bethany (really\, she loves to answer questions about MBS!)
URL:https://www.mindbodysolutions.org/event/live-support/2027-03-22/
CATEGORIES:General Event
LOCATION:https://us02web.zoom.us/j/83345247376
END:VEVENT
BEGIN:VEVENT
DTSTART;TZID=America/Chicago:20270329T084500
DTEND;TZID=America/Chicago:20270329T094500
DTSTAMP:20260425T102600
CREATED:20250726T014217Z
LAST-MODIFIED:20250726T014217Z
UID:53398-1806309900-1806313500@www.mindbodysolutions.org
SUMMARY:Live Support
DESCRIPTION:Office hours is a free\, drop in\, online offering where you can ask any and all questions about Mind Body Solutions’ offerings! \nHave a question about: \nZoom \nCircle \nAdditional Offerings (Book club! Chat Amongst Ourselves! Team Adaptables and more!) \nAdaptive Yoga (like what the heck is a Triangle pose anyway?!) \nPlease drop in anytime during office hours and chat with Bethany (really\, she loves to answer questions about MBS!)
URL:https://www.mindbodysolutions.org/event/live-support/2027-03-29/
CATEGORIES:General Event
LOCATION:https://us02web.zoom.us/j/83345247376
END:VEVENT
BEGIN:VEVENT
DTSTART;TZID=America/Chicago:20270331T130000
DTEND;TZID=America/Chicago:20270331T143000
DTSTAMP:20260425T102600
CREATED:20250303T205054Z
LAST-MODIFIED:20250303T205054Z
UID:55315-1806498000-1806503400@www.mindbodysolutions.org
SUMMARY:Chat Amongst Ourselves - Monthly Meet Up
DESCRIPTION:Grab a cuppa and join us for a light-hearted chat. This will be a low-key\, safe space where we can hang out and find our own voice. It’s an opportunity for us to keep each other company and talk all things disability and yoga. Contribute as much or as little as you like —  no pressure here. No yoga or disability know-how is required\, all we ask is you be your perfectly imperfect self!  Let’s bridge the gap between yoga and community in this new zoom room\, just for us!
URL:https://www.mindbodysolutions.org/event/chat-amongst-ourselves-monthly-meet-up/2027-03-31/
CATEGORIES:General Event
ATTACH;FMTTYPE=image/png:https://www.mindbodysolutions.org/wp-content/uploads/2024/03/Chat-Amongst-logo-final-600-x-300-px-e1718280337409.png
END:VEVENT
BEGIN:VEVENT
DTSTART;TZID=America/Chicago:20270405T084500
DTEND;TZID=America/Chicago:20270405T094500
DTSTAMP:20260425T102600
CREATED:20250726T014218Z
LAST-MODIFIED:20250726T014218Z
UID:53399-1806914700-1806918300@www.mindbodysolutions.org
SUMMARY:Live Support
DESCRIPTION:Office hours is a free\, drop in\, online offering where you can ask any and all questions about Mind Body Solutions’ offerings! \nHave a question about: \nZoom \nCircle \nAdditional Offerings (Book club! Chat Amongst Ourselves! Team Adaptables and more!) \nAdaptive Yoga (like what the heck is a Triangle pose anyway?!) \nPlease drop in anytime during office hours and chat with Bethany (really\, she loves to answer questions about MBS!)
URL:https://www.mindbodysolutions.org/event/live-support/2027-04-05/
CATEGORIES:General Event
LOCATION:https://us02web.zoom.us/j/83345247376
END:VEVENT
BEGIN:VEVENT
DTSTART;TZID=America/Chicago:20270412T084500
DTEND;TZID=America/Chicago:20270412T094500
DTSTAMP:20260425T102600
CREATED:20250726T014219Z
LAST-MODIFIED:20250726T014219Z
UID:53400-1807519500-1807523100@www.mindbodysolutions.org
SUMMARY:Live Support
DESCRIPTION:Office hours is a free\, drop in\, online offering where you can ask any and all questions about Mind Body Solutions’ offerings! \nHave a question about: \nZoom \nCircle \nAdditional Offerings (Book club! Chat Amongst Ourselves! Team Adaptables and more!) \nAdaptive Yoga (like what the heck is a Triangle pose anyway?!) \nPlease drop in anytime during office hours and chat with Bethany (really\, she loves to answer questions about MBS!)
URL:https://www.mindbodysolutions.org/event/live-support/2027-04-12/
CATEGORIES:General Event
LOCATION:https://us02web.zoom.us/j/83345247376
END:VEVENT
BEGIN:VEVENT
DTSTART;TZID=America/Chicago:20270419T084500
DTEND;TZID=America/Chicago:20270419T094500
DTSTAMP:20260425T102600
CREATED:20250726T014219Z
LAST-MODIFIED:20250726T014219Z
UID:53401-1808124300-1808127900@www.mindbodysolutions.org
SUMMARY:Live Support
DESCRIPTION:Office hours is a free\, drop in\, online offering where you can ask any and all questions about Mind Body Solutions’ offerings! \nHave a question about: \nZoom \nCircle \nAdditional Offerings (Book club! Chat Amongst Ourselves! Team Adaptables and more!) \nAdaptive Yoga (like what the heck is a Triangle pose anyway?!) \nPlease drop in anytime during office hours and chat with Bethany (really\, she loves to answer questions about MBS!)
URL:https://www.mindbodysolutions.org/event/live-support/2027-04-19/
CATEGORIES:General Event
LOCATION:https://us02web.zoom.us/j/83345247376
END:VEVENT
BEGIN:VEVENT
DTSTART;TZID=America/Chicago:20270426T084500
DTEND;TZID=America/Chicago:20270426T094500
DTSTAMP:20260425T102600
CREATED:20250726T014220Z
LAST-MODIFIED:20250726T014220Z
UID:53402-1808729100-1808732700@www.mindbodysolutions.org
SUMMARY:Live Support
DESCRIPTION:Office hours is a free\, drop in\, online offering where you can ask any and all questions about Mind Body Solutions’ offerings! \nHave a question about: \nZoom \nCircle \nAdditional Offerings (Book club! Chat Amongst Ourselves! Team Adaptables and more!) \nAdaptive Yoga (like what the heck is a Triangle pose anyway?!) \nPlease drop in anytime during office hours and chat with Bethany (really\, she loves to answer questions about MBS!)
URL:https://www.mindbodysolutions.org/event/live-support/2027-04-26/
CATEGORIES:General Event
LOCATION:https://us02web.zoom.us/j/83345247376
END:VEVENT
BEGIN:VEVENT
DTSTART;TZID=America/Chicago:20270428T130000
DTEND;TZID=America/Chicago:20270428T143000
DTSTAMP:20260425T102600
CREATED:20250303T205054Z
LAST-MODIFIED:20250303T205054Z
UID:55316-1808917200-1808922600@www.mindbodysolutions.org
SUMMARY:Chat Amongst Ourselves - Monthly Meet Up
DESCRIPTION:Grab a cuppa and join us for a light-hearted chat. This will be a low-key\, safe space where we can hang out and find our own voice. It’s an opportunity for us to keep each other company and talk all things disability and yoga. Contribute as much or as little as you like —  no pressure here. No yoga or disability know-how is required\, all we ask is you be your perfectly imperfect self!  Let’s bridge the gap between yoga and community in this new zoom room\, just for us!
URL:https://www.mindbodysolutions.org/event/chat-amongst-ourselves-monthly-meet-up/2027-04-28/
CATEGORIES:General Event
ATTACH;FMTTYPE=image/png:https://www.mindbodysolutions.org/wp-content/uploads/2024/03/Chat-Amongst-logo-final-600-x-300-px-e1718280337409.png
END:VEVENT
BEGIN:VEVENT
DTSTART;TZID=America/Chicago:20270503T084500
DTEND;TZID=America/Chicago:20270503T094500
DTSTAMP:20260425T102600
CREATED:20250726T014220Z
LAST-MODIFIED:20250726T014220Z
UID:53403-1809333900-1809337500@www.mindbodysolutions.org
SUMMARY:Live Support
DESCRIPTION:Office hours is a free\, drop in\, online offering where you can ask any and all questions about Mind Body Solutions’ offerings! \nHave a question about: \nZoom \nCircle \nAdditional Offerings (Book club! Chat Amongst Ourselves! Team Adaptables and more!) \nAdaptive Yoga (like what the heck is a Triangle pose anyway?!) \nPlease drop in anytime during office hours and chat with Bethany (really\, she loves to answer questions about MBS!)
URL:https://www.mindbodysolutions.org/event/live-support/2027-05-03/
CATEGORIES:General Event
LOCATION:https://us02web.zoom.us/j/83345247376
END:VEVENT
BEGIN:VEVENT
DTSTART;TZID=America/Chicago:20270510T084500
DTEND;TZID=America/Chicago:20270510T094500
DTSTAMP:20260425T102600
CREATED:20250726T014221Z
LAST-MODIFIED:20250726T014221Z
UID:53404-1809938700-1809942300@www.mindbodysolutions.org
SUMMARY:Live Support
DESCRIPTION:Office hours is a free\, drop in\, online offering where you can ask any and all questions about Mind Body Solutions’ offerings! \nHave a question about: \nZoom \nCircle \nAdditional Offerings (Book club! Chat Amongst Ourselves! Team Adaptables and more!) \nAdaptive Yoga (like what the heck is a Triangle pose anyway?!) \nPlease drop in anytime during office hours and chat with Bethany (really\, she loves to answer questions about MBS!)
URL:https://www.mindbodysolutions.org/event/live-support/2027-05-10/
CATEGORIES:General Event
LOCATION:https://us02web.zoom.us/j/83345247376
END:VEVENT
BEGIN:VEVENT
DTSTART;TZID=America/Chicago:20270517T084500
DTEND;TZID=America/Chicago:20270517T094500
DTSTAMP:20260425T102600
CREATED:20250726T014221Z
LAST-MODIFIED:20250726T014221Z
UID:53405-1810543500-1810547100@www.mindbodysolutions.org
SUMMARY:Live Support
DESCRIPTION:Office hours is a free\, drop in\, online offering where you can ask any and all questions about Mind Body Solutions’ offerings! \nHave a question about: \nZoom \nCircle \nAdditional Offerings (Book club! Chat Amongst Ourselves! Team Adaptables and more!) \nAdaptive Yoga (like what the heck is a Triangle pose anyway?!) \nPlease drop in anytime during office hours and chat with Bethany (really\, she loves to answer questions about MBS!)
URL:https://www.mindbodysolutions.org/event/live-support/2027-05-17/
CATEGORIES:General Event
LOCATION:https://us02web.zoom.us/j/83345247376
END:VEVENT
BEGIN:VEVENT
DTSTART;TZID=America/Chicago:20270524T084500
DTEND;TZID=America/Chicago:20270524T094500
DTSTAMP:20260425T102600
CREATED:20250726T014222Z
LAST-MODIFIED:20250726T014222Z
UID:53406-1811148300-1811151900@www.mindbodysolutions.org
SUMMARY:Live Support
DESCRIPTION:Office hours is a free\, drop in\, online offering where you can ask any and all questions about Mind Body Solutions’ offerings! \nHave a question about: \nZoom \nCircle \nAdditional Offerings (Book club! Chat Amongst Ourselves! Team Adaptables and more!) \nAdaptive Yoga (like what the heck is a Triangle pose anyway?!) \nPlease drop in anytime during office hours and chat with Bethany (really\, she loves to answer questions about MBS!)
URL:https://www.mindbodysolutions.org/event/live-support/2027-05-24/
CATEGORIES:General Event
LOCATION:https://us02web.zoom.us/j/83345247376
END:VEVENT
BEGIN:VEVENT
DTSTART;TZID=America/Chicago:20270526T130000
DTEND;TZID=America/Chicago:20270526T143000
DTSTAMP:20260425T102600
CREATED:20250303T205054Z
LAST-MODIFIED:20250303T205054Z
UID:55317-1811336400-1811341800@www.mindbodysolutions.org
SUMMARY:Chat Amongst Ourselves - Monthly Meet Up
DESCRIPTION:Grab a cuppa and join us for a light-hearted chat. This will be a low-key\, safe space where we can hang out and find our own voice. It’s an opportunity for us to keep each other company and talk all things disability and yoga. Contribute as much or as little as you like —  no pressure here. No yoga or disability know-how is required\, all we ask is you be your perfectly imperfect self!  Let’s bridge the gap between yoga and community in this new zoom room\, just for us!
URL:https://www.mindbodysolutions.org/event/chat-amongst-ourselves-monthly-meet-up/2027-05-26/
CATEGORIES:General Event
ATTACH;FMTTYPE=image/png:https://www.mindbodysolutions.org/wp-content/uploads/2024/03/Chat-Amongst-logo-final-600-x-300-px-e1718280337409.png
END:VEVENT
BEGIN:VEVENT
DTSTART;TZID=America/Chicago:20270531T084500
DTEND;TZID=America/Chicago:20270531T094500
DTSTAMP:20260425T102600
CREATED:20250726T014222Z
LAST-MODIFIED:20250726T014222Z
UID:53407-1811753100-1811756700@www.mindbodysolutions.org
SUMMARY:Live Support
DESCRIPTION:Office hours is a free\, drop in\, online offering where you can ask any and all questions about Mind Body Solutions’ offerings! \nHave a question about: \nZoom \nCircle \nAdditional Offerings (Book club! Chat Amongst Ourselves! Team Adaptables and more!) \nAdaptive Yoga (like what the heck is a Triangle pose anyway?!) \nPlease drop in anytime during office hours and chat with Bethany (really\, she loves to answer questions about MBS!)
URL:https://www.mindbodysolutions.org/event/live-support/2027-05-31/
CATEGORIES:General Event
LOCATION:https://us02web.zoom.us/j/83345247376
END:VEVENT
END:VCALENDAR