BEGIN:VCALENDAR
VERSION:2.0
PRODID:-//Mind Body Solutions - ECPv6.15.20//NONSGML v1.0//EN
CALSCALE:GREGORIAN
METHOD:PUBLISH
X-WR-CALNAME:Mind Body Solutions
X-ORIGINAL-URL:https://www.mindbodysolutions.org
X-WR-CALDESC:Events for Mind Body Solutions
REFRESH-INTERVAL;VALUE=DURATION:PT1H
X-Robots-Tag:noindex
X-PUBLISHED-TTL:PT1H
BEGIN:VTIMEZONE
TZID:America/Chicago
BEGIN:DAYLIGHT
TZOFFSETFROM:-0600
TZOFFSETTO:-0500
TZNAME:CDT
DTSTART:20260308T080000
END:DAYLIGHT
BEGIN:STANDARD
TZOFFSETFROM:-0500
TZOFFSETTO:-0600
TZNAME:CST
DTSTART:20261101T070000
END:STANDARD
BEGIN:DAYLIGHT
TZOFFSETFROM:-0600
TZOFFSETTO:-0500
TZNAME:CDT
DTSTART:20270314T080000
END:DAYLIGHT
BEGIN:STANDARD
TZOFFSETFROM:-0500
TZOFFSETTO:-0600
TZNAME:CST
DTSTART:20271107T070000
END:STANDARD
BEGIN:DAYLIGHT
TZOFFSETFROM:-0600
TZOFFSETTO:-0500
TZNAME:CDT
DTSTART:20280312T080000
END:DAYLIGHT
BEGIN:STANDARD
TZOFFSETFROM:-0500
TZOFFSETTO:-0600
TZNAME:CST
DTSTART:20281105T070000
END:STANDARD
BEGIN:DAYLIGHT
TZOFFSETFROM:-0600
TZOFFSETTO:-0500
TZNAME:CDT
DTSTART:20290311T080000
END:DAYLIGHT
BEGIN:STANDARD
TZOFFSETFROM:-0500
TZOFFSETTO:-0600
TZNAME:CST
DTSTART:20291104T070000
END:STANDARD
END:VTIMEZONE
BEGIN:VEVENT
DTSTART;TZID=America/Chicago:20270913T084500
DTEND;TZID=America/Chicago:20270913T094500
DTSTAMP:20260425T215046
CREATED:20250726T014115Z
LAST-MODIFIED:20250726T014115Z
UID:54315-1820825100-1820828700@www.mindbodysolutions.org
SUMMARY:Live Support
DESCRIPTION:Office hours is a free\, drop in\, online offering where you can ask any and all questions about Mind Body Solutions’ offerings! \nHave a question about: \nZoom \nCircle \nAdditional Offerings (Book club! Chat Amongst Ourselves! Team Adaptables and more!) \nAdaptive Yoga (like what the heck is a Triangle pose anyway?!) \nPlease drop in anytime during office hours and chat with Bethany (really\, she loves to answer questions about MBS!)
URL:https://www.mindbodysolutions.org/event/live-support/2027-09-13/
CATEGORIES:General Event
LOCATION:https://us02web.zoom.us/j/83345247376
END:VEVENT
BEGIN:VEVENT
DTSTART;TZID=America/Chicago:20270920T084500
DTEND;TZID=America/Chicago:20270920T094500
DTSTAMP:20260425T215046
CREATED:20250726T014115Z
LAST-MODIFIED:20250726T014115Z
UID:54371-1821429900-1821433500@www.mindbodysolutions.org
SUMMARY:Live Support
DESCRIPTION:Office hours is a free\, drop in\, online offering where you can ask any and all questions about Mind Body Solutions’ offerings! \nHave a question about: \nZoom \nCircle \nAdditional Offerings (Book club! Chat Amongst Ourselves! Team Adaptables and more!) \nAdaptive Yoga (like what the heck is a Triangle pose anyway?!) \nPlease drop in anytime during office hours and chat with Bethany (really\, she loves to answer questions about MBS!)
URL:https://www.mindbodysolutions.org/event/live-support/2027-09-20/
CATEGORIES:General Event
LOCATION:https://us02web.zoom.us/j/83345247376
END:VEVENT
BEGIN:VEVENT
DTSTART;TZID=America/Chicago:20270927T084500
DTEND;TZID=America/Chicago:20270927T094500
DTSTAMP:20260425T215046
CREATED:20250726T014115Z
LAST-MODIFIED:20250726T014115Z
UID:54404-1822034700-1822038300@www.mindbodysolutions.org
SUMMARY:Live Support
DESCRIPTION:Office hours is a free\, drop in\, online offering where you can ask any and all questions about Mind Body Solutions’ offerings! \nHave a question about: \nZoom \nCircle \nAdditional Offerings (Book club! Chat Amongst Ourselves! Team Adaptables and more!) \nAdaptive Yoga (like what the heck is a Triangle pose anyway?!) \nPlease drop in anytime during office hours and chat with Bethany (really\, she loves to answer questions about MBS!)
URL:https://www.mindbodysolutions.org/event/live-support/2027-09-27/
CATEGORIES:General Event
LOCATION:https://us02web.zoom.us/j/83345247376
END:VEVENT
BEGIN:VEVENT
DTSTART;TZID=America/Chicago:20270929T130000
DTEND;TZID=America/Chicago:20270929T143000
DTSTAMP:20260425T215046
CREATED:20250303T205054Z
LAST-MODIFIED:20250303T205054Z
UID:55321-1822222800-1822228200@www.mindbodysolutions.org
SUMMARY:Chat Amongst Ourselves - Monthly Meet Up
DESCRIPTION:Grab a cuppa and join us for a light-hearted chat. This will be a low-key\, safe space where we can hang out and find our own voice. It’s an opportunity for us to keep each other company and talk all things disability and yoga. Contribute as much or as little as you like —  no pressure here. No yoga or disability know-how is required\, all we ask is you be your perfectly imperfect self!  Let’s bridge the gap between yoga and community in this new zoom room\, just for us!
URL:https://www.mindbodysolutions.org/event/chat-amongst-ourselves-monthly-meet-up/2027-09-29/
CATEGORIES:General Event
ATTACH;FMTTYPE=image/png:https://www.mindbodysolutions.org/wp-content/uploads/2024/03/Chat-Amongst-logo-final-600-x-300-px-e1718280337409.png
END:VEVENT
BEGIN:VEVENT
DTSTART;TZID=America/Chicago:20271004T084500
DTEND;TZID=America/Chicago:20271004T094500
DTSTAMP:20260425T215046
CREATED:20250726T014115Z
LAST-MODIFIED:20250726T014115Z
UID:54427-1822639500-1822643100@www.mindbodysolutions.org
SUMMARY:Live Support
DESCRIPTION:Office hours is a free\, drop in\, online offering where you can ask any and all questions about Mind Body Solutions’ offerings! \nHave a question about: \nZoom \nCircle \nAdditional Offerings (Book club! Chat Amongst Ourselves! Team Adaptables and more!) \nAdaptive Yoga (like what the heck is a Triangle pose anyway?!) \nPlease drop in anytime during office hours and chat with Bethany (really\, she loves to answer questions about MBS!)
URL:https://www.mindbodysolutions.org/event/live-support/2027-10-04/
CATEGORIES:General Event
LOCATION:https://us02web.zoom.us/j/83345247376
END:VEVENT
BEGIN:VEVENT
DTSTART;TZID=America/Chicago:20271011T084500
DTEND;TZID=America/Chicago:20271011T094500
DTSTAMP:20260425T215046
CREATED:20250726T014115Z
LAST-MODIFIED:20250726T014115Z
UID:54469-1823244300-1823247900@www.mindbodysolutions.org
SUMMARY:Live Support
DESCRIPTION:Office hours is a free\, drop in\, online offering where you can ask any and all questions about Mind Body Solutions’ offerings! \nHave a question about: \nZoom \nCircle \nAdditional Offerings (Book club! Chat Amongst Ourselves! Team Adaptables and more!) \nAdaptive Yoga (like what the heck is a Triangle pose anyway?!) \nPlease drop in anytime during office hours and chat with Bethany (really\, she loves to answer questions about MBS!)
URL:https://www.mindbodysolutions.org/event/live-support/2027-10-11/
CATEGORIES:General Event
LOCATION:https://us02web.zoom.us/j/83345247376
END:VEVENT
BEGIN:VEVENT
DTSTART;TZID=America/Chicago:20271018T084500
DTEND;TZID=America/Chicago:20271018T094500
DTSTAMP:20260425T215046
CREATED:20250726T014115Z
LAST-MODIFIED:20250726T014115Z
UID:54497-1823849100-1823852700@www.mindbodysolutions.org
SUMMARY:Live Support
DESCRIPTION:Office hours is a free\, drop in\, online offering where you can ask any and all questions about Mind Body Solutions’ offerings! \nHave a question about: \nZoom \nCircle \nAdditional Offerings (Book club! Chat Amongst Ourselves! Team Adaptables and more!) \nAdaptive Yoga (like what the heck is a Triangle pose anyway?!) \nPlease drop in anytime during office hours and chat with Bethany (really\, she loves to answer questions about MBS!)
URL:https://www.mindbodysolutions.org/event/live-support/2027-10-18/
CATEGORIES:General Event
LOCATION:https://us02web.zoom.us/j/83345247376
END:VEVENT
BEGIN:VEVENT
DTSTART;TZID=America/Chicago:20271025T084500
DTEND;TZID=America/Chicago:20271025T094500
DTSTAMP:20260425T215046
CREATED:20250726T014115Z
LAST-MODIFIED:20250726T014115Z
UID:54550-1824453900-1824457500@www.mindbodysolutions.org
SUMMARY:Live Support
DESCRIPTION:Office hours is a free\, drop in\, online offering where you can ask any and all questions about Mind Body Solutions’ offerings! \nHave a question about: \nZoom \nCircle \nAdditional Offerings (Book club! Chat Amongst Ourselves! Team Adaptables and more!) \nAdaptive Yoga (like what the heck is a Triangle pose anyway?!) \nPlease drop in anytime during office hours and chat with Bethany (really\, she loves to answer questions about MBS!)
URL:https://www.mindbodysolutions.org/event/live-support/2027-10-25/
CATEGORIES:General Event
LOCATION:https://us02web.zoom.us/j/83345247376
END:VEVENT
BEGIN:VEVENT
DTSTART;TZID=America/Chicago:20271027T130000
DTEND;TZID=America/Chicago:20271027T143000
DTSTAMP:20260425T215046
CREATED:20250303T205054Z
LAST-MODIFIED:20250303T205054Z
UID:55322-1824642000-1824647400@www.mindbodysolutions.org
SUMMARY:Chat Amongst Ourselves - Monthly Meet Up
DESCRIPTION:Grab a cuppa and join us for a light-hearted chat. This will be a low-key\, safe space where we can hang out and find our own voice. It’s an opportunity for us to keep each other company and talk all things disability and yoga. Contribute as much or as little as you like —  no pressure here. No yoga or disability know-how is required\, all we ask is you be your perfectly imperfect self!  Let’s bridge the gap between yoga and community in this new zoom room\, just for us!
URL:https://www.mindbodysolutions.org/event/chat-amongst-ourselves-monthly-meet-up/2027-10-27/
CATEGORIES:General Event
ATTACH;FMTTYPE=image/png:https://www.mindbodysolutions.org/wp-content/uploads/2024/03/Chat-Amongst-logo-final-600-x-300-px-e1718280337409.png
END:VEVENT
BEGIN:VEVENT
DTSTART;TZID=America/Chicago:20271101T084500
DTEND;TZID=America/Chicago:20271101T094500
DTSTAMP:20260425T215046
CREATED:20250726T014115Z
LAST-MODIFIED:20250726T014115Z
UID:54598-1825058700-1825062300@www.mindbodysolutions.org
SUMMARY:Live Support
DESCRIPTION:Office hours is a free\, drop in\, online offering where you can ask any and all questions about Mind Body Solutions’ offerings! \nHave a question about: \nZoom \nCircle \nAdditional Offerings (Book club! Chat Amongst Ourselves! Team Adaptables and more!) \nAdaptive Yoga (like what the heck is a Triangle pose anyway?!) \nPlease drop in anytime during office hours and chat with Bethany (really\, she loves to answer questions about MBS!)
URL:https://www.mindbodysolutions.org/event/live-support/2027-11-01/
CATEGORIES:General Event
LOCATION:https://us02web.zoom.us/j/83345247376
END:VEVENT
BEGIN:VEVENT
DTSTART;TZID=America/Chicago:20271108T084500
DTEND;TZID=America/Chicago:20271108T094500
DTSTAMP:20260425T215046
CREATED:20250726T014115Z
LAST-MODIFIED:20250726T014115Z
UID:54661-1825663500-1825667100@www.mindbodysolutions.org
SUMMARY:Live Support
DESCRIPTION:Office hours is a free\, drop in\, online offering where you can ask any and all questions about Mind Body Solutions’ offerings! \nHave a question about: \nZoom \nCircle \nAdditional Offerings (Book club! Chat Amongst Ourselves! Team Adaptables and more!) \nAdaptive Yoga (like what the heck is a Triangle pose anyway?!) \nPlease drop in anytime during office hours and chat with Bethany (really\, she loves to answer questions about MBS!)
URL:https://www.mindbodysolutions.org/event/live-support/2027-11-08/
CATEGORIES:General Event
LOCATION:https://us02web.zoom.us/j/83345247376
END:VEVENT
BEGIN:VEVENT
DTSTART;TZID=America/Chicago:20271115T084500
DTEND;TZID=America/Chicago:20271115T094500
DTSTAMP:20260425T215046
CREATED:20250726T014115Z
LAST-MODIFIED:20250726T014115Z
UID:54745-1826268300-1826271900@www.mindbodysolutions.org
SUMMARY:Live Support
DESCRIPTION:Office hours is a free\, drop in\, online offering where you can ask any and all questions about Mind Body Solutions’ offerings! \nHave a question about: \nZoom \nCircle \nAdditional Offerings (Book club! Chat Amongst Ourselves! Team Adaptables and more!) \nAdaptive Yoga (like what the heck is a Triangle pose anyway?!) \nPlease drop in anytime during office hours and chat with Bethany (really\, she loves to answer questions about MBS!)
URL:https://www.mindbodysolutions.org/event/live-support/2027-11-15/
CATEGORIES:General Event
LOCATION:https://us02web.zoom.us/j/83345247376
END:VEVENT
BEGIN:VEVENT
DTSTART;TZID=America/Chicago:20271122T084500
DTEND;TZID=America/Chicago:20271122T094500
DTSTAMP:20260425T215046
CREATED:20250726T014115Z
LAST-MODIFIED:20250726T014115Z
UID:54791-1826873100-1826876700@www.mindbodysolutions.org
SUMMARY:Live Support
DESCRIPTION:Office hours is a free\, drop in\, online offering where you can ask any and all questions about Mind Body Solutions’ offerings! \nHave a question about: \nZoom \nCircle \nAdditional Offerings (Book club! Chat Amongst Ourselves! Team Adaptables and more!) \nAdaptive Yoga (like what the heck is a Triangle pose anyway?!) \nPlease drop in anytime during office hours and chat with Bethany (really\, she loves to answer questions about MBS!)
URL:https://www.mindbodysolutions.org/event/live-support/2027-11-22/
CATEGORIES:General Event
LOCATION:https://us02web.zoom.us/j/83345247376
END:VEVENT
BEGIN:VEVENT
DTSTART;TZID=America/Chicago:20271124T130000
DTEND;TZID=America/Chicago:20271124T143000
DTSTAMP:20260425T215046
CREATED:20250303T205054Z
LAST-MODIFIED:20250303T205054Z
UID:55323-1827061200-1827066600@www.mindbodysolutions.org
SUMMARY:Chat Amongst Ourselves - Monthly Meet Up
DESCRIPTION:Grab a cuppa and join us for a light-hearted chat. This will be a low-key\, safe space where we can hang out and find our own voice. It’s an opportunity for us to keep each other company and talk all things disability and yoga. Contribute as much or as little as you like —  no pressure here. No yoga or disability know-how is required\, all we ask is you be your perfectly imperfect self!  Let’s bridge the gap between yoga and community in this new zoom room\, just for us!
URL:https://www.mindbodysolutions.org/event/chat-amongst-ourselves-monthly-meet-up/2027-11-24/
CATEGORIES:General Event
ATTACH;FMTTYPE=image/png:https://www.mindbodysolutions.org/wp-content/uploads/2024/03/Chat-Amongst-logo-final-600-x-300-px-e1718280337409.png
END:VEVENT
BEGIN:VEVENT
DTSTART;TZID=America/Chicago:20271129T084500
DTEND;TZID=America/Chicago:20271129T094500
DTSTAMP:20260425T215046
CREATED:20250726T014115Z
LAST-MODIFIED:20250726T014115Z
UID:54839-1827477900-1827481500@www.mindbodysolutions.org
SUMMARY:Live Support
DESCRIPTION:Office hours is a free\, drop in\, online offering where you can ask any and all questions about Mind Body Solutions’ offerings! \nHave a question about: \nZoom \nCircle \nAdditional Offerings (Book club! Chat Amongst Ourselves! Team Adaptables and more!) \nAdaptive Yoga (like what the heck is a Triangle pose anyway?!) \nPlease drop in anytime during office hours and chat with Bethany (really\, she loves to answer questions about MBS!)
URL:https://www.mindbodysolutions.org/event/live-support/2027-11-29/
CATEGORIES:General Event
LOCATION:https://us02web.zoom.us/j/83345247376
END:VEVENT
BEGIN:VEVENT
DTSTART;TZID=America/Chicago:20271206T084500
DTEND;TZID=America/Chicago:20271206T094500
DTSTAMP:20260425T215046
CREATED:20250726T014115Z
LAST-MODIFIED:20250726T014115Z
UID:54883-1828082700-1828086300@www.mindbodysolutions.org
SUMMARY:Live Support
DESCRIPTION:Office hours is a free\, drop in\, online offering where you can ask any and all questions about Mind Body Solutions’ offerings! \nHave a question about: \nZoom \nCircle \nAdditional Offerings (Book club! Chat Amongst Ourselves! Team Adaptables and more!) \nAdaptive Yoga (like what the heck is a Triangle pose anyway?!) \nPlease drop in anytime during office hours and chat with Bethany (really\, she loves to answer questions about MBS!)
URL:https://www.mindbodysolutions.org/event/live-support/2027-12-06/
CATEGORIES:General Event
LOCATION:https://us02web.zoom.us/j/83345247376
END:VEVENT
BEGIN:VEVENT
DTSTART;TZID=America/Chicago:20271213T084500
DTEND;TZID=America/Chicago:20271213T094500
DTSTAMP:20260425T215046
CREATED:20250726T014115Z
LAST-MODIFIED:20250726T014115Z
UID:54923-1828687500-1828691100@www.mindbodysolutions.org
SUMMARY:Live Support
DESCRIPTION:Office hours is a free\, drop in\, online offering where you can ask any and all questions about Mind Body Solutions’ offerings! \nHave a question about: \nZoom \nCircle \nAdditional Offerings (Book club! Chat Amongst Ourselves! Team Adaptables and more!) \nAdaptive Yoga (like what the heck is a Triangle pose anyway?!) \nPlease drop in anytime during office hours and chat with Bethany (really\, she loves to answer questions about MBS!)
URL:https://www.mindbodysolutions.org/event/live-support/2027-12-13/
CATEGORIES:General Event
LOCATION:https://us02web.zoom.us/j/83345247376
END:VEVENT
BEGIN:VEVENT
DTSTART;TZID=America/Chicago:20271220T084500
DTEND;TZID=America/Chicago:20271220T094500
DTSTAMP:20260425T215046
CREATED:20250726T014115Z
LAST-MODIFIED:20250726T014115Z
UID:55027-1829292300-1829295900@www.mindbodysolutions.org
SUMMARY:Live Support
DESCRIPTION:Office hours is a free\, drop in\, online offering where you can ask any and all questions about Mind Body Solutions’ offerings! \nHave a question about: \nZoom \nCircle \nAdditional Offerings (Book club! Chat Amongst Ourselves! Team Adaptables and more!) \nAdaptive Yoga (like what the heck is a Triangle pose anyway?!) \nPlease drop in anytime during office hours and chat with Bethany (really\, she loves to answer questions about MBS!)
URL:https://www.mindbodysolutions.org/event/live-support/2027-12-20/
CATEGORIES:General Event
LOCATION:https://us02web.zoom.us/j/83345247376
END:VEVENT
BEGIN:VEVENT
DTSTART;TZID=America/Chicago:20271227T084500
DTEND;TZID=America/Chicago:20271227T094500
DTSTAMP:20260425T215046
CREATED:20250726T014115Z
LAST-MODIFIED:20250726T014115Z
UID:55056-1829897100-1829900700@www.mindbodysolutions.org
SUMMARY:Live Support
DESCRIPTION:Office hours is a free\, drop in\, online offering where you can ask any and all questions about Mind Body Solutions’ offerings! \nHave a question about: \nZoom \nCircle \nAdditional Offerings (Book club! Chat Amongst Ourselves! Team Adaptables and more!) \nAdaptive Yoga (like what the heck is a Triangle pose anyway?!) \nPlease drop in anytime during office hours and chat with Bethany (really\, she loves to answer questions about MBS!)
URL:https://www.mindbodysolutions.org/event/live-support/2027-12-27/
CATEGORIES:General Event
LOCATION:https://us02web.zoom.us/j/83345247376
END:VEVENT
BEGIN:VEVENT
DTSTART;TZID=America/Chicago:20271229T130000
DTEND;TZID=America/Chicago:20271229T143000
DTSTAMP:20260425T215046
CREATED:20250303T205054Z
LAST-MODIFIED:20250303T205054Z
UID:55324-1830085200-1830090600@www.mindbodysolutions.org
SUMMARY:Chat Amongst Ourselves - Monthly Meet Up
DESCRIPTION:Grab a cuppa and join us for a light-hearted chat. This will be a low-key\, safe space where we can hang out and find our own voice. It’s an opportunity for us to keep each other company and talk all things disability and yoga. Contribute as much or as little as you like —  no pressure here. No yoga or disability know-how is required\, all we ask is you be your perfectly imperfect self!  Let’s bridge the gap between yoga and community in this new zoom room\, just for us!
URL:https://www.mindbodysolutions.org/event/chat-amongst-ourselves-monthly-meet-up/2027-12-29/
CATEGORIES:General Event
ATTACH;FMTTYPE=image/png:https://www.mindbodysolutions.org/wp-content/uploads/2024/03/Chat-Amongst-logo-final-600-x-300-px-e1718280337409.png
END:VEVENT
BEGIN:VEVENT
DTSTART;TZID=America/Chicago:20280103T084500
DTEND;TZID=America/Chicago:20280103T094500
DTSTAMP:20260425T215046
CREATED:20250726T014115Z
LAST-MODIFIED:20250726T014115Z
UID:55080-1830501900-1830505500@www.mindbodysolutions.org
SUMMARY:Live Support
DESCRIPTION:Office hours is a free\, drop in\, online offering where you can ask any and all questions about Mind Body Solutions’ offerings! \nHave a question about: \nZoom \nCircle \nAdditional Offerings (Book club! Chat Amongst Ourselves! Team Adaptables and more!) \nAdaptive Yoga (like what the heck is a Triangle pose anyway?!) \nPlease drop in anytime during office hours and chat with Bethany (really\, she loves to answer questions about MBS!)
URL:https://www.mindbodysolutions.org/event/live-support/2028-01-03/
CATEGORIES:General Event
LOCATION:https://us02web.zoom.us/j/83345247376
END:VEVENT
BEGIN:VEVENT
DTSTART;TZID=America/Chicago:20280110T084500
DTEND;TZID=America/Chicago:20280110T094500
DTSTAMP:20260425T215046
CREATED:20250726T014115Z
LAST-MODIFIED:20250726T014115Z
UID:55136-1831106700-1831110300@www.mindbodysolutions.org
SUMMARY:Live Support
DESCRIPTION:Office hours is a free\, drop in\, online offering where you can ask any and all questions about Mind Body Solutions’ offerings! \nHave a question about: \nZoom \nCircle \nAdditional Offerings (Book club! Chat Amongst Ourselves! Team Adaptables and more!) \nAdaptive Yoga (like what the heck is a Triangle pose anyway?!) \nPlease drop in anytime during office hours and chat with Bethany (really\, she loves to answer questions about MBS!)
URL:https://www.mindbodysolutions.org/event/live-support/2028-01-10/
CATEGORIES:General Event
LOCATION:https://us02web.zoom.us/j/83345247376
END:VEVENT
BEGIN:VEVENT
DTSTART;TZID=America/Chicago:20280117T084500
DTEND;TZID=America/Chicago:20280117T094500
DTSTAMP:20260425T215046
CREATED:20250726T014115Z
LAST-MODIFIED:20250726T014115Z
UID:55206-1831711500-1831715100@www.mindbodysolutions.org
SUMMARY:Live Support
DESCRIPTION:Office hours is a free\, drop in\, online offering where you can ask any and all questions about Mind Body Solutions’ offerings! \nHave a question about: \nZoom \nCircle \nAdditional Offerings (Book club! Chat Amongst Ourselves! Team Adaptables and more!) \nAdaptive Yoga (like what the heck is a Triangle pose anyway?!) \nPlease drop in anytime during office hours and chat with Bethany (really\, she loves to answer questions about MBS!)
URL:https://www.mindbodysolutions.org/event/live-support/2028-01-17/
CATEGORIES:General Event
LOCATION:https://us02web.zoom.us/j/83345247376
END:VEVENT
BEGIN:VEVENT
DTSTART;TZID=America/Chicago:20280124T084500
DTEND;TZID=America/Chicago:20280124T094500
DTSTAMP:20260425T215046
CREATED:20250726T014115Z
LAST-MODIFIED:20250726T014115Z
UID:55236-1832316300-1832319900@www.mindbodysolutions.org
SUMMARY:Live Support
DESCRIPTION:Office hours is a free\, drop in\, online offering where you can ask any and all questions about Mind Body Solutions’ offerings! \nHave a question about: \nZoom \nCircle \nAdditional Offerings (Book club! Chat Amongst Ourselves! Team Adaptables and more!) \nAdaptive Yoga (like what the heck is a Triangle pose anyway?!) \nPlease drop in anytime during office hours and chat with Bethany (really\, she loves to answer questions about MBS!)
URL:https://www.mindbodysolutions.org/event/live-support/2028-01-24/
CATEGORIES:General Event
LOCATION:https://us02web.zoom.us/j/83345247376
END:VEVENT
BEGIN:VEVENT
DTSTART;TZID=America/Chicago:20280131T084500
DTEND;TZID=America/Chicago:20280131T094500
DTSTAMP:20260425T215046
CREATED:20250726T014115Z
LAST-MODIFIED:20250726T014115Z
UID:55287-1832921100-1832924700@www.mindbodysolutions.org
SUMMARY:Live Support
DESCRIPTION:Office hours is a free\, drop in\, online offering where you can ask any and all questions about Mind Body Solutions’ offerings! \nHave a question about: \nZoom \nCircle \nAdditional Offerings (Book club! Chat Amongst Ourselves! Team Adaptables and more!) \nAdaptive Yoga (like what the heck is a Triangle pose anyway?!) \nPlease drop in anytime during office hours and chat with Bethany (really\, she loves to answer questions about MBS!)
URL:https://www.mindbodysolutions.org/event/live-support/2028-01-31/
CATEGORIES:General Event
LOCATION:https://us02web.zoom.us/j/83345247376
END:VEVENT
BEGIN:VEVENT
DTSTART;TZID=America/Chicago:20280207T084500
DTEND;TZID=America/Chicago:20280207T094500
DTSTAMP:20260425T215046
CREATED:20250726T014115Z
LAST-MODIFIED:20250726T014115Z
UID:55463-1833525900-1833529500@www.mindbodysolutions.org
SUMMARY:Live Support
DESCRIPTION:Office hours is a free\, drop in\, online offering where you can ask any and all questions about Mind Body Solutions’ offerings! \nHave a question about: \nZoom \nCircle \nAdditional Offerings (Book club! Chat Amongst Ourselves! Team Adaptables and more!) \nAdaptive Yoga (like what the heck is a Triangle pose anyway?!) \nPlease drop in anytime during office hours and chat with Bethany (really\, she loves to answer questions about MBS!)
URL:https://www.mindbodysolutions.org/event/live-support/2028-02-07/
CATEGORIES:General Event
LOCATION:https://us02web.zoom.us/j/83345247376
END:VEVENT
BEGIN:VEVENT
DTSTART;TZID=America/Chicago:20280214T084500
DTEND;TZID=America/Chicago:20280214T094500
DTSTAMP:20260425T215046
CREATED:20250726T014115Z
LAST-MODIFIED:20250726T014115Z
UID:55512-1834130700-1834134300@www.mindbodysolutions.org
SUMMARY:Live Support
DESCRIPTION:Office hours is a free\, drop in\, online offering where you can ask any and all questions about Mind Body Solutions’ offerings! \nHave a question about: \nZoom \nCircle \nAdditional Offerings (Book club! Chat Amongst Ourselves! Team Adaptables and more!) \nAdaptive Yoga (like what the heck is a Triangle pose anyway?!) \nPlease drop in anytime during office hours and chat with Bethany (really\, she loves to answer questions about MBS!)
URL:https://www.mindbodysolutions.org/event/live-support/2028-02-14/
CATEGORIES:General Event
LOCATION:https://us02web.zoom.us/j/83345247376
END:VEVENT
BEGIN:VEVENT
DTSTART;TZID=America/Chicago:20280221T084500
DTEND;TZID=America/Chicago:20280221T094500
DTSTAMP:20260425T215046
CREATED:20250726T014115Z
LAST-MODIFIED:20250726T014115Z
UID:58488-1834735500-1834739100@www.mindbodysolutions.org
SUMMARY:Live Support
DESCRIPTION:Office hours is a free\, drop in\, online offering where you can ask any and all questions about Mind Body Solutions’ offerings! \nHave a question about: \nZoom \nCircle \nAdditional Offerings (Book club! Chat Amongst Ourselves! Team Adaptables and more!) \nAdaptive Yoga (like what the heck is a Triangle pose anyway?!) \nPlease drop in anytime during office hours and chat with Bethany (really\, she loves to answer questions about MBS!)
URL:https://www.mindbodysolutions.org/event/live-support/2028-02-21/
CATEGORIES:General Event
LOCATION:https://us02web.zoom.us/j/83345247376
END:VEVENT
BEGIN:VEVENT
DTSTART;TZID=America/Chicago:20280228T084500
DTEND;TZID=America/Chicago:20280228T094500
DTSTAMP:20260425T215046
CREATED:20250726T014115Z
LAST-MODIFIED:20250726T014115Z
UID:58564-1835340300-1835343900@www.mindbodysolutions.org
SUMMARY:Live Support
DESCRIPTION:Office hours is a free\, drop in\, online offering where you can ask any and all questions about Mind Body Solutions’ offerings! \nHave a question about: \nZoom \nCircle \nAdditional Offerings (Book club! Chat Amongst Ourselves! Team Adaptables and more!) \nAdaptive Yoga (like what the heck is a Triangle pose anyway?!) \nPlease drop in anytime during office hours and chat with Bethany (really\, she loves to answer questions about MBS!)
URL:https://www.mindbodysolutions.org/event/live-support/2028-02-28/
CATEGORIES:General Event
LOCATION:https://us02web.zoom.us/j/83345247376
END:VEVENT
BEGIN:VEVENT
DTSTART;TZID=America/Chicago:20280306T084500
DTEND;TZID=America/Chicago:20280306T094500
DTSTAMP:20260425T215046
CREATED:20250726T014115Z
LAST-MODIFIED:20250726T014115Z
UID:58637-1835945100-1835948700@www.mindbodysolutions.org
SUMMARY:Live Support
DESCRIPTION:Office hours is a free\, drop in\, online offering where you can ask any and all questions about Mind Body Solutions’ offerings! \nHave a question about: \nZoom \nCircle \nAdditional Offerings (Book club! Chat Amongst Ourselves! Team Adaptables and more!) \nAdaptive Yoga (like what the heck is a Triangle pose anyway?!) \nPlease drop in anytime during office hours and chat with Bethany (really\, she loves to answer questions about MBS!)
URL:https://www.mindbodysolutions.org/event/live-support/2028-03-06/
CATEGORIES:General Event
LOCATION:https://us02web.zoom.us/j/83345247376
END:VEVENT
END:VCALENDAR