BEGIN:VCALENDAR
VERSION:2.0
PRODID:-//Mind Body Solutions - ECPv6.15.20//NONSGML v1.0//EN
CALSCALE:GREGORIAN
METHOD:PUBLISH
X-WR-CALNAME:Mind Body Solutions
X-ORIGINAL-URL:https://www.mindbodysolutions.org
X-WR-CALDESC:Events for Mind Body Solutions
REFRESH-INTERVAL;VALUE=DURATION:PT1H
X-Robots-Tag:noindex
X-PUBLISHED-TTL:PT1H
BEGIN:VTIMEZONE
TZID:America/Chicago
BEGIN:DAYLIGHT
TZOFFSETFROM:-0600
TZOFFSETTO:-0500
TZNAME:CDT
DTSTART:20240310T080000
END:DAYLIGHT
BEGIN:STANDARD
TZOFFSETFROM:-0500
TZOFFSETTO:-0600
TZNAME:CST
DTSTART:20241103T070000
END:STANDARD
BEGIN:DAYLIGHT
TZOFFSETFROM:-0600
TZOFFSETTO:-0500
TZNAME:CDT
DTSTART:20250309T080000
END:DAYLIGHT
BEGIN:STANDARD
TZOFFSETFROM:-0500
TZOFFSETTO:-0600
TZNAME:CST
DTSTART:20251102T070000
END:STANDARD
BEGIN:DAYLIGHT
TZOFFSETFROM:-0600
TZOFFSETTO:-0500
TZNAME:CDT
DTSTART:20260308T080000
END:DAYLIGHT
BEGIN:STANDARD
TZOFFSETFROM:-0500
TZOFFSETTO:-0600
TZNAME:CST
DTSTART:20261101T070000
END:STANDARD
END:VTIMEZONE
BEGIN:VEVENT
DTSTART;TZID=America/Chicago:20250901T084500
DTEND;TZID=America/Chicago:20250901T094500
DTSTAMP:20260425T102723
CREATED:20250726T014119Z
LAST-MODIFIED:20250726T014119Z
UID:53315-1756716300-1756719900@www.mindbodysolutions.org
SUMMARY:Live Support
DESCRIPTION:Office hours is a free\, drop in\, online offering where you can ask any and all questions about Mind Body Solutions’ offerings! \nHave a question about: \nZoom \nCircle \nAdditional Offerings (Book club! Chat Amongst Ourselves! Team Adaptables and more!) \nAdaptive Yoga (like what the heck is a Triangle pose anyway?!) \nPlease drop in anytime during office hours and chat with Bethany (really\, she loves to answer questions about MBS!)
URL:https://www.mindbodysolutions.org/event/live-support/2025-09-01/
CATEGORIES:General Event
LOCATION:https://us02web.zoom.us/j/83345247376
END:VEVENT
BEGIN:VEVENT
DTSTART;TZID=America/Chicago:20250830T113000
DTEND;TZID=America/Chicago:20250830T124500
DTSTAMP:20260425T102723
CREATED:20250728T143905Z
LAST-MODIFIED:20250728T143905Z
UID:51348-1756553400-1756557900@www.mindbodysolutions.org
SUMMARY:Mind Body Reads Book Club - August 2025
DESCRIPTION:Sharing humanity through literature \nThis is a free and welcoming space where stories deepen the connections within and among us. Whether you have read some\, all or none of the book\, we welcome everyone to join us each month to explore\, together. \nAugust 30\, 2025 | 11:30-12:45 PM Central Time\nAll the Light We Cannot See by Anthony Doerr \nQuestions? Email: Bethany@mindbodysolutions.org
URL:https://www.mindbodysolutions.org/event/mind-body-reads-book-club-august-2025/
CATEGORIES:General Event
ATTACH;FMTTYPE=image/png:https://www.mindbodysolutions.org/wp-content/uploads/2024/03/MBS-reads-for-website-e1718280301871.png
LOCATION:https://us02web.zoom.us/j/87607239839
END:VEVENT
BEGIN:VEVENT
DTSTART;TZID=America/Chicago:20250825T084500
DTEND;TZID=America/Chicago:20250825T094500
DTSTAMP:20260425T102723
CREATED:20250726T014118Z
LAST-MODIFIED:20250726T014118Z
UID:53314-1756111500-1756115100@www.mindbodysolutions.org
SUMMARY:Live Support
DESCRIPTION:Office hours is a free\, drop in\, online offering where you can ask any and all questions about Mind Body Solutions’ offerings! \nHave a question about: \nZoom \nCircle \nAdditional Offerings (Book club! Chat Amongst Ourselves! Team Adaptables and more!) \nAdaptive Yoga (like what the heck is a Triangle pose anyway?!) \nPlease drop in anytime during office hours and chat with Bethany (really\, she loves to answer questions about MBS!)
URL:https://www.mindbodysolutions.org/event/live-support/2025-08-25/
CATEGORIES:General Event
LOCATION:https://us02web.zoom.us/j/83345247376
END:VEVENT
BEGIN:VEVENT
DTSTART;TZID=America/Chicago:20250820T130000
DTEND;TZID=America/Chicago:20250820T133000
DTSTAMP:20260425T102723
CREATED:20240318T195533Z
LAST-MODIFIED:20250709T171201Z
UID:48283-1755694800-1755696600@www.mindbodysolutions.org
SUMMARY:Team Adaptables - Practice Huddle
DESCRIPTION:Join us for the Team Huddle; a student-led 10-minute mind-body practice! \n 
URL:https://www.mindbodysolutions.org/event/team-adaptables-practice-huddle/2025-08-20/
CATEGORIES:General Event
ATTACH;FMTTYPE=image/png:https://www.mindbodysolutions.org/wp-content/uploads/2023/06/Team-Adaptables-for-Calendar-1.png
LOCATION:https://us02web.zoom.us/j/82187740939
END:VEVENT
BEGIN:VEVENT
DTSTART;TZID=America/Chicago:20250818T084500
DTEND;TZID=America/Chicago:20250818T094500
DTSTAMP:20260425T102723
CREATED:20250726T014118Z
LAST-MODIFIED:20250726T014118Z
UID:53313-1755506700-1755510300@www.mindbodysolutions.org
SUMMARY:Live Support
DESCRIPTION:Office hours is a free\, drop in\, online offering where you can ask any and all questions about Mind Body Solutions’ offerings! \nHave a question about: \nZoom \nCircle \nAdditional Offerings (Book club! Chat Amongst Ourselves! Team Adaptables and more!) \nAdaptive Yoga (like what the heck is a Triangle pose anyway?!) \nPlease drop in anytime during office hours and chat with Bethany (really\, she loves to answer questions about MBS!)
URL:https://www.mindbodysolutions.org/event/live-support/2025-08-18/
CATEGORIES:General Event
LOCATION:https://us02web.zoom.us/j/83345247376
END:VEVENT
BEGIN:VEVENT
DTSTART;TZID=America/Chicago:20250814T120000
DTEND;TZID=America/Chicago:20250814T130000
DTSTAMP:20260425T102723
CREATED:20250205T004717Z
LAST-MODIFIED:20250205T010656Z
UID:51271-1755172800-1755176400@www.mindbodysolutions.org
SUMMARY:2025 Sandbox Session #7
DESCRIPTION:Students often report that they have a profound disconnect from the sensation of rhythm in their lives. Let’s exchange mini-practices\, sequences and ideas on integrating rhythm and tempo into our teaching.
URL:https://www.mindbodysolutions.org/event/2025-sandbox-session-7/
CATEGORIES:General Event
ATTACH;FMTTYPE=image/png:https://www.mindbodysolutions.org/wp-content/uploads/2025/01/Website-graphic.png
LOCATION:https://us02web.zoom.us/j/84168272081?pwd=MDhYamhvNUpXckswUjQyYUxHRTUwQT09
END:VEVENT
BEGIN:VEVENT
DTSTART;TZID=America/Chicago:20250811T084500
DTEND;TZID=America/Chicago:20250811T094500
DTSTAMP:20260425T102723
CREATED:20250726T014117Z
LAST-MODIFIED:20250726T014117Z
UID:53312-1754901900-1754905500@www.mindbodysolutions.org
SUMMARY:Live Support
DESCRIPTION:Office hours is a free\, drop in\, online offering where you can ask any and all questions about Mind Body Solutions’ offerings! \nHave a question about: \nZoom \nCircle \nAdditional Offerings (Book club! Chat Amongst Ourselves! Team Adaptables and more!) \nAdaptive Yoga (like what the heck is a Triangle pose anyway?!) \nPlease drop in anytime during office hours and chat with Bethany (really\, she loves to answer questions about MBS!)
URL:https://www.mindbodysolutions.org/event/live-support/2025-08-11/
CATEGORIES:General Event
LOCATION:https://us02web.zoom.us/j/83345247376
END:VEVENT
BEGIN:VEVENT
DTSTART;TZID=America/Chicago:20250806T130000
DTEND;TZID=America/Chicago:20250806T140000
DTSTAMP:20260425T102723
CREATED:20240318T195219Z
LAST-MODIFIED:20250904T172807Z
UID:47155-1754485200-1754488800@www.mindbodysolutions.org
SUMMARY:Team Adaptables - Monthly Meeting
DESCRIPTION:We are a team of superheroes who identify living with a disability as a fundamental feature of their lives. We believe that DISability does not mean UNability\, but rather\, it is ability that has traveled through the worlds of shadow and reflection. We believe that disability creates wisdom and needs to be shared. \nWe meet virtually on the first Wednesday of every month for a content-rich hour at 1 pm Central time. Registered students will receive a zoom link an hour before each meeting. \nWe laugh\, tell stories\, share yoga\, and support each other.  We create content and conversation that are centered around the real experience of disability.  We create learning\, growing\, and healing opportunities for each other and sometimes for the world at large. \n 
URL:https://www.mindbodysolutions.org/event/team-adaptables-monthly-meeting-2/2025-08-06/
CATEGORIES:General Event
ATTACH;FMTTYPE=image/png:https://www.mindbodysolutions.org/wp-content/uploads/2023/06/Team-Adaptables-for-Calendar.png
END:VEVENT
BEGIN:VEVENT
DTSTART;TZID=America/Chicago:20250804T084500
DTEND;TZID=America/Chicago:20250804T094500
DTSTAMP:20260425T102723
CREATED:20250726T014117Z
LAST-MODIFIED:20250726T014117Z
UID:53311-1754297100-1754300700@www.mindbodysolutions.org
SUMMARY:Live Support
DESCRIPTION:Office hours is a free\, drop in\, online offering where you can ask any and all questions about Mind Body Solutions’ offerings! \nHave a question about: \nZoom \nCircle \nAdditional Offerings (Book club! Chat Amongst Ourselves! Team Adaptables and more!) \nAdaptive Yoga (like what the heck is a Triangle pose anyway?!) \nPlease drop in anytime during office hours and chat with Bethany (really\, she loves to answer questions about MBS!)
URL:https://www.mindbodysolutions.org/event/live-support/2025-08-04/
CATEGORIES:General Event
LOCATION:https://us02web.zoom.us/j/83345247376
END:VEVENT
BEGIN:VEVENT
DTSTART;TZID=America/Chicago:20250728T084500
DTEND;TZID=America/Chicago:20250728T094500
DTSTAMP:20260425T102723
CREATED:20250726T014116Z
LAST-MODIFIED:20250726T014116Z
UID:53310-1753692300-1753695900@www.mindbodysolutions.org
SUMMARY:Live Support
DESCRIPTION:Office hours is a free\, drop in\, online offering where you can ask any and all questions about Mind Body Solutions’ offerings! \nHave a question about: \nZoom \nCircle \nAdditional Offerings (Book club! Chat Amongst Ourselves! Team Adaptables and more!) \nAdaptive Yoga (like what the heck is a Triangle pose anyway?!) \nPlease drop in anytime during office hours and chat with Bethany (really\, she loves to answer questions about MBS!)
URL:https://www.mindbodysolutions.org/event/live-support/2025-07-28/
CATEGORIES:General Event
LOCATION:https://us02web.zoom.us/j/83345247376
END:VEVENT
BEGIN:VEVENT
DTSTART;TZID=America/Chicago:20250723T130000
DTEND;TZID=America/Chicago:20250723T133000
DTSTAMP:20260425T102723
CREATED:20250709T171346Z
LAST-MODIFIED:20250904T172045Z
UID:53541-1753275600-1753277400@www.mindbodysolutions.org
SUMMARY:Team Adaptables - Practice Huddle
DESCRIPTION:Join us for the Team Huddle; a student-led 10-minute mind-body practice!
URL:https://www.mindbodysolutions.org/event/team-adaptables-practice-huddle-3/
CATEGORIES:General Event
ATTACH;FMTTYPE=image/png:https://www.mindbodysolutions.org/wp-content/uploads/2023/06/Team-Huddle-Thumbnail.png
END:VEVENT
BEGIN:VEVENT
DTSTART;TZID=America/Chicago:20250721T084500
DTEND;TZID=America/Chicago:20250721T094500
DTSTAMP:20260425T102723
CREATED:20250726T014115Z
LAST-MODIFIED:20250726T014115Z
UID:53304-1753087500-1753091100@www.mindbodysolutions.org
SUMMARY:Live Support
DESCRIPTION:Office hours is a free\, drop in\, online offering where you can ask any and all questions about Mind Body Solutions’ offerings! \nHave a question about: \nZoom \nCircle \nAdditional Offerings (Book club! Chat Amongst Ourselves! Team Adaptables and more!) \nAdaptive Yoga (like what the heck is a Triangle pose anyway?!) \nPlease drop in anytime during office hours and chat with Bethany (really\, she loves to answer questions about MBS!)
URL:https://www.mindbodysolutions.org/event/live-support/2025-07-21/
CATEGORIES:General Event
LOCATION:https://us02web.zoom.us/j/83345247376
END:VEVENT
BEGIN:VEVENT
DTSTART;TZID=America/Chicago:20250710T120000
DTEND;TZID=America/Chicago:20250710T130000
DTSTAMP:20260425T102723
CREATED:20250205T004455Z
LAST-MODIFIED:20250205T004455Z
UID:51266-1752148800-1752152400@www.mindbodysolutions.org
SUMMARY:2025 Sandbox Session #6
DESCRIPTION:Often our students get through their days and their practices by sheer force of will and fierce demands on their senses. We will practice softening the organs of perception\, relaxing the senses so that movement can originate from a place of integrity and relief instead of exertion and will.
URL:https://www.mindbodysolutions.org/event/2025-sandbox-session-6/
CATEGORIES:General Event
ATTACH;FMTTYPE=image/png:https://www.mindbodysolutions.org/wp-content/uploads/2025/01/Website-graphic.png
LOCATION:https://us02web.zoom.us/j/84168272081?pwd=MDhYamhvNUpXckswUjQyYUxHRTUwQT09
END:VEVENT
BEGIN:VEVENT
DTSTART;TZID=America/Chicago:20250702T130000
DTEND;TZID=America/Chicago:20250702T140000
DTSTAMP:20260425T102723
CREATED:20240318T195219Z
LAST-MODIFIED:20250904T172806Z
UID:47154-1751461200-1751464800@www.mindbodysolutions.org
SUMMARY:Team Adaptables - Monthly Meeting
DESCRIPTION:We are a team of superheroes who identify living with a disability as a fundamental feature of their lives. We believe that DISability does not mean UNability\, but rather\, it is ability that has traveled through the worlds of shadow and reflection. We believe that disability creates wisdom and needs to be shared. \nWe meet virtually on the first Wednesday of every month for a content-rich hour at 1 pm Central time. Registered students will receive a zoom link an hour before each meeting. \nWe laugh\, tell stories\, share yoga\, and support each other.  We create content and conversation that are centered around the real experience of disability.  We create learning\, growing\, and healing opportunities for each other and sometimes for the world at large. \n 
URL:https://www.mindbodysolutions.org/event/team-adaptables-monthly-meeting-2/2025-07-02/
CATEGORIES:General Event
ATTACH;FMTTYPE=image/png:https://www.mindbodysolutions.org/wp-content/uploads/2023/06/Team-Adaptables-for-Calendar.png
END:VEVENT
BEGIN:VEVENT
DTSTART;TZID=America/Chicago:20250628T113000
DTEND;TZID=America/Chicago:20250628T124500
DTSTAMP:20260425T102723
CREATED:20250527T142258Z
LAST-MODIFIED:20250527T142258Z
UID:51216-1751110200-1751114700@www.mindbodysolutions.org
SUMMARY:Mind Body Reads Book Club - June 2025
DESCRIPTION:Sharing humanity through literature \nThis is a free and welcoming space where stories deepen the connections within and among us. Whether you have read some\, all or none of the book\, we welcome everyone to join us each month to explore\, together. \nJune 28\, 2025 | 11:30-12:45 PM Central Time\nThe Spirit Catches You and You Fall Down by Anne Fadiman \nQuestions? Email: Bethany@mindbodysolutions.org
URL:https://www.mindbodysolutions.org/event/mind-body-reads-book-club-june-2025/
CATEGORIES:General Event
ATTACH;FMTTYPE=image/png:https://www.mindbodysolutions.org/wp-content/uploads/2024/03/MBS-reads-for-website-e1718280301871.png
LOCATION:https://us02web.zoom.us/j/87607239839
END:VEVENT
BEGIN:VEVENT
DTSTART;TZID=America/Chicago:20250618T130000
DTEND;TZID=America/Chicago:20250618T133000
DTSTAMP:20260425T102723
CREATED:20240318T195533Z
LAST-MODIFIED:20250709T171201Z
UID:48281-1750251600-1750253400@www.mindbodysolutions.org
SUMMARY:Team Adaptables - Practice Huddle
DESCRIPTION:Join us for the Team Huddle; a student-led 10-minute mind-body practice! \n 
URL:https://www.mindbodysolutions.org/event/team-adaptables-practice-huddle/2025-06-18/
CATEGORIES:General Event
ATTACH;FMTTYPE=image/png:https://www.mindbodysolutions.org/wp-content/uploads/2023/06/Team-Adaptables-for-Calendar-1.png
LOCATION:https://us02web.zoom.us/j/82187740939
END:VEVENT
BEGIN:VEVENT
DTSTART;TZID=America/Chicago:20250612T120000
DTEND;TZID=America/Chicago:20250612T130000
DTSTAMP:20260425T102723
CREATED:20250205T004048Z
LAST-MODIFIED:20250205T004317Z
UID:51263-1749729600-1749733200@www.mindbodysolutions.org
SUMMARY:2025 Sandbox Session #5
DESCRIPTION:How do you teach a sense of balance in a class of students who bring widely diverse physical and intangible experiences to the mat\, the chair\, the bed? We will share mini-practices and sequences focused on how to convey balance as a unifying sensation. 
URL:https://www.mindbodysolutions.org/event/2025-sandbox-session-5/
CATEGORIES:General Event
ATTACH;FMTTYPE=image/png:https://www.mindbodysolutions.org/wp-content/uploads/2025/01/Website-graphic.png
LOCATION:https://us02web.zoom.us/j/84168272081?pwd=MDhYamhvNUpXckswUjQyYUxHRTUwQT09
END:VEVENT
BEGIN:VEVENT
DTSTART;TZID=America/Chicago:20250604T130000
DTEND;TZID=America/Chicago:20250604T140000
DTSTAMP:20260425T102723
CREATED:20240318T195219Z
LAST-MODIFIED:20250904T172806Z
UID:47153-1749042000-1749045600@www.mindbodysolutions.org
SUMMARY:Team Adaptables - Monthly Meeting
DESCRIPTION:We are a team of superheroes who identify living with a disability as a fundamental feature of their lives. We believe that DISability does not mean UNability\, but rather\, it is ability that has traveled through the worlds of shadow and reflection. We believe that disability creates wisdom and needs to be shared. \nWe meet virtually on the first Wednesday of every month for a content-rich hour at 1 pm Central time. Registered students will receive a zoom link an hour before each meeting. \nWe laugh\, tell stories\, share yoga\, and support each other.  We create content and conversation that are centered around the real experience of disability.  We create learning\, growing\, and healing opportunities for each other and sometimes for the world at large. \n 
URL:https://www.mindbodysolutions.org/event/team-adaptables-monthly-meeting-2/2025-06-04/
CATEGORIES:General Event
ATTACH;FMTTYPE=image/png:https://www.mindbodysolutions.org/wp-content/uploads/2023/06/Team-Adaptables-for-Calendar.png
END:VEVENT
BEGIN:VEVENT
DTSTART;TZID=America/Chicago:20250524T113000
DTEND;TZID=America/Chicago:20250524T124500
DTSTAMP:20260425T102723
CREATED:20250421T134733Z
LAST-MODIFIED:20250421T134733Z
UID:51213-1748086200-1748090700@www.mindbodysolutions.org
SUMMARY:Mind Body Reads Book Club - May 2025
DESCRIPTION:Sharing humanity through literature \nThis is a free and welcoming space where stories deepen the connections within and among us. Whether you have read some\, all or none of the book\, we welcome everyone to join us each month to explore\, together. \nMay 24\, 2025 | 11:30-12:45 PM Central Time\nOn Muscle by Bonnie Tsui \nQuestions? Email: Bethany@mindbodysolutions.org
URL:https://www.mindbodysolutions.org/event/mind-body-reads-book-club-may-2025/
CATEGORIES:General Event
ATTACH;FMTTYPE=image/png:https://www.mindbodysolutions.org/wp-content/uploads/2024/03/MBS-reads-for-website-e1718280301871.png
ORGANIZER;CN="Mind Body Solutions":MAILTO:info@mindbodysolutions.org
LOCATION:https://us02web.zoom.us/j/87607239839
END:VEVENT
BEGIN:VEVENT
DTSTART;TZID=America/Chicago:20250521T110000
DTEND;TZID=America/Chicago:20250521T123000
DTSTAMP:20260425T102723
CREATED:20250227T185416Z
LAST-MODIFIED:20250430T161344Z
UID:51617-1747825200-1747830600@www.mindbodysolutions.org
SUMMARY:2025 Yoga\, Disability and Transformation Session Two - Muscle Magic
DESCRIPTION:Best-selling author Bonnie Tsui joins our MBS adaptive community to discuss her newly released book\, “OnMuscle: The Stuff That Moves Us and Why It Matters.” Matthew and Bonnie’s conversation will put the magic of muscle into the context of trauma\, loss\, and disability. Bonnie’s descriptive exploration of muscle – scientific\, story-driven\, and thought provoking – also includes discussing Matthew’s work and MBS. Such inclusion points to the breadth and intrigue of her amazing treatment of the subject. There will also be  time for Q&A and a shared practice highlighting the relationship between muscles and bones.
URL:https://www.mindbodysolutions.org/event/2025-yoga-disability-and-transformation-session-2/
CATEGORIES:General Event
ATTACH;FMTTYPE=image/png:https://www.mindbodysolutions.org/wp-content/uploads/2025/02/Copy-of-yoga-disability-and-transformation-600-x-300-px.png
LOCATION:https://us02web.zoom.us/j/81400279385?pwd=VzZaQ1RlOWhHYXBiV01Eb2U2TGFmdz09
END:VEVENT
BEGIN:VEVENT
DTSTART;TZID=America/Chicago:20250508T120000
DTEND;TZID=America/Chicago:20250508T130000
DTSTAMP:20260425T102723
CREATED:20250205T004008Z
LAST-MODIFIED:20250205T004008Z
UID:51258-1746705600-1746709200@www.mindbodysolutions.org
SUMMARY:2025 Sandbox Session #4
DESCRIPTION:Attention to the spine and the subtle body is central to our teaching at Mind Body Solutions. This month\, we will challenge ourselves to continue finding ways to illuminate these foundational principles for our students.
URL:https://www.mindbodysolutions.org/event/2025-sandbox-session-4/
CATEGORIES:General Event
ATTACH;FMTTYPE=image/png:https://www.mindbodysolutions.org/wp-content/uploads/2025/01/Website-graphic.png
LOCATION:https://us02web.zoom.us/j/84168272081?pwd=MDhYamhvNUpXckswUjQyYUxHRTUwQT09
END:VEVENT
BEGIN:VEVENT
DTSTART;TZID=America/Chicago:20250507T130000
DTEND;TZID=America/Chicago:20250507T140000
DTSTAMP:20260425T102723
CREATED:20240318T195219Z
LAST-MODIFIED:20250904T172805Z
UID:47152-1746622800-1746626400@www.mindbodysolutions.org
SUMMARY:Team Adaptables - Monthly Meeting
DESCRIPTION:We are a team of superheroes who identify living with a disability as a fundamental feature of their lives. We believe that DISability does not mean UNability\, but rather\, it is ability that has traveled through the worlds of shadow and reflection. We believe that disability creates wisdom and needs to be shared. \nWe meet virtually on the first Wednesday of every month for a content-rich hour at 1 pm Central time. Registered students will receive a zoom link an hour before each meeting. \nWe laugh\, tell stories\, share yoga\, and support each other.  We create content and conversation that are centered around the real experience of disability.  We create learning\, growing\, and healing opportunities for each other and sometimes for the world at large. \n 
URL:https://www.mindbodysolutions.org/event/team-adaptables-monthly-meeting-2/2025-05-07/
CATEGORIES:General Event
ATTACH;FMTTYPE=image/png:https://www.mindbodysolutions.org/wp-content/uploads/2023/06/Team-Adaptables-for-Calendar.png
END:VEVENT
BEGIN:VEVENT
DTSTART;TZID=America/Chicago:20250426T113000
DTEND;TZID=America/Chicago:20250426T124500
DTSTAMP:20260425T102723
CREATED:20250303T204404Z
LAST-MODIFIED:20250307T154413Z
UID:51207-1745667000-1745671500@www.mindbodysolutions.org
SUMMARY:Mind Body Reads Book Club - April 2025
DESCRIPTION:Sharing humanity through literature \nThis is a free and welcoming space where stories deepen the connections within and among us. Whether you have read some\, all or none of the book\, we welcome everyone to join us each month to explore\, together. \nApril 26\, 2025 | 11:30-12:45 PM Central Time\nJames by Percival Everett \nQuestions? Email: Bethany@mindbodysolutions.org
URL:https://www.mindbodysolutions.org/event/mind-body-reads-book-club-april-2025/
CATEGORIES:General Event
ATTACH;FMTTYPE=image/png:https://www.mindbodysolutions.org/wp-content/uploads/2024/03/MBS-reads-for-website-e1718280301871.png
ORGANIZER;CN="Mind Body Solutions":MAILTO:info@mindbodysolutions.org
LOCATION:https://us02web.zoom.us/j/87607239839
END:VEVENT
BEGIN:VEVENT
DTSTART;TZID=America/Chicago:20250419T100000
DTEND;TZID=America/Chicago:20250419T113000
DTSTAMP:20260425T102723
CREATED:20250324T131136Z
LAST-MODIFIED:20250324T131136Z
UID:52049-1745056800-1745062200@www.mindbodysolutions.org
SUMMARY:12th Annual Kiss My Asana Yogathon - Kickoff!
DESCRIPTION:Come feel the goodness of Mind Body Solutions. Through conversation and story\, through movement and practice\, in mind and body. Meet the students and feel how yoga and community is making a difference in people’s lives\, everyday. \n\nWhere: Live on ZOOM\nWhen: Saturday\, April 19\, 2025 / 10am CST\nWhat: Watch\, practice\, feel the work of Mind Body Solutions. Led by Matthew Sanford.\nWho: Open to everybody!\nWhy: To help kick off our 12th annual Yogathon\, supporting the adaptive yoga program at Mind Body Solutions.
URL:https://www.mindbodysolutions.org/event/12th-annual-kiss-my-asana-yogathon-kickoff/
CATEGORIES:General Event
ATTACH;FMTTYPE=image/png:https://www.mindbodysolutions.org/wp-content/uploads/2025/03/YOGATHON-1.png
LOCATION:https://us02web.zoom.us/j/89574701761
END:VEVENT
BEGIN:VEVENT
DTSTART;TZID=America/Chicago:20250416T130000
DTEND;TZID=America/Chicago:20250416T133000
DTSTAMP:20260425T102723
CREATED:20240318T195533Z
LAST-MODIFIED:20250709T171200Z
UID:48279-1744808400-1744810200@www.mindbodysolutions.org
SUMMARY:Team Adaptables - Practice Huddle
DESCRIPTION:Join us for the Team Huddle; a student-led 10-minute mind-body practice! \n 
URL:https://www.mindbodysolutions.org/event/team-adaptables-practice-huddle/2025-04-16/
CATEGORIES:General Event
ATTACH;FMTTYPE=image/png:https://www.mindbodysolutions.org/wp-content/uploads/2023/06/Team-Adaptables-for-Calendar-1.png
LOCATION:https://us02web.zoom.us/j/82187740939
END:VEVENT
BEGIN:VEVENT
DTSTART;TZID=America/Chicago:20250410T120000
DTEND;TZID=America/Chicago:20250410T130000
DTSTAMP:20260425T102723
CREATED:20250205T010100Z
LAST-MODIFIED:20250205T010100Z
UID:51255-1744286400-1744290000@www.mindbodysolutions.org
SUMMARY:2025 Sandbox #3
DESCRIPTION:Spring is sprung! It is a perfect time to follow nature and investigate spaciousness and expansion.  Let’s spend this month sharing sequences and ideas we can offer to encourage our students to expand into space and explore a sensation of capaciousness. 
URL:https://www.mindbodysolutions.org/event/2025-sandbox-3/
CATEGORIES:General Event
ATTACH;FMTTYPE=image/png:https://www.mindbodysolutions.org/wp-content/uploads/2025/01/Website-graphic.png
LOCATION:https://us02web.zoom.us/j/84168272081?pwd=MDhYamhvNUpXckswUjQyYUxHRTUwQT09
END:VEVENT
BEGIN:VEVENT
DTSTART;TZID=America/Chicago:20250402T130000
DTEND;TZID=America/Chicago:20250402T140000
DTSTAMP:20260425T102723
CREATED:20240318T195219Z
LAST-MODIFIED:20250904T172805Z
UID:47151-1743598800-1743602400@www.mindbodysolutions.org
SUMMARY:Team Adaptables - Monthly Meeting
DESCRIPTION:We are a team of superheroes who identify living with a disability as a fundamental feature of their lives. We believe that DISability does not mean UNability\, but rather\, it is ability that has traveled through the worlds of shadow and reflection. We believe that disability creates wisdom and needs to be shared. \nWe meet virtually on the first Wednesday of every month for a content-rich hour at 1 pm Central time. Registered students will receive a zoom link an hour before each meeting. \nWe laugh\, tell stories\, share yoga\, and support each other.  We create content and conversation that are centered around the real experience of disability.  We create learning\, growing\, and healing opportunities for each other and sometimes for the world at large. \n 
URL:https://www.mindbodysolutions.org/event/team-adaptables-monthly-meeting-2/2025-04-02/
CATEGORIES:General Event
ATTACH;FMTTYPE=image/png:https://www.mindbodysolutions.org/wp-content/uploads/2023/06/Team-Adaptables-for-Calendar.png
END:VEVENT
BEGIN:VEVENT
DTSTART;TZID=America/Chicago:20250322T113000
DTEND;TZID=America/Chicago:20250322T124500
DTSTAMP:20260425T102723
CREATED:20250303T204327Z
LAST-MODIFIED:20250307T154452Z
UID:51200-1742643000-1742647500@www.mindbodysolutions.org
SUMMARY:Mind Body Reads Book Club - March 2025
DESCRIPTION:Sharing humanity through literature \nThis is a free and welcoming space where stories deepen the connections within and among us. Whether you have read some\, all or none of the book\, we welcome everyone to join us each month to explore\, together. \nMarch 22\, 2025 | 11:30-12:45 PM Central Time\nTrue Biz by Sara Novic \nQuestions? Email: Bethany@mindbodysolutions.org \n  \n 
URL:https://www.mindbodysolutions.org/event/mind-body-reads-book-club-march-2025/
CATEGORIES:General Event
ATTACH;FMTTYPE=image/png:https://www.mindbodysolutions.org/wp-content/uploads/2024/03/MBS-reads-for-website-e1718280301871.png
LOCATION:https://us02web.zoom.us/j/87607239839
END:VEVENT
BEGIN:VEVENT
DTSTART;TZID=America/Chicago:20250319T130000
DTEND;TZID=America/Chicago:20250319T133000
DTSTAMP:20260425T102723
CREATED:20240318T195533Z
LAST-MODIFIED:20250709T171159Z
UID:48278-1742389200-1742391000@www.mindbodysolutions.org
SUMMARY:Team Adaptables - Practice Huddle
DESCRIPTION:Join us for the Team Huddle; a student-led 10-minute mind-body practice! \n 
URL:https://www.mindbodysolutions.org/event/team-adaptables-practice-huddle/2025-03-19/
CATEGORIES:General Event
ATTACH;FMTTYPE=image/png:https://www.mindbodysolutions.org/wp-content/uploads/2023/06/Team-Adaptables-for-Calendar-1.png
LOCATION:https://us02web.zoom.us/j/82187740939
END:VEVENT
BEGIN:VEVENT
DTSTART;TZID=America/Chicago:20250313T120000
DTEND;TZID=America/Chicago:20250313T130000
DTSTAMP:20260425T102723
CREATED:20250205T003144Z
LAST-MODIFIED:20250205T003340Z
UID:51252-1741867200-1741870800@www.mindbodysolutions.org
SUMMARY:2025 Sandbox #2
DESCRIPTION:Music\, candles\, poetry?  What elements like these can help support a class and when might they instead be a distraction? Let’s chat about the additional elements you may want to use in your classes. 
URL:https://www.mindbodysolutions.org/event/2025-sandbox-2/
CATEGORIES:General Event
ATTACH;FMTTYPE=image/png:https://www.mindbodysolutions.org/wp-content/uploads/2025/01/Website-graphic.png
LOCATION:https://us02web.zoom.us/j/84168272081?pwd=MDhYamhvNUpXckswUjQyYUxHRTUwQT09
END:VEVENT
END:VCALENDAR