BEGIN:VCALENDAR
VERSION:2.0
PRODID:-//Mind Body Solutions - ECPv6.15.20//NONSGML v1.0//EN
CALSCALE:GREGORIAN
METHOD:PUBLISH
X-ORIGINAL-URL:https://www.mindbodysolutions.org
X-WR-CALDESC:Events for Mind Body Solutions
REFRESH-INTERVAL;VALUE=DURATION:PT1H
X-Robots-Tag:noindex
X-PUBLISHED-TTL:PT1H
BEGIN:VTIMEZONE
TZID:America/Chicago
BEGIN:DAYLIGHT
TZOFFSETFROM:-0600
TZOFFSETTO:-0500
TZNAME:CDT
DTSTART:20270314T080000
END:DAYLIGHT
BEGIN:STANDARD
TZOFFSETFROM:-0500
TZOFFSETTO:-0600
TZNAME:CST
DTSTART:20271107T070000
END:STANDARD
BEGIN:DAYLIGHT
TZOFFSETFROM:-0600
TZOFFSETTO:-0500
TZNAME:CDT
DTSTART:20280312T080000
END:DAYLIGHT
BEGIN:STANDARD
TZOFFSETFROM:-0500
TZOFFSETTO:-0600
TZNAME:CST
DTSTART:20281105T070000
END:STANDARD
BEGIN:DAYLIGHT
TZOFFSETFROM:-0600
TZOFFSETTO:-0500
TZNAME:CDT
DTSTART:20290311T080000
END:DAYLIGHT
BEGIN:STANDARD
TZOFFSETFROM:-0500
TZOFFSETTO:-0600
TZNAME:CST
DTSTART:20291104T070000
END:STANDARD
END:VTIMEZONE
BEGIN:VEVENT
DTSTART;TZID=America/Chicago:20280214T084500
DTEND;TZID=America/Chicago:20280214T094500
DTSTAMP:20260425T224318
CREATED:20250726T014115Z
LAST-MODIFIED:20250726T014115Z
UID:55512-1834130700-1834134300@www.mindbodysolutions.org
SUMMARY:Live Support
DESCRIPTION:Office hours is a free\, drop in\, online offering where you can ask any and all questions about Mind Body Solutions’ offerings! \nHave a question about: \nZoom \nCircle \nAdditional Offerings (Book club! Chat Amongst Ourselves! Team Adaptables and more!) \nAdaptive Yoga (like what the heck is a Triangle pose anyway?!) \nPlease drop in anytime during office hours and chat with Bethany (really\, she loves to answer questions about MBS!)
URL:https://www.mindbodysolutions.org/event/live-support/2028-02-14/
CATEGORIES:General Event
LOCATION:https://us02web.zoom.us/j/83345247376
END:VEVENT
BEGIN:VEVENT
DTSTART;TZID=America/Chicago:20280221T084500
DTEND;TZID=America/Chicago:20280221T094500
DTSTAMP:20260425T224318
CREATED:20250726T014115Z
LAST-MODIFIED:20250726T014115Z
UID:58488-1834735500-1834739100@www.mindbodysolutions.org
SUMMARY:Live Support
DESCRIPTION:Office hours is a free\, drop in\, online offering where you can ask any and all questions about Mind Body Solutions’ offerings! \nHave a question about: \nZoom \nCircle \nAdditional Offerings (Book club! Chat Amongst Ourselves! Team Adaptables and more!) \nAdaptive Yoga (like what the heck is a Triangle pose anyway?!) \nPlease drop in anytime during office hours and chat with Bethany (really\, she loves to answer questions about MBS!)
URL:https://www.mindbodysolutions.org/event/live-support/2028-02-21/
CATEGORIES:General Event
LOCATION:https://us02web.zoom.us/j/83345247376
END:VEVENT
BEGIN:VEVENT
DTSTART;TZID=America/Chicago:20280228T084500
DTEND;TZID=America/Chicago:20280228T094500
DTSTAMP:20260425T224318
CREATED:20250726T014115Z
LAST-MODIFIED:20250726T014115Z
UID:58564-1835340300-1835343900@www.mindbodysolutions.org
SUMMARY:Live Support
DESCRIPTION:Office hours is a free\, drop in\, online offering where you can ask any and all questions about Mind Body Solutions’ offerings! \nHave a question about: \nZoom \nCircle \nAdditional Offerings (Book club! Chat Amongst Ourselves! Team Adaptables and more!) \nAdaptive Yoga (like what the heck is a Triangle pose anyway?!) \nPlease drop in anytime during office hours and chat with Bethany (really\, she loves to answer questions about MBS!)
URL:https://www.mindbodysolutions.org/event/live-support/2028-02-28/
CATEGORIES:General Event
LOCATION:https://us02web.zoom.us/j/83345247376
END:VEVENT
BEGIN:VEVENT
DTSTART;TZID=America/Chicago:20280306T084500
DTEND;TZID=America/Chicago:20280306T094500
DTSTAMP:20260425T224318
CREATED:20250726T014115Z
LAST-MODIFIED:20250726T014115Z
UID:58637-1835945100-1835948700@www.mindbodysolutions.org
SUMMARY:Live Support
DESCRIPTION:Office hours is a free\, drop in\, online offering where you can ask any and all questions about Mind Body Solutions’ offerings! \nHave a question about: \nZoom \nCircle \nAdditional Offerings (Book club! Chat Amongst Ourselves! Team Adaptables and more!) \nAdaptive Yoga (like what the heck is a Triangle pose anyway?!) \nPlease drop in anytime during office hours and chat with Bethany (really\, she loves to answer questions about MBS!)
URL:https://www.mindbodysolutions.org/event/live-support/2028-03-06/
CATEGORIES:General Event
LOCATION:https://us02web.zoom.us/j/83345247376
END:VEVENT
BEGIN:VEVENT
DTSTART;TZID=America/Chicago:20280313T084500
DTEND;TZID=America/Chicago:20280313T094500
DTSTAMP:20260425T224318
CREATED:20250726T014115Z
LAST-MODIFIED:20250726T014115Z
UID:58744-1836549900-1836553500@www.mindbodysolutions.org
SUMMARY:Live Support
DESCRIPTION:Office hours is a free\, drop in\, online offering where you can ask any and all questions about Mind Body Solutions’ offerings! \nHave a question about: \nZoom \nCircle \nAdditional Offerings (Book club! Chat Amongst Ourselves! Team Adaptables and more!) \nAdaptive Yoga (like what the heck is a Triangle pose anyway?!) \nPlease drop in anytime during office hours and chat with Bethany (really\, she loves to answer questions about MBS!)
URL:https://www.mindbodysolutions.org/event/live-support/2028-03-13/
CATEGORIES:General Event
LOCATION:https://us02web.zoom.us/j/83345247376
END:VEVENT
BEGIN:VEVENT
DTSTART;TZID=America/Chicago:20280320T084500
DTEND;TZID=America/Chicago:20280320T094500
DTSTAMP:20260425T224318
CREATED:20250726T014115Z
LAST-MODIFIED:20250726T014115Z
UID:58799-1837154700-1837158300@www.mindbodysolutions.org
SUMMARY:Live Support
DESCRIPTION:Office hours is a free\, drop in\, online offering where you can ask any and all questions about Mind Body Solutions’ offerings! \nHave a question about: \nZoom \nCircle \nAdditional Offerings (Book club! Chat Amongst Ourselves! Team Adaptables and more!) \nAdaptive Yoga (like what the heck is a Triangle pose anyway?!) \nPlease drop in anytime during office hours and chat with Bethany (really\, she loves to answer questions about MBS!)
URL:https://www.mindbodysolutions.org/event/live-support/2028-03-20/
CATEGORIES:General Event
LOCATION:https://us02web.zoom.us/j/83345247376
END:VEVENT
BEGIN:VEVENT
DTSTART;TZID=America/Chicago:20280327T084500
DTEND;TZID=America/Chicago:20280327T094500
DTSTAMP:20260425T224318
CREATED:20250726T014115Z
LAST-MODIFIED:20250726T014115Z
UID:58865-1837759500-1837763100@www.mindbodysolutions.org
SUMMARY:Live Support
DESCRIPTION:Office hours is a free\, drop in\, online offering where you can ask any and all questions about Mind Body Solutions’ offerings! \nHave a question about: \nZoom \nCircle \nAdditional Offerings (Book club! Chat Amongst Ourselves! Team Adaptables and more!) \nAdaptive Yoga (like what the heck is a Triangle pose anyway?!) \nPlease drop in anytime during office hours and chat with Bethany (really\, she loves to answer questions about MBS!)
URL:https://www.mindbodysolutions.org/event/live-support/2028-03-27/
CATEGORIES:General Event
LOCATION:https://us02web.zoom.us/j/83345247376
END:VEVENT
BEGIN:VEVENT
DTSTART;TZID=America/Chicago:20280403T084500
DTEND;TZID=America/Chicago:20280403T094500
DTSTAMP:20260425T224318
CREATED:20250726T014115Z
LAST-MODIFIED:20250726T014115Z
UID:58915-1838364300-1838367900@www.mindbodysolutions.org
SUMMARY:Live Support
DESCRIPTION:Office hours is a free\, drop in\, online offering where you can ask any and all questions about Mind Body Solutions’ offerings! \nHave a question about: \nZoom \nCircle \nAdditional Offerings (Book club! Chat Amongst Ourselves! Team Adaptables and more!) \nAdaptive Yoga (like what the heck is a Triangle pose anyway?!) \nPlease drop in anytime during office hours and chat with Bethany (really\, she loves to answer questions about MBS!)
URL:https://www.mindbodysolutions.org/event/live-support/2028-04-03/
CATEGORIES:General Event
LOCATION:https://us02web.zoom.us/j/83345247376
END:VEVENT
BEGIN:VEVENT
DTSTART;TZID=America/Chicago:20280410T084500
DTEND;TZID=America/Chicago:20280410T094500
DTSTAMP:20260425T224318
CREATED:20250726T014115Z
LAST-MODIFIED:20250726T014115Z
UID:58961-1838969100-1838972700@www.mindbodysolutions.org
SUMMARY:Live Support
DESCRIPTION:Office hours is a free\, drop in\, online offering where you can ask any and all questions about Mind Body Solutions’ offerings! \nHave a question about: \nZoom \nCircle \nAdditional Offerings (Book club! Chat Amongst Ourselves! Team Adaptables and more!) \nAdaptive Yoga (like what the heck is a Triangle pose anyway?!) \nPlease drop in anytime during office hours and chat with Bethany (really\, she loves to answer questions about MBS!)
URL:https://www.mindbodysolutions.org/event/live-support/2028-04-10/
CATEGORIES:General Event
LOCATION:https://us02web.zoom.us/j/83345247376
END:VEVENT
BEGIN:VEVENT
DTSTART;TZID=America/Chicago:20280417T084500
DTEND;TZID=America/Chicago:20280417T094500
DTSTAMP:20260425T224318
CREATED:20250726T014115Z
LAST-MODIFIED:20250726T014115Z
UID:59002-1839573900-1839577500@www.mindbodysolutions.org
SUMMARY:Live Support
DESCRIPTION:Office hours is a free\, drop in\, online offering where you can ask any and all questions about Mind Body Solutions’ offerings! \nHave a question about: \nZoom \nCircle \nAdditional Offerings (Book club! Chat Amongst Ourselves! Team Adaptables and more!) \nAdaptive Yoga (like what the heck is a Triangle pose anyway?!) \nPlease drop in anytime during office hours and chat with Bethany (really\, she loves to answer questions about MBS!)
URL:https://www.mindbodysolutions.org/event/live-support/2028-04-17/
CATEGORIES:General Event
LOCATION:https://us02web.zoom.us/j/83345247376
END:VEVENT
BEGIN:VEVENT
DTSTART;TZID=America/Chicago:20280424T084500
DTEND;TZID=America/Chicago:20280424T094500
DTSTAMP:20260425T224318
CREATED:20250726T014115Z
LAST-MODIFIED:20250726T014115Z
UID:59041-1840178700-1840182300@www.mindbodysolutions.org
SUMMARY:Live Support
DESCRIPTION:Office hours is a free\, drop in\, online offering where you can ask any and all questions about Mind Body Solutions’ offerings! \nHave a question about: \nZoom \nCircle \nAdditional Offerings (Book club! Chat Amongst Ourselves! Team Adaptables and more!) \nAdaptive Yoga (like what the heck is a Triangle pose anyway?!) \nPlease drop in anytime during office hours and chat with Bethany (really\, she loves to answer questions about MBS!)
URL:https://www.mindbodysolutions.org/event/live-support/2028-04-24/
CATEGORIES:General Event
LOCATION:https://us02web.zoom.us/j/83345247376
END:VEVENT
END:VCALENDAR