BEGIN:VCALENDAR
VERSION:2.0
PRODID:-//Mind Body Solutions - ECPv6.15.20//NONSGML v1.0//EN
CALSCALE:GREGORIAN
METHOD:PUBLISH
X-ORIGINAL-URL:https://www.mindbodysolutions.org
X-WR-CALDESC:Events for Mind Body Solutions
REFRESH-INTERVAL;VALUE=DURATION:PT1H
X-Robots-Tag:noindex
X-PUBLISHED-TTL:PT1H
BEGIN:VTIMEZONE
TZID:America/Chicago
BEGIN:DAYLIGHT
TZOFFSETFROM:-0600
TZOFFSETTO:-0500
TZNAME:CDT
DTSTART:20240310T080000
END:DAYLIGHT
BEGIN:STANDARD
TZOFFSETFROM:-0500
TZOFFSETTO:-0600
TZNAME:CST
DTSTART:20241103T070000
END:STANDARD
BEGIN:DAYLIGHT
TZOFFSETFROM:-0600
TZOFFSETTO:-0500
TZNAME:CDT
DTSTART:20250309T080000
END:DAYLIGHT
BEGIN:STANDARD
TZOFFSETFROM:-0500
TZOFFSETTO:-0600
TZNAME:CST
DTSTART:20251102T070000
END:STANDARD
BEGIN:DAYLIGHT
TZOFFSETFROM:-0600
TZOFFSETTO:-0500
TZNAME:CDT
DTSTART:20260308T080000
END:DAYLIGHT
BEGIN:STANDARD
TZOFFSETFROM:-0500
TZOFFSETTO:-0600
TZNAME:CST
DTSTART:20261101T070000
END:STANDARD
BEGIN:DAYLIGHT
TZOFFSETFROM:-0600
TZOFFSETTO:-0500
TZNAME:CDT
DTSTART:20270314T080000
END:DAYLIGHT
BEGIN:STANDARD
TZOFFSETFROM:-0500
TZOFFSETTO:-0600
TZNAME:CST
DTSTART:20271107T070000
END:STANDARD
END:VTIMEZONE
BEGIN:VEVENT
DTSTART;TZID=America/Chicago:20251020T084500
DTEND;TZID=America/Chicago:20251020T094500
DTSTAMP:20260425T131526
CREATED:20250726T014133Z
LAST-MODIFIED:20250726T014133Z
UID:53323-1760949900-1760953500@www.mindbodysolutions.org
SUMMARY:Live Support
DESCRIPTION:Office hours is a free\, drop in\, online offering where you can ask any and all questions about Mind Body Solutions’ offerings! \nHave a question about: \nZoom \nCircle \nAdditional Offerings (Book club! Chat Amongst Ourselves! Team Adaptables and more!) \nAdaptive Yoga (like what the heck is a Triangle pose anyway?!) \nPlease drop in anytime during office hours and chat with Bethany (really\, she loves to answer questions about MBS!)
URL:https://www.mindbodysolutions.org/event/live-support/2025-10-20/
CATEGORIES:General Event
LOCATION:https://us02web.zoom.us/j/83345247376
END:VEVENT
BEGIN:VEVENT
DTSTART;TZID=America/Chicago:20251025T113000
DTEND;TZID=America/Chicago:20251025T124500
DTSTAMP:20260425T131526
CREATED:20250904T172348Z
LAST-MODIFIED:20250904T172348Z
UID:51354-1761391800-1761396300@www.mindbodysolutions.org
SUMMARY:Mind Body Reads Book Club - October 2025
DESCRIPTION:Sharing humanity through literature \nThis is a free and welcoming space where stories deepen the connections within and among us. Whether you have read some\, all or none of the book\, we welcome everyone to join us each month to explore\, together. \nOctober 25\, 2025 | 11:30-12:45 PM Central Time\nWest with Giraffes by Lynda Rutledge \nQuestions? Email: Bethany@mindbodysolutions.org
URL:https://www.mindbodysolutions.org/event/mind-body-reads-book-club-october-2025/
CATEGORIES:General Event
ATTACH;FMTTYPE=image/png:https://www.mindbodysolutions.org/wp-content/uploads/2024/03/MBS-reads-for-website-e1718280301871.png
END:VEVENT
BEGIN:VEVENT
DTSTART;TZID=America/Chicago:20251027T084500
DTEND;TZID=America/Chicago:20251027T094500
DTSTAMP:20260425T131526
CREATED:20250726T014134Z
LAST-MODIFIED:20250726T014134Z
UID:53324-1761554700-1761558300@www.mindbodysolutions.org
SUMMARY:Live Support
DESCRIPTION:Office hours is a free\, drop in\, online offering where you can ask any and all questions about Mind Body Solutions’ offerings! \nHave a question about: \nZoom \nCircle \nAdditional Offerings (Book club! Chat Amongst Ourselves! Team Adaptables and more!) \nAdaptive Yoga (like what the heck is a Triangle pose anyway?!) \nPlease drop in anytime during office hours and chat with Bethany (really\, she loves to answer questions about MBS!)
URL:https://www.mindbodysolutions.org/event/live-support/2025-10-27/
CATEGORIES:General Event
LOCATION:https://us02web.zoom.us/j/83345247376
END:VEVENT
BEGIN:VEVENT
DTSTART;TZID=America/Chicago:20251103T084500
DTEND;TZID=America/Chicago:20251103T094500
DTSTAMP:20260425T131526
CREATED:20250726T014134Z
LAST-MODIFIED:20250726T014134Z
UID:53325-1762159500-1762163100@www.mindbodysolutions.org
SUMMARY:Live Support
DESCRIPTION:Office hours is a free\, drop in\, online offering where you can ask any and all questions about Mind Body Solutions’ offerings! \nHave a question about: \nZoom \nCircle \nAdditional Offerings (Book club! Chat Amongst Ourselves! Team Adaptables and more!) \nAdaptive Yoga (like what the heck is a Triangle pose anyway?!) \nPlease drop in anytime during office hours and chat with Bethany (really\, she loves to answer questions about MBS!)
URL:https://www.mindbodysolutions.org/event/live-support/2025-11-03/
CATEGORIES:General Event
LOCATION:https://us02web.zoom.us/j/83345247376
END:VEVENT
BEGIN:VEVENT
DTSTART;TZID=America/Chicago:20251105T130000
DTEND;TZID=America/Chicago:20251105T140000
DTSTAMP:20260425T131526
CREATED:20240318T195219Z
LAST-MODIFIED:20250904T172808Z
UID:47158-1762347600-1762351200@www.mindbodysolutions.org
SUMMARY:Team Adaptables - Monthly Meeting
DESCRIPTION:We are a team of superheroes who identify living with a disability as a fundamental feature of their lives. We believe that DISability does not mean UNability\, but rather\, it is ability that has traveled through the worlds of shadow and reflection. We believe that disability creates wisdom and needs to be shared. \nWe meet virtually on the first Wednesday of every month for a content-rich hour at 1 pm Central time. Registered students will receive a zoom link an hour before each meeting. \nWe laugh\, tell stories\, share yoga\, and support each other.  We create content and conversation that are centered around the real experience of disability.  We create learning\, growing\, and healing opportunities for each other and sometimes for the world at large. \n 
URL:https://www.mindbodysolutions.org/event/team-adaptables-monthly-meeting-2/2025-11-05/
CATEGORIES:General Event
ATTACH;FMTTYPE=image/png:https://www.mindbodysolutions.org/wp-content/uploads/2023/06/Team-Adaptables-for-Calendar.png
END:VEVENT
BEGIN:VEVENT
DTSTART;TZID=America/Chicago:20251110T084500
DTEND;TZID=America/Chicago:20251110T094500
DTSTAMP:20260425T131526
CREATED:20250726T014135Z
LAST-MODIFIED:20250726T014135Z
UID:53326-1762764300-1762767900@www.mindbodysolutions.org
SUMMARY:Live Support
DESCRIPTION:Office hours is a free\, drop in\, online offering where you can ask any and all questions about Mind Body Solutions’ offerings! \nHave a question about: \nZoom \nCircle \nAdditional Offerings (Book club! Chat Amongst Ourselves! Team Adaptables and more!) \nAdaptive Yoga (like what the heck is a Triangle pose anyway?!) \nPlease drop in anytime during office hours and chat with Bethany (really\, she loves to answer questions about MBS!)
URL:https://www.mindbodysolutions.org/event/live-support/2025-11-10/
CATEGORIES:General Event
LOCATION:https://us02web.zoom.us/j/83345247376
END:VEVENT
BEGIN:VEVENT
DTSTART;TZID=America/Chicago:20251112T110000
DTEND;TZID=America/Chicago:20251112T123000
DTSTAMP:20260425T131526
CREATED:20250227T185554Z
LAST-MODIFIED:20251108T220840Z
UID:51620-1762945200-1762950600@www.mindbodysolutions.org
SUMMARY:2025 Yoga\, Disability and Transformation Session Four Meditation\, Yoga\, and Community / with Kyla Pearce from Love Your Brain
DESCRIPTION:The MBS adaptive yoga community is excited to invite Kyla Pearce into our midst. Kyla is an extraordinary yoga and meditation teacher who also teaches healthcare professionals. She is the Senior Director of Programs\, Research\, and Operations for the innovative non-profit Love Your Brain\, specializing in traumatic brain injury. Kyla  recently completed a post-doctoral research fellow at Dartmouth College\, studying the impact that yoga\, meditation\, and community have on neurological deficits. Finally\, she also trained with Mind Body Solutions\, and we think she rocks. \nMatthew and Kyla will discuss the amazing work of Love Your Brain and her findings with respect to trauma\, loss\, and disability. There will also be a Q&A and a shared yoga practice.
URL:https://www.mindbodysolutions.org/event/2025-yoga-disability-and-transformation-session-four/
CATEGORIES:General Event
ATTACH;FMTTYPE=image/png:https://www.mindbodysolutions.org/wp-content/uploads/2025/02/Copy-of-yoga-disability-and-transformation-600-x-300-px.png
END:VEVENT
BEGIN:VEVENT
DTSTART;TZID=America/Chicago:20251113T120000
DTEND;TZID=America/Chicago:20251113T130000
DTSTAMP:20260425T131526
CREATED:20250205T005736Z
LAST-MODIFIED:20250904T171624Z
UID:51280-1763035200-1763038800@www.mindbodysolutions.org
SUMMARY:2025 Sandbox Session #10
DESCRIPTION:How do you keep yourself inspired to teach? Are you able to take time to just be a student? What do you do if you find yourself in the yoga teaching slump? Let’s dive into ideas on how to stay creative\, committed and excited!
URL:https://www.mindbodysolutions.org/event/2025-sandbox-session-10/
CATEGORIES:General Event
ATTACH;FMTTYPE=image/png:https://www.mindbodysolutions.org/wp-content/uploads/2025/01/Website-graphic.png
END:VEVENT
BEGIN:VEVENT
DTSTART;TZID=America/Chicago:20251117T084500
DTEND;TZID=America/Chicago:20251117T094500
DTSTAMP:20260425T131526
CREATED:20250726T014135Z
LAST-MODIFIED:20250726T014135Z
UID:53327-1763369100-1763372700@www.mindbodysolutions.org
SUMMARY:Live Support
DESCRIPTION:Office hours is a free\, drop in\, online offering where you can ask any and all questions about Mind Body Solutions’ offerings! \nHave a question about: \nZoom \nCircle \nAdditional Offerings (Book club! Chat Amongst Ourselves! Team Adaptables and more!) \nAdaptive Yoga (like what the heck is a Triangle pose anyway?!) \nPlease drop in anytime during office hours and chat with Bethany (really\, she loves to answer questions about MBS!)
URL:https://www.mindbodysolutions.org/event/live-support/2025-11-17/
CATEGORIES:General Event
LOCATION:https://us02web.zoom.us/j/83345247376
END:VEVENT
BEGIN:VEVENT
DTSTART;TZID=America/Chicago:20251119T130000
DTEND;TZID=America/Chicago:20251119T133000
DTSTAMP:20260425T131526
CREATED:20240318T195533Z
LAST-MODIFIED:20250709T171203Z
UID:48286-1763557200-1763559000@www.mindbodysolutions.org
SUMMARY:Team Adaptables - Practice Huddle
DESCRIPTION:Join us for the Team Huddle; a student-led 10-minute mind-body practice! \n 
URL:https://www.mindbodysolutions.org/event/team-adaptables-practice-huddle/2025-11-19/
CATEGORIES:General Event
ATTACH;FMTTYPE=image/png:https://www.mindbodysolutions.org/wp-content/uploads/2023/06/Team-Adaptables-for-Calendar-1.png
LOCATION:https://us02web.zoom.us/j/82187740939
END:VEVENT
BEGIN:VEVENT
DTSTART;TZID=America/Chicago:20251124T084500
DTEND;TZID=America/Chicago:20251124T094500
DTSTAMP:20260425T131526
CREATED:20250726T014136Z
LAST-MODIFIED:20250726T014136Z
UID:53328-1763973900-1763977500@www.mindbodysolutions.org
SUMMARY:Live Support
DESCRIPTION:Office hours is a free\, drop in\, online offering where you can ask any and all questions about Mind Body Solutions’ offerings! \nHave a question about: \nZoom \nCircle \nAdditional Offerings (Book club! Chat Amongst Ourselves! Team Adaptables and more!) \nAdaptive Yoga (like what the heck is a Triangle pose anyway?!) \nPlease drop in anytime during office hours and chat with Bethany (really\, she loves to answer questions about MBS!)
URL:https://www.mindbodysolutions.org/event/live-support/2025-11-24/
CATEGORIES:General Event
LOCATION:https://us02web.zoom.us/j/83345247376
END:VEVENT
BEGIN:VEVENT
DTSTART;TZID=America/Chicago:20251129T113000
DTEND;TZID=America/Chicago:20251129T124500
DTSTAMP:20260425T131526
CREATED:20250904T172415Z
LAST-MODIFIED:20250904T172415Z
UID:51876-1764415800-1764420300@www.mindbodysolutions.org
SUMMARY:Mind Body Reads Book Club - November 2025
DESCRIPTION:Sharing humanity through literature \nThis is a free and welcoming space where stories deepen the connections within and among us. Whether you have read some\, all or none of the book\, we welcome everyone to join us each month to explore\, together. \nNovember 29\, 2025 | 11:30-12:45 PM Central Time\nButterfly: From Refugee to Olympian – My Story of Rescue\, Hope\, and Triumph by Yusra Mardini \nQuestions? Email: Bethany@mindbodysolutions.org
URL:https://www.mindbodysolutions.org/event/mind-body-reads-book-club-november-2025/
CATEGORIES:General Event
ATTACH;FMTTYPE=image/png:https://www.mindbodysolutions.org/wp-content/uploads/2024/03/MBS-reads-for-website-e1718280301871.png
END:VEVENT
BEGIN:VEVENT
DTSTART;TZID=America/Chicago:20251201T084500
DTEND;TZID=America/Chicago:20251201T094500
DTSTAMP:20260425T131526
CREATED:20250726T014136Z
LAST-MODIFIED:20250726T014136Z
UID:53329-1764578700-1764582300@www.mindbodysolutions.org
SUMMARY:Live Support
DESCRIPTION:Office hours is a free\, drop in\, online offering where you can ask any and all questions about Mind Body Solutions’ offerings! \nHave a question about: \nZoom \nCircle \nAdditional Offerings (Book club! Chat Amongst Ourselves! Team Adaptables and more!) \nAdaptive Yoga (like what the heck is a Triangle pose anyway?!) \nPlease drop in anytime during office hours and chat with Bethany (really\, she loves to answer questions about MBS!)
URL:https://www.mindbodysolutions.org/event/live-support/2025-12-01/
CATEGORIES:General Event
LOCATION:https://us02web.zoom.us/j/83345247376
END:VEVENT
BEGIN:VEVENT
DTSTART;TZID=America/Chicago:20251203T130000
DTEND;TZID=America/Chicago:20251203T140000
DTSTAMP:20260425T131526
CREATED:20240318T195219Z
LAST-MODIFIED:20250904T172809Z
UID:47159-1764766800-1764770400@www.mindbodysolutions.org
SUMMARY:Team Adaptables - Monthly Meeting
DESCRIPTION:We are a team of superheroes who identify living with a disability as a fundamental feature of their lives. We believe that DISability does not mean UNability\, but rather\, it is ability that has traveled through the worlds of shadow and reflection. We believe that disability creates wisdom and needs to be shared. \nWe meet virtually on the first Wednesday of every month for a content-rich hour at 1 pm Central time. Registered students will receive a zoom link an hour before each meeting. \nWe laugh\, tell stories\, share yoga\, and support each other.  We create content and conversation that are centered around the real experience of disability.  We create learning\, growing\, and healing opportunities for each other and sometimes for the world at large. \n 
URL:https://www.mindbodysolutions.org/event/team-adaptables-monthly-meeting-2/2025-12-03/
CATEGORIES:General Event
ATTACH;FMTTYPE=image/png:https://www.mindbodysolutions.org/wp-content/uploads/2023/06/Team-Adaptables-for-Calendar.png
END:VEVENT
BEGIN:VEVENT
DTSTART;TZID=America/Chicago:20251208T084500
DTEND;TZID=America/Chicago:20251208T094500
DTSTAMP:20260425T131526
CREATED:20250726T014138Z
LAST-MODIFIED:20250726T014138Z
UID:53330-1765183500-1765187100@www.mindbodysolutions.org
SUMMARY:Live Support
DESCRIPTION:Office hours is a free\, drop in\, online offering where you can ask any and all questions about Mind Body Solutions’ offerings! \nHave a question about: \nZoom \nCircle \nAdditional Offerings (Book club! Chat Amongst Ourselves! Team Adaptables and more!) \nAdaptive Yoga (like what the heck is a Triangle pose anyway?!) \nPlease drop in anytime during office hours and chat with Bethany (really\, she loves to answer questions about MBS!)
URL:https://www.mindbodysolutions.org/event/live-support/2025-12-08/
CATEGORIES:General Event
LOCATION:https://us02web.zoom.us/j/83345247376
END:VEVENT
BEGIN:VEVENT
DTSTART;TZID=America/Chicago:20251211T120000
DTEND;TZID=America/Chicago:20251211T130000
DTSTAMP:20260425T131526
CREATED:20250205T010001Z
LAST-MODIFIED:20250904T171725Z
UID:51283-1765454400-1765458000@www.mindbodysolutions.org
SUMMARY:2025 Sandbox Session #11
DESCRIPTION:It is a time for reflection and wrap up. How was the year of teaching? Let’s share in each other’s celebrations\, revelations\, gratitudes\, and questions that met us over the last twelve months!
URL:https://www.mindbodysolutions.org/event/2025-sandbox-session-11/
CATEGORIES:General Event
ATTACH;FMTTYPE=image/png:https://www.mindbodysolutions.org/wp-content/uploads/2025/01/Website-graphic.png
END:VEVENT
BEGIN:VEVENT
DTSTART;TZID=America/Chicago:20251215T084500
DTEND;TZID=America/Chicago:20251215T094500
DTSTAMP:20260425T131526
CREATED:20250726T014138Z
LAST-MODIFIED:20250726T014138Z
UID:53331-1765788300-1765791900@www.mindbodysolutions.org
SUMMARY:Live Support
DESCRIPTION:Office hours is a free\, drop in\, online offering where you can ask any and all questions about Mind Body Solutions’ offerings! \nHave a question about: \nZoom \nCircle \nAdditional Offerings (Book club! Chat Amongst Ourselves! Team Adaptables and more!) \nAdaptive Yoga (like what the heck is a Triangle pose anyway?!) \nPlease drop in anytime during office hours and chat with Bethany (really\, she loves to answer questions about MBS!)
URL:https://www.mindbodysolutions.org/event/live-support/2025-12-15/
CATEGORIES:General Event
LOCATION:https://us02web.zoom.us/j/83345247376
END:VEVENT
BEGIN:VEVENT
DTSTART;TZID=America/Chicago:20251217T130000
DTEND;TZID=America/Chicago:20251217T133000
DTSTAMP:20260425T131526
CREATED:20240318T195533Z
LAST-MODIFIED:20250709T171203Z
UID:48287-1765976400-1765978200@www.mindbodysolutions.org
SUMMARY:Team Adaptables - Practice Huddle
DESCRIPTION:Join us for the Team Huddle; a student-led 10-minute mind-body practice! \n 
URL:https://www.mindbodysolutions.org/event/team-adaptables-practice-huddle/2025-12-17/
CATEGORIES:General Event
ATTACH;FMTTYPE=image/png:https://www.mindbodysolutions.org/wp-content/uploads/2023/06/Team-Adaptables-for-Calendar-1.png
LOCATION:https://us02web.zoom.us/j/82187740939
END:VEVENT
BEGIN:VEVENT
DTSTART;TZID=America/Chicago:20251222T084500
DTEND;TZID=America/Chicago:20251222T094500
DTSTAMP:20260425T131526
CREATED:20250726T014139Z
LAST-MODIFIED:20250726T014139Z
UID:53332-1766393100-1766396700@www.mindbodysolutions.org
SUMMARY:Live Support
DESCRIPTION:Office hours is a free\, drop in\, online offering where you can ask any and all questions about Mind Body Solutions’ offerings! \nHave a question about: \nZoom \nCircle \nAdditional Offerings (Book club! Chat Amongst Ourselves! Team Adaptables and more!) \nAdaptive Yoga (like what the heck is a Triangle pose anyway?!) \nPlease drop in anytime during office hours and chat with Bethany (really\, she loves to answer questions about MBS!)
URL:https://www.mindbodysolutions.org/event/live-support/2025-12-22/
CATEGORIES:General Event
LOCATION:https://us02web.zoom.us/j/83345247376
END:VEVENT
BEGIN:VEVENT
DTSTART;TZID=America/Chicago:20251227T113000
DTEND;TZID=America/Chicago:20251227T124500
DTSTAMP:20260425T131526
CREATED:20251107T193321Z
LAST-MODIFIED:20251107T193321Z
UID:54639-1766835000-1766839500@www.mindbodysolutions.org
SUMMARY:Mind Body Reads Book Club - December 2025
DESCRIPTION:Sharing humanity through literature \nThis is a free and welcoming space where stories deepen the connections within and among us. Whether you have read some\, all or none of the book\, we welcome everyone to join us each month to explore\, together. \nDecember 27\, 2025 | 11:3-12:45 Central Time\nThe Heaven and Earth Grocery Story by James McBride \nQuestions? Email: Bethany@mindbodysolutions.org
URL:https://www.mindbodysolutions.org/event/mind-body-reads-book-club-december-2025/
CATEGORIES:General Event
ATTACH;FMTTYPE=image/png:https://www.mindbodysolutions.org/wp-content/uploads/2024/03/MBS-reads-for-website-e1718280301871.png
END:VEVENT
BEGIN:VEVENT
DTSTART;TZID=America/Chicago:20251229T084500
DTEND;TZID=America/Chicago:20251229T094500
DTSTAMP:20260425T131526
CREATED:20250726T014139Z
LAST-MODIFIED:20250726T014139Z
UID:53333-1766997900-1767001500@www.mindbodysolutions.org
SUMMARY:Live Support
DESCRIPTION:Office hours is a free\, drop in\, online offering where you can ask any and all questions about Mind Body Solutions’ offerings! \nHave a question about: \nZoom \nCircle \nAdditional Offerings (Book club! Chat Amongst Ourselves! Team Adaptables and more!) \nAdaptive Yoga (like what the heck is a Triangle pose anyway?!) \nPlease drop in anytime during office hours and chat with Bethany (really\, she loves to answer questions about MBS!)
URL:https://www.mindbodysolutions.org/event/live-support/2025-12-29/
CATEGORIES:General Event
LOCATION:https://us02web.zoom.us/j/83345247376
END:VEVENT
BEGIN:VEVENT
DTSTART;TZID=America/Chicago:20260105T084500
DTEND;TZID=America/Chicago:20260105T094500
DTSTAMP:20260425T131526
CREATED:20250726T014140Z
LAST-MODIFIED:20250726T014140Z
UID:53334-1767602700-1767606300@www.mindbodysolutions.org
SUMMARY:Live Support
DESCRIPTION:Office hours is a free\, drop in\, online offering where you can ask any and all questions about Mind Body Solutions’ offerings! \nHave a question about: \nZoom \nCircle \nAdditional Offerings (Book club! Chat Amongst Ourselves! Team Adaptables and more!) \nAdaptive Yoga (like what the heck is a Triangle pose anyway?!) \nPlease drop in anytime during office hours and chat with Bethany (really\, she loves to answer questions about MBS!)
URL:https://www.mindbodysolutions.org/event/live-support/2026-01-05/
CATEGORIES:General Event
LOCATION:https://us02web.zoom.us/j/83345247376
END:VEVENT
BEGIN:VEVENT
DTSTART;TZID=America/Chicago:20260107T130000
DTEND;TZID=America/Chicago:20260107T140000
DTSTAMP:20260425T131526
CREATED:20240318T195219Z
LAST-MODIFIED:20250904T172809Z
UID:47160-1767790800-1767794400@www.mindbodysolutions.org
SUMMARY:Team Adaptables - Monthly Meeting
DESCRIPTION:We are a team of superheroes who identify living with a disability as a fundamental feature of their lives. We believe that DISability does not mean UNability\, but rather\, it is ability that has traveled through the worlds of shadow and reflection. We believe that disability creates wisdom and needs to be shared. \nWe meet virtually on the first Wednesday of every month for a content-rich hour at 1 pm Central time. Registered students will receive a zoom link an hour before each meeting. \nWe laugh\, tell stories\, share yoga\, and support each other.  We create content and conversation that are centered around the real experience of disability.  We create learning\, growing\, and healing opportunities for each other and sometimes for the world at large. \n 
URL:https://www.mindbodysolutions.org/event/team-adaptables-monthly-meeting-2/2026-01-07/
CATEGORIES:General Event
ATTACH;FMTTYPE=image/png:https://www.mindbodysolutions.org/wp-content/uploads/2023/06/Team-Adaptables-for-Calendar.png
END:VEVENT
BEGIN:VEVENT
DTSTART;TZID=America/Chicago:20260112T084500
DTEND;TZID=America/Chicago:20260112T094500
DTSTAMP:20260425T131526
CREATED:20250726T014140Z
LAST-MODIFIED:20250726T014140Z
UID:53335-1768207500-1768211100@www.mindbodysolutions.org
SUMMARY:Live Support
DESCRIPTION:Office hours is a free\, drop in\, online offering where you can ask any and all questions about Mind Body Solutions’ offerings! \nHave a question about: \nZoom \nCircle \nAdditional Offerings (Book club! Chat Amongst Ourselves! Team Adaptables and more!) \nAdaptive Yoga (like what the heck is a Triangle pose anyway?!) \nPlease drop in anytime during office hours and chat with Bethany (really\, she loves to answer questions about MBS!)
URL:https://www.mindbodysolutions.org/event/live-support/2026-01-12/
CATEGORIES:General Event
LOCATION:https://us02web.zoom.us/j/83345247376
END:VEVENT
BEGIN:VEVENT
DTSTART;TZID=America/Chicago:20260119T084500
DTEND;TZID=America/Chicago:20260119T094500
DTSTAMP:20260425T131526
CREATED:20250726T014141Z
LAST-MODIFIED:20250726T014141Z
UID:53336-1768812300-1768815900@www.mindbodysolutions.org
SUMMARY:Live Support
DESCRIPTION:Office hours is a free\, drop in\, online offering where you can ask any and all questions about Mind Body Solutions’ offerings! \nHave a question about: \nZoom \nCircle \nAdditional Offerings (Book club! Chat Amongst Ourselves! Team Adaptables and more!) \nAdaptive Yoga (like what the heck is a Triangle pose anyway?!) \nPlease drop in anytime during office hours and chat with Bethany (really\, she loves to answer questions about MBS!)
URL:https://www.mindbodysolutions.org/event/live-support/2026-01-19/
CATEGORIES:General Event
LOCATION:https://us02web.zoom.us/j/83345247376
END:VEVENT
BEGIN:VEVENT
DTSTART;TZID=America/Chicago:20260121T130000
DTEND;TZID=America/Chicago:20260121T133000
DTSTAMP:20260425T131526
CREATED:20240318T195533Z
LAST-MODIFIED:20250709T171204Z
UID:48288-1769000400-1769002200@www.mindbodysolutions.org
SUMMARY:Team Adaptables - Practice Huddle
DESCRIPTION:Join us for the Team Huddle; a student-led 10-minute mind-body practice! \n 
URL:https://www.mindbodysolutions.org/event/team-adaptables-practice-huddle/2026-01-21/
CATEGORIES:General Event
ATTACH;FMTTYPE=image/png:https://www.mindbodysolutions.org/wp-content/uploads/2023/06/Team-Adaptables-for-Calendar-1.png
LOCATION:https://us02web.zoom.us/j/82187740939
END:VEVENT
BEGIN:VEVENT
DTSTART;TZID=America/Chicago:20260126T084500
DTEND;TZID=America/Chicago:20260126T094500
DTSTAMP:20260425T131526
CREATED:20250726T014141Z
LAST-MODIFIED:20250726T014141Z
UID:53337-1769417100-1769420700@www.mindbodysolutions.org
SUMMARY:Live Support
DESCRIPTION:Office hours is a free\, drop in\, online offering where you can ask any and all questions about Mind Body Solutions’ offerings! \nHave a question about: \nZoom \nCircle \nAdditional Offerings (Book club! Chat Amongst Ourselves! Team Adaptables and more!) \nAdaptive Yoga (like what the heck is a Triangle pose anyway?!) \nPlease drop in anytime during office hours and chat with Bethany (really\, she loves to answer questions about MBS!)
URL:https://www.mindbodysolutions.org/event/live-support/2026-01-26/
CATEGORIES:General Event
LOCATION:https://us02web.zoom.us/j/83345247376
END:VEVENT
BEGIN:VEVENT
DTSTART;TZID=America/Chicago:20260202T084500
DTEND;TZID=America/Chicago:20260202T094500
DTSTAMP:20260425T131526
CREATED:20250726T014142Z
LAST-MODIFIED:20250726T014142Z
UID:53338-1770021900-1770025500@www.mindbodysolutions.org
SUMMARY:Live Support
DESCRIPTION:Office hours is a free\, drop in\, online offering where you can ask any and all questions about Mind Body Solutions’ offerings! \nHave a question about: \nZoom \nCircle \nAdditional Offerings (Book club! Chat Amongst Ourselves! Team Adaptables and more!) \nAdaptive Yoga (like what the heck is a Triangle pose anyway?!) \nPlease drop in anytime during office hours and chat with Bethany (really\, she loves to answer questions about MBS!)
URL:https://www.mindbodysolutions.org/event/live-support/2026-02-02/
CATEGORIES:General Event
LOCATION:https://us02web.zoom.us/j/83345247376
END:VEVENT
BEGIN:VEVENT
DTSTART;TZID=America/Chicago:20260204T130000
DTEND;TZID=America/Chicago:20260204T140000
DTSTAMP:20260425T131526
CREATED:20240318T195219Z
LAST-MODIFIED:20250904T172810Z
UID:47161-1770210000-1770213600@www.mindbodysolutions.org
SUMMARY:Team Adaptables - Monthly Meeting
DESCRIPTION:We are a team of superheroes who identify living with a disability as a fundamental feature of their lives. We believe that DISability does not mean UNability\, but rather\, it is ability that has traveled through the worlds of shadow and reflection. We believe that disability creates wisdom and needs to be shared. \nWe meet virtually on the first Wednesday of every month for a content-rich hour at 1 pm Central time. Registered students will receive a zoom link an hour before each meeting. \nWe laugh\, tell stories\, share yoga\, and support each other.  We create content and conversation that are centered around the real experience of disability.  We create learning\, growing\, and healing opportunities for each other and sometimes for the world at large. \n 
URL:https://www.mindbodysolutions.org/event/team-adaptables-monthly-meeting-2/2026-02-04/
CATEGORIES:General Event
ATTACH;FMTTYPE=image/png:https://www.mindbodysolutions.org/wp-content/uploads/2023/06/Team-Adaptables-for-Calendar.png
END:VEVENT
BEGIN:VEVENT
DTSTART;TZID=America/Chicago:20260209T084500
DTEND;TZID=America/Chicago:20260209T094500
DTSTAMP:20260425T131526
CREATED:20250726T014142Z
LAST-MODIFIED:20250726T014142Z
UID:53339-1770626700-1770630300@www.mindbodysolutions.org
SUMMARY:Live Support
DESCRIPTION:Office hours is a free\, drop in\, online offering where you can ask any and all questions about Mind Body Solutions’ offerings! \nHave a question about: \nZoom \nCircle \nAdditional Offerings (Book club! Chat Amongst Ourselves! Team Adaptables and more!) \nAdaptive Yoga (like what the heck is a Triangle pose anyway?!) \nPlease drop in anytime during office hours and chat with Bethany (really\, she loves to answer questions about MBS!)
URL:https://www.mindbodysolutions.org/event/live-support/2026-02-09/
CATEGORIES:General Event
LOCATION:https://us02web.zoom.us/j/83345247376
END:VEVENT
END:VCALENDAR