BEGIN:VCALENDAR
VERSION:2.0
PRODID:-//Mind Body Solutions - ECPv6.15.20//NONSGML v1.0//EN
CALSCALE:GREGORIAN
METHOD:PUBLISH
X-ORIGINAL-URL:https://www.mindbodysolutions.org
X-WR-CALDESC:Events for Mind Body Solutions
REFRESH-INTERVAL;VALUE=DURATION:PT1H
X-Robots-Tag:noindex
X-PUBLISHED-TTL:PT1H
BEGIN:VTIMEZONE
TZID:America/Chicago
BEGIN:DAYLIGHT
TZOFFSETFROM:-0600
TZOFFSETTO:-0500
TZNAME:CDT
DTSTART:20240310T080000
END:DAYLIGHT
BEGIN:STANDARD
TZOFFSETFROM:-0500
TZOFFSETTO:-0600
TZNAME:CST
DTSTART:20241103T070000
END:STANDARD
BEGIN:DAYLIGHT
TZOFFSETFROM:-0600
TZOFFSETTO:-0500
TZNAME:CDT
DTSTART:20250309T080000
END:DAYLIGHT
BEGIN:STANDARD
TZOFFSETFROM:-0500
TZOFFSETTO:-0600
TZNAME:CST
DTSTART:20251102T070000
END:STANDARD
BEGIN:DAYLIGHT
TZOFFSETFROM:-0600
TZOFFSETTO:-0500
TZNAME:CDT
DTSTART:20260308T080000
END:DAYLIGHT
BEGIN:STANDARD
TZOFFSETFROM:-0500
TZOFFSETTO:-0600
TZNAME:CST
DTSTART:20261101T070000
END:STANDARD
END:VTIMEZONE
BEGIN:VEVENT
DTSTART;TZID=America/Chicago:20250117T120000
DTEND;TZID=America/Chicago:20251212T130000
DTSTAMP:20260425T182808
CREATED:20250205T002006Z
LAST-MODIFIED:20250904T171821Z
UID:51286-1737115200-1765544400@www.mindbodysolutions.org
SUMMARY:2025 Sandbox Session - Complete Series
DESCRIPTION:Each month we will discuss a topic related to teaching adaptive yoga – yoga for Every Body! Join us the second Thursday of each month for these lively\, free discussions!!
URL:https://www.mindbodysolutions.org/event/2025-sandbox-session-complete-series/
CATEGORIES:General Event
ATTACH;FMTTYPE=image/png:https://www.mindbodysolutions.org/wp-content/uploads/2025/01/Website-graphic.png
END:VEVENT
BEGIN:VEVENT
DTSTART;TZID=America/Chicago:20250205T130000
DTEND;TZID=America/Chicago:20250205T140000
DTSTAMP:20260425T182808
CREATED:20240318T195219Z
LAST-MODIFIED:20250904T172804Z
UID:47149-1738760400-1738764000@www.mindbodysolutions.org
SUMMARY:Team Adaptables - Monthly Meeting
DESCRIPTION:We are a team of superheroes who identify living with a disability as a fundamental feature of their lives. We believe that DISability does not mean UNability\, but rather\, it is ability that has traveled through the worlds of shadow and reflection. We believe that disability creates wisdom and needs to be shared. \nWe meet virtually on the first Wednesday of every month for a content-rich hour at 1 pm Central time. Registered students will receive a zoom link an hour before each meeting. \nWe laugh\, tell stories\, share yoga\, and support each other.  We create content and conversation that are centered around the real experience of disability.  We create learning\, growing\, and healing opportunities for each other and sometimes for the world at large. \n 
URL:https://www.mindbodysolutions.org/event/team-adaptables-monthly-meeting-2/2025-02-05/
CATEGORIES:General Event
ATTACH;FMTTYPE=image/png:https://www.mindbodysolutions.org/wp-content/uploads/2023/06/Team-Adaptables-for-Calendar.png
END:VEVENT
BEGIN:VEVENT
DTSTART;TZID=America/Chicago:20250213T120000
DTEND;TZID=America/Chicago:20250213T130000
DTSTAMP:20260425T182808
CREATED:20250205T002424Z
LAST-MODIFIED:20250205T002424Z
UID:51174-1739448000-1739451600@www.mindbodysolutions.org
SUMMARY:2025 Sandbox #1
DESCRIPTION:What does practicing the sensation of grounding look like in a class setting? This month we will share mini-sequences and ideas that focus on conveying the sensation of grounding for every student\, however diverse their experiences and conditions.
URL:https://www.mindbodysolutions.org/event/2025-sandbox-1/
CATEGORIES:General Event
ATTACH;FMTTYPE=image/png:https://www.mindbodysolutions.org/wp-content/uploads/2025/01/Website-graphic.png
LOCATION:https://us02web.zoom.us/j/84168272081?pwd=MDhYamhvNUpXckswUjQyYUxHRTUwQT09
END:VEVENT
BEGIN:VEVENT
DTSTART;TZID=America/Chicago:20250219T130000
DTEND;TZID=America/Chicago:20250219T133000
DTSTAMP:20260425T182808
CREATED:20240318T195533Z
LAST-MODIFIED:20250709T171159Z
UID:48277-1739970000-1739971800@www.mindbodysolutions.org
SUMMARY:Team Adaptables - Practice Huddle
DESCRIPTION:Join us for the Team Huddle; a student-led 10-minute mind-body practice! \n 
URL:https://www.mindbodysolutions.org/event/team-adaptables-practice-huddle/2025-02-19/
CATEGORIES:General Event
ATTACH;FMTTYPE=image/png:https://www.mindbodysolutions.org/wp-content/uploads/2023/06/Team-Adaptables-for-Calendar-1.png
LOCATION:https://us02web.zoom.us/j/82187740939
END:VEVENT
BEGIN:VEVENT
DTSTART;TZID=America/Chicago:20250222T113000
DTEND;TZID=America/Chicago:20250222T124500
DTSTAMP:20260425T182808
CREATED:20250124T150336Z
LAST-MODIFIED:20250124T150336Z
UID:51210-1740223800-1740228300@www.mindbodysolutions.org
SUMMARY:Mind Body Reads Book Club - February 2025
DESCRIPTION:Sharing humanity through literature \nThis is a free and welcoming space where stories deepen the connections within and among us. Whether you have read some\, all or none of the book\, we welcome everyone to join us each month to explore\, together. \nFebruary 22\, 2025 | 11:30-12:45 PM Central Time\nWhat Does it Feel Like Sophie Kinsella \nQuestions? Email: Bethany@mindbodysolutions.org
URL:https://www.mindbodysolutions.org/event/mind-body-reads-book-club-february-2025/
CATEGORIES:General Event
ATTACH;FMTTYPE=image/jpeg:https://www.mindbodysolutions.org/wp-content/uploads/2025/01/what-does-it-feel-like.jpg
ORGANIZER;CN="Mind Body Solutions":MAILTO:info@mindbodysolutions.org
LOCATION:https://us02web.zoom.us/j/87607239839
END:VEVENT
END:VCALENDAR