BEGIN:VCALENDAR
VERSION:2.0
PRODID:-//Mind Body Solutions - ECPv6.15.20//NONSGML v1.0//EN
CALSCALE:GREGORIAN
METHOD:PUBLISH
X-ORIGINAL-URL:https://www.mindbodysolutions.org
X-WR-CALDESC:Events for Mind Body Solutions
REFRESH-INTERVAL;VALUE=DURATION:PT1H
X-Robots-Tag:noindex
X-PUBLISHED-TTL:PT1H
BEGIN:VTIMEZONE
TZID:America/Chicago
BEGIN:DAYLIGHT
TZOFFSETFROM:-0600
TZOFFSETTO:-0500
TZNAME:CDT
DTSTART:20230312T080000
END:DAYLIGHT
BEGIN:STANDARD
TZOFFSETFROM:-0500
TZOFFSETTO:-0600
TZNAME:CST
DTSTART:20231105T070000
END:STANDARD
BEGIN:DAYLIGHT
TZOFFSETFROM:-0600
TZOFFSETTO:-0500
TZNAME:CDT
DTSTART:20240310T080000
END:DAYLIGHT
BEGIN:STANDARD
TZOFFSETFROM:-0500
TZOFFSETTO:-0600
TZNAME:CST
DTSTART:20241103T070000
END:STANDARD
BEGIN:DAYLIGHT
TZOFFSETFROM:-0600
TZOFFSETTO:-0500
TZNAME:CDT
DTSTART:20250309T080000
END:DAYLIGHT
BEGIN:STANDARD
TZOFFSETFROM:-0500
TZOFFSETTO:-0600
TZNAME:CST
DTSTART:20251102T070000
END:STANDARD
END:VTIMEZONE
BEGIN:VEVENT
DTSTART;TZID=America/Chicago:20241106T130000
DTEND;TZID=America/Chicago:20241106T140000
DTSTAMP:20260425T223227
CREATED:20240318T195219Z
LAST-MODIFIED:20250904T172800Z
UID:47146-1730898000-1730901600@www.mindbodysolutions.org
SUMMARY:Team Adaptables - Monthly Meeting
DESCRIPTION:We are a team of superheroes who identify living with a disability as a fundamental feature of their lives. We believe that DISability does not mean UNability\, but rather\, it is ability that has traveled through the worlds of shadow and reflection. We believe that disability creates wisdom and needs to be shared. \nWe meet virtually on the first Wednesday of every month for a content-rich hour at 1 pm Central time. Registered students will receive a zoom link an hour before each meeting. \nWe laugh\, tell stories\, share yoga\, and support each other.  We create content and conversation that are centered around the real experience of disability.  We create learning\, growing\, and healing opportunities for each other and sometimes for the world at large. \n 
URL:https://www.mindbodysolutions.org/event/team-adaptables-monthly-meeting-2/2024-11-06/
CATEGORIES:General Event
ATTACH;FMTTYPE=image/png:https://www.mindbodysolutions.org/wp-content/uploads/2023/06/Team-Adaptables-for-Calendar.png
END:VEVENT
BEGIN:VEVENT
DTSTART;TZID=America/Chicago:20241113T130000
DTEND;TZID=America/Chicago:20241113T133000
DTSTAMP:20260425T223227
CREATED:20241108T152025Z
LAST-MODIFIED:20241108T152025Z
UID:50578-1731502800-1731504600@www.mindbodysolutions.org
SUMMARY:Team Adaptables - Practice Huddle
DESCRIPTION:Join us for the Team Huddle; a student-led 10-minute mind-body practice! \n 
URL:https://www.mindbodysolutions.org/event/team-adaptables-practice-huddle-2/
CATEGORIES:General Event
ATTACH;FMTTYPE=image/png:https://www.mindbodysolutions.org/wp-content/uploads/2023/06/Team-Huddle-Thumbnail.png
LOCATION:https://us02web.zoom.us/j/82187740939
END:VEVENT
BEGIN:VEVENT
DTSTART;TZID=America/Chicago:20241130T080000
DTEND;TZID=America/Chicago:20241130T170000
DTSTAMP:20260425T223227
CREATED:20240625T140852Z
LAST-MODIFIED:20241125T183910Z
UID:49690-1732953600-1732986000@www.mindbodysolutions.org
SUMMARY:Mind Body Reads Book Club November 2024
DESCRIPTION:Sharing humanity through literature \nThis is a free and welcoming space where stories deepen the connections within and among us. We welcome everyone to join us each month to explore\, together. To make this a truly accessible and open space\, all selections will be available in both printed and audio format.  Additionally\, a shorter selection will be available each month and it’s okay if you haven’t read the whole book. Come anyway! \n  \nNovember 28 La Rose by Louise Erdrich \n  \nShort Selection: Saint Marie by Louise Erdrich
URL:https://www.mindbodysolutions.org/event/mind-body-reads-book-club-november-2024/
CATEGORIES:General Event
ATTACH;FMTTYPE=image/png:https://www.mindbodysolutions.org/wp-content/uploads/2024/03/MBS-Bookclub--e1710798647549.png
LOCATION:https://us02web.zoom.us/j/81150292194?pwd=MTdvakNxSzR2ZS9DZUJKeE9QNmR3dz09
END:VEVENT
END:VCALENDAR