BEGIN:VCALENDAR
VERSION:2.0
PRODID:-//Mind Body Solutions - ECPv6.15.20//NONSGML v1.0//EN
CALSCALE:GREGORIAN
METHOD:PUBLISH
X-ORIGINAL-URL:https://www.mindbodysolutions.org
X-WR-CALDESC:Events for Mind Body Solutions
REFRESH-INTERVAL;VALUE=DURATION:PT1H
X-Robots-Tag:noindex
X-PUBLISHED-TTL:PT1H
BEGIN:VTIMEZONE
TZID:America/Chicago
BEGIN:DAYLIGHT
TZOFFSETFROM:-0600
TZOFFSETTO:-0500
TZNAME:CDT
DTSTART:20210314T080000
END:DAYLIGHT
BEGIN:STANDARD
TZOFFSETFROM:-0500
TZOFFSETTO:-0600
TZNAME:CST
DTSTART:20211107T070000
END:STANDARD
BEGIN:DAYLIGHT
TZOFFSETFROM:-0600
TZOFFSETTO:-0500
TZNAME:CDT
DTSTART:20220313T080000
END:DAYLIGHT
BEGIN:STANDARD
TZOFFSETFROM:-0500
TZOFFSETTO:-0600
TZNAME:CST
DTSTART:20221106T070000
END:STANDARD
BEGIN:DAYLIGHT
TZOFFSETFROM:-0600
TZOFFSETTO:-0500
TZNAME:CDT
DTSTART:20230312T080000
END:DAYLIGHT
BEGIN:STANDARD
TZOFFSETFROM:-0500
TZOFFSETTO:-0600
TZNAME:CST
DTSTART:20231105T070000
END:STANDARD
END:VTIMEZONE
BEGIN:VEVENT
DTSTART;TZID=America/Chicago:20220423T080000
DTEND;TZID=America/Chicago:20220423T090000
DTSTAMP:20260425T182906
CREATED:20220412T144352Z
LAST-MODIFIED:20220418T190327Z
UID:36394-1650700800-1650704400@www.mindbodysolutions.org
SUMMARY:Yogathon - Donation Class
DESCRIPTION:Donation Class\nWith Daira Farrell\nSaturday April 23rd 9am ET\nU.B.U. Yoga \nThis gentle opening sequence will encourage you to open your heart and mind through a 25 minute whole body floor/seated practice- \nThis class is accessible for all who can move safely from seated\, prone and supine. No experience necessary— \nOffer what you comfortably can. All donations may be made directly on my Kiss my Asana Fundraising page. You don’t need to attend to donate- and donations may be made throughout the whole month of April!\nRegister Here
URL:https://www.mindbodysolutions.org/event/yogathon-donation-class/
CATEGORIES:Donation Class
ATTACH;FMTTYPE=image/png:https://www.mindbodysolutions.org/wp-content/uploads/2022/04/Donation-Class-Event-image.png
END:VEVENT
END:VCALENDAR