BEGIN:VCALENDAR
VERSION:2.0
PRODID:-//Mind Body Solutions - ECPv6.15.20//NONSGML v1.0//EN
CALSCALE:GREGORIAN
METHOD:PUBLISH
X-ORIGINAL-URL:https://www.mindbodysolutions.org
X-WR-CALDESC:Events for Mind Body Solutions
REFRESH-INTERVAL;VALUE=DURATION:PT1H
X-Robots-Tag:noindex
X-PUBLISHED-TTL:PT1H
BEGIN:VTIMEZONE
TZID:America/Chicago
BEGIN:DAYLIGHT
TZOFFSETFROM:-0600
TZOFFSETTO:-0500
TZNAME:CDT
DTSTART:20250309T080000
END:DAYLIGHT
BEGIN:STANDARD
TZOFFSETFROM:-0500
TZOFFSETTO:-0600
TZNAME:CST
DTSTART:20251102T070000
END:STANDARD
BEGIN:DAYLIGHT
TZOFFSETFROM:-0600
TZOFFSETTO:-0500
TZNAME:CDT
DTSTART:20260308T080000
END:DAYLIGHT
BEGIN:STANDARD
TZOFFSETFROM:-0500
TZOFFSETTO:-0600
TZNAME:CST
DTSTART:20261101T070000
END:STANDARD
BEGIN:DAYLIGHT
TZOFFSETFROM:-0600
TZOFFSETTO:-0500
TZNAME:CDT
DTSTART:20270314T080000
END:DAYLIGHT
BEGIN:STANDARD
TZOFFSETFROM:-0500
TZOFFSETTO:-0600
TZNAME:CST
DTSTART:20271107T070000
END:STANDARD
BEGIN:DAYLIGHT
TZOFFSETFROM:-0600
TZOFFSETTO:-0500
TZNAME:CDT
DTSTART:20280312T080000
END:DAYLIGHT
BEGIN:STANDARD
TZOFFSETFROM:-0500
TZOFFSETTO:-0600
TZNAME:CST
DTSTART:20281105T070000
END:STANDARD
END:VTIMEZONE
BEGIN:VEVENT
DTSTART;TZID=America/Chicago:20260520T130000
DTEND;TZID=America/Chicago:20260520T133000
DTSTAMP:20260423T222054
CREATED:20240318T195533Z
LAST-MODIFIED:20250709T171207Z
UID:49479-1779282000-1779283800@www.mindbodysolutions.org
SUMMARY:Team Adaptables - Practice Huddle
DESCRIPTION:Join us for the Team Huddle; a student-led 10-minute mind-body practice! \n 
URL:https://www.mindbodysolutions.org/event/team-adaptables-practice-huddle/2026-05-20/
CATEGORIES:General Event
ATTACH;FMTTYPE=image/png:https://www.mindbodysolutions.org/wp-content/uploads/2023/06/Team-Adaptables-for-Calendar-1.png
LOCATION:https://us02web.zoom.us/j/82187740939
END:VEVENT
BEGIN:VEVENT
DTSTART;TZID=America/Chicago:20260617T130000
DTEND;TZID=America/Chicago:20260617T133000
DTSTAMP:20260423T222054
CREATED:20240318T195533Z
LAST-MODIFIED:20250709T171207Z
UID:49723-1781701200-1781703000@www.mindbodysolutions.org
SUMMARY:Team Adaptables - Practice Huddle
DESCRIPTION:Join us for the Team Huddle; a student-led 10-minute mind-body practice! \n 
URL:https://www.mindbodysolutions.org/event/team-adaptables-practice-huddle/2026-06-17/
CATEGORIES:General Event
ATTACH;FMTTYPE=image/png:https://www.mindbodysolutions.org/wp-content/uploads/2023/06/Team-Adaptables-for-Calendar-1.png
LOCATION:https://us02web.zoom.us/j/82187740939
END:VEVENT
BEGIN:VEVENT
DTSTART;TZID=America/Chicago:20260715T130000
DTEND;TZID=America/Chicago:20260715T133000
DTSTAMP:20260423T222054
CREATED:20240318T195533Z
LAST-MODIFIED:20250709T171208Z
UID:49920-1784120400-1784122200@www.mindbodysolutions.org
SUMMARY:Team Adaptables - Practice Huddle
DESCRIPTION:Join us for the Team Huddle; a student-led 10-minute mind-body practice! \n 
URL:https://www.mindbodysolutions.org/event/team-adaptables-practice-huddle/2026-07-15/
CATEGORIES:General Event
ATTACH;FMTTYPE=image/png:https://www.mindbodysolutions.org/wp-content/uploads/2023/06/Team-Adaptables-for-Calendar-1.png
LOCATION:https://us02web.zoom.us/j/82187740939
END:VEVENT
BEGIN:VEVENT
DTSTART;TZID=America/Chicago:20260819T130000
DTEND;TZID=America/Chicago:20260819T133000
DTSTAMP:20260423T222054
CREATED:20240318T195533Z
LAST-MODIFIED:20250709T171208Z
UID:50124-1787144400-1787146200@www.mindbodysolutions.org
SUMMARY:Team Adaptables - Practice Huddle
DESCRIPTION:Join us for the Team Huddle; a student-led 10-minute mind-body practice! \n 
URL:https://www.mindbodysolutions.org/event/team-adaptables-practice-huddle/2026-08-19/
CATEGORIES:General Event
ATTACH;FMTTYPE=image/png:https://www.mindbodysolutions.org/wp-content/uploads/2023/06/Team-Adaptables-for-Calendar-1.png
LOCATION:https://us02web.zoom.us/j/82187740939
END:VEVENT
BEGIN:VEVENT
DTSTART;TZID=America/Chicago:20260916T130000
DTEND;TZID=America/Chicago:20260916T133000
DTSTAMP:20260423T222054
CREATED:20240318T195533Z
LAST-MODIFIED:20250709T171209Z
UID:50296-1789563600-1789565400@www.mindbodysolutions.org
SUMMARY:Team Adaptables - Practice Huddle
DESCRIPTION:Join us for the Team Huddle; a student-led 10-minute mind-body practice! \n 
URL:https://www.mindbodysolutions.org/event/team-adaptables-practice-huddle/2026-09-16/
CATEGORIES:General Event
ATTACH;FMTTYPE=image/png:https://www.mindbodysolutions.org/wp-content/uploads/2023/06/Team-Adaptables-for-Calendar-1.png
LOCATION:https://us02web.zoom.us/j/82187740939
END:VEVENT
BEGIN:VEVENT
DTSTART;TZID=America/Chicago:20261021T130000
DTEND;TZID=America/Chicago:20261021T133000
DTSTAMP:20260423T222054
CREATED:20240318T195533Z
LAST-MODIFIED:20250709T171211Z
UID:50460-1792587600-1792589400@www.mindbodysolutions.org
SUMMARY:Team Adaptables - Practice Huddle
DESCRIPTION:Join us for the Team Huddle; a student-led 10-minute mind-body practice! \n 
URL:https://www.mindbodysolutions.org/event/team-adaptables-practice-huddle/2026-10-21/
CATEGORIES:General Event
ATTACH;FMTTYPE=image/png:https://www.mindbodysolutions.org/wp-content/uploads/2023/06/Team-Adaptables-for-Calendar-1.png
LOCATION:https://us02web.zoom.us/j/82187740939
END:VEVENT
BEGIN:VEVENT
DTSTART;TZID=America/Chicago:20261118T130000
DTEND;TZID=America/Chicago:20261118T133000
DTSTAMP:20260423T222054
CREATED:20240318T195533Z
LAST-MODIFIED:20250709T171211Z
UID:50857-1795006800-1795008600@www.mindbodysolutions.org
SUMMARY:Team Adaptables - Practice Huddle
DESCRIPTION:Join us for the Team Huddle; a student-led 10-minute mind-body practice! \n 
URL:https://www.mindbodysolutions.org/event/team-adaptables-practice-huddle/2026-11-18/
CATEGORIES:General Event
ATTACH;FMTTYPE=image/png:https://www.mindbodysolutions.org/wp-content/uploads/2023/06/Team-Adaptables-for-Calendar-1.png
LOCATION:https://us02web.zoom.us/j/82187740939
END:VEVENT
BEGIN:VEVENT
DTSTART;TZID=America/Chicago:20261216T130000
DTEND;TZID=America/Chicago:20261216T133000
DTSTAMP:20260423T222054
CREATED:20240318T195533Z
LAST-MODIFIED:20250709T171213Z
UID:51087-1797426000-1797427800@www.mindbodysolutions.org
SUMMARY:Team Adaptables - Practice Huddle
DESCRIPTION:Join us for the Team Huddle; a student-led 10-minute mind-body practice! \n 
URL:https://www.mindbodysolutions.org/event/team-adaptables-practice-huddle/2026-12-16/
CATEGORIES:General Event
ATTACH;FMTTYPE=image/png:https://www.mindbodysolutions.org/wp-content/uploads/2023/06/Team-Adaptables-for-Calendar-1.png
LOCATION:https://us02web.zoom.us/j/82187740939
END:VEVENT
BEGIN:VEVENT
DTSTART;TZID=America/Chicago:20270120T130000
DTEND;TZID=America/Chicago:20270120T133000
DTSTAMP:20260423T222054
CREATED:20240318T195533Z
LAST-MODIFIED:20250709T171213Z
UID:51303-1800450000-1800451800@www.mindbodysolutions.org
SUMMARY:Team Adaptables - Practice Huddle
DESCRIPTION:Join us for the Team Huddle; a student-led 10-minute mind-body practice! \n 
URL:https://www.mindbodysolutions.org/event/team-adaptables-practice-huddle/2027-01-20/
CATEGORIES:General Event
ATTACH;FMTTYPE=image/png:https://www.mindbodysolutions.org/wp-content/uploads/2023/06/Team-Adaptables-for-Calendar-1.png
LOCATION:https://us02web.zoom.us/j/82187740939
END:VEVENT
END:VCALENDAR