BEGIN:VCALENDAR
VERSION:2.0
PRODID:-//Mind Body Solutions - ECPv6.15.20//NONSGML v1.0//EN
CALSCALE:GREGORIAN
METHOD:PUBLISH
X-WR-CALNAME:Mind Body Solutions
X-ORIGINAL-URL:https://www.mindbodysolutions.org
X-WR-CALDESC:Events for Mind Body Solutions
REFRESH-INTERVAL;VALUE=DURATION:PT1H
X-Robots-Tag:noindex
X-PUBLISHED-TTL:PT1H
BEGIN:VTIMEZONE
TZID:America/Chicago
BEGIN:DAYLIGHT
TZOFFSETFROM:-0600
TZOFFSETTO:-0500
TZNAME:CDT
DTSTART:20250309T080000
END:DAYLIGHT
BEGIN:STANDARD
TZOFFSETFROM:-0500
TZOFFSETTO:-0600
TZNAME:CST
DTSTART:20251102T070000
END:STANDARD
BEGIN:DAYLIGHT
TZOFFSETFROM:-0600
TZOFFSETTO:-0500
TZNAME:CDT
DTSTART:20260308T080000
END:DAYLIGHT
BEGIN:STANDARD
TZOFFSETFROM:-0500
TZOFFSETTO:-0600
TZNAME:CST
DTSTART:20261101T070000
END:STANDARD
BEGIN:DAYLIGHT
TZOFFSETFROM:-0600
TZOFFSETTO:-0500
TZNAME:CDT
DTSTART:20270314T080000
END:DAYLIGHT
BEGIN:STANDARD
TZOFFSETFROM:-0500
TZOFFSETTO:-0600
TZNAME:CST
DTSTART:20271107T070000
END:STANDARD
BEGIN:DAYLIGHT
TZOFFSETFROM:-0600
TZOFFSETTO:-0500
TZNAME:CDT
DTSTART:20280312T080000
END:DAYLIGHT
BEGIN:STANDARD
TZOFFSETFROM:-0500
TZOFFSETTO:-0600
TZNAME:CST
DTSTART:20281105T070000
END:STANDARD
END:VTIMEZONE
BEGIN:VEVENT
DTSTART;TZID=America/Chicago:20260429T130000
DTEND;TZID=America/Chicago:20260429T143000
DTSTAMP:20260424T042110
CREATED:20250303T205054Z
LAST-MODIFIED:20250303T205054Z
UID:55304-1777467600-1777473000@www.mindbodysolutions.org
SUMMARY:Chat Amongst Ourselves - Monthly Meet Up
DESCRIPTION:Grab a cuppa and join us for a light-hearted chat. This will be a low-key\, safe space where we can hang out and find our own voice. It’s an opportunity for us to keep each other company and talk all things disability and yoga. Contribute as much or as little as you like —  no pressure here. No yoga or disability know-how is required\, all we ask is you be your perfectly imperfect self!  Let’s bridge the gap between yoga and community in this new zoom room\, just for us!
URL:https://www.mindbodysolutions.org/event/chat-amongst-ourselves-monthly-meet-up/2026-04-29/
CATEGORIES:General Event
ATTACH;FMTTYPE=image/png:https://www.mindbodysolutions.org/wp-content/uploads/2024/03/Chat-Amongst-logo-final-600-x-300-px-e1718280337409.png
END:VEVENT
BEGIN:VEVENT
DTSTART;TZID=America/Chicago:20260527T130000
DTEND;TZID=America/Chicago:20260527T143000
DTSTAMP:20260424T042110
CREATED:20250303T205054Z
LAST-MODIFIED:20250303T205054Z
UID:55305-1779886800-1779892200@www.mindbodysolutions.org
SUMMARY:Chat Amongst Ourselves - Monthly Meet Up
DESCRIPTION:Grab a cuppa and join us for a light-hearted chat. This will be a low-key\, safe space where we can hang out and find our own voice. It’s an opportunity for us to keep each other company and talk all things disability and yoga. Contribute as much or as little as you like —  no pressure here. No yoga or disability know-how is required\, all we ask is you be your perfectly imperfect self!  Let’s bridge the gap between yoga and community in this new zoom room\, just for us!
URL:https://www.mindbodysolutions.org/event/chat-amongst-ourselves-monthly-meet-up/2026-05-27/
CATEGORIES:General Event
ATTACH;FMTTYPE=image/png:https://www.mindbodysolutions.org/wp-content/uploads/2024/03/Chat-Amongst-logo-final-600-x-300-px-e1718280337409.png
END:VEVENT
BEGIN:VEVENT
DTSTART;TZID=America/Chicago:20260624T130000
DTEND;TZID=America/Chicago:20260624T143000
DTSTAMP:20260424T042110
CREATED:20250303T205054Z
LAST-MODIFIED:20250303T205054Z
UID:55306-1782306000-1782311400@www.mindbodysolutions.org
SUMMARY:Chat Amongst Ourselves - Monthly Meet Up
DESCRIPTION:Grab a cuppa and join us for a light-hearted chat. This will be a low-key\, safe space where we can hang out and find our own voice. It’s an opportunity for us to keep each other company and talk all things disability and yoga. Contribute as much or as little as you like —  no pressure here. No yoga or disability know-how is required\, all we ask is you be your perfectly imperfect self!  Let’s bridge the gap between yoga and community in this new zoom room\, just for us!
URL:https://www.mindbodysolutions.org/event/chat-amongst-ourselves-monthly-meet-up/2026-06-24/
CATEGORIES:General Event
ATTACH;FMTTYPE=image/png:https://www.mindbodysolutions.org/wp-content/uploads/2024/03/Chat-Amongst-logo-final-600-x-300-px-e1718280337409.png
END:VEVENT
BEGIN:VEVENT
DTSTART;TZID=America/Chicago:20260729T130000
DTEND;TZID=America/Chicago:20260729T143000
DTSTAMP:20260424T042110
CREATED:20250303T205054Z
LAST-MODIFIED:20250303T205054Z
UID:55307-1785330000-1785335400@www.mindbodysolutions.org
SUMMARY:Chat Amongst Ourselves - Monthly Meet Up
DESCRIPTION:Grab a cuppa and join us for a light-hearted chat. This will be a low-key\, safe space where we can hang out and find our own voice. It’s an opportunity for us to keep each other company and talk all things disability and yoga. Contribute as much or as little as you like —  no pressure here. No yoga or disability know-how is required\, all we ask is you be your perfectly imperfect self!  Let’s bridge the gap between yoga and community in this new zoom room\, just for us!
URL:https://www.mindbodysolutions.org/event/chat-amongst-ourselves-monthly-meet-up/2026-07-29/
CATEGORIES:General Event
ATTACH;FMTTYPE=image/png:https://www.mindbodysolutions.org/wp-content/uploads/2024/03/Chat-Amongst-logo-final-600-x-300-px-e1718280337409.png
END:VEVENT
BEGIN:VEVENT
DTSTART;TZID=America/Chicago:20260826T130000
DTEND;TZID=America/Chicago:20260826T143000
DTSTAMP:20260424T042110
CREATED:20250303T205054Z
LAST-MODIFIED:20250303T205054Z
UID:55308-1787749200-1787754600@www.mindbodysolutions.org
SUMMARY:Chat Amongst Ourselves - Monthly Meet Up
DESCRIPTION:Grab a cuppa and join us for a light-hearted chat. This will be a low-key\, safe space where we can hang out and find our own voice. It’s an opportunity for us to keep each other company and talk all things disability and yoga. Contribute as much or as little as you like —  no pressure here. No yoga or disability know-how is required\, all we ask is you be your perfectly imperfect self!  Let’s bridge the gap between yoga and community in this new zoom room\, just for us!
URL:https://www.mindbodysolutions.org/event/chat-amongst-ourselves-monthly-meet-up/2026-08-26/
CATEGORIES:General Event
ATTACH;FMTTYPE=image/png:https://www.mindbodysolutions.org/wp-content/uploads/2024/03/Chat-Amongst-logo-final-600-x-300-px-e1718280337409.png
END:VEVENT
BEGIN:VEVENT
DTSTART;TZID=America/Chicago:20260930T130000
DTEND;TZID=America/Chicago:20260930T143000
DTSTAMP:20260424T042110
CREATED:20250303T205054Z
LAST-MODIFIED:20250303T205054Z
UID:55309-1790773200-1790778600@www.mindbodysolutions.org
SUMMARY:Chat Amongst Ourselves - Monthly Meet Up
DESCRIPTION:Grab a cuppa and join us for a light-hearted chat. This will be a low-key\, safe space where we can hang out and find our own voice. It’s an opportunity for us to keep each other company and talk all things disability and yoga. Contribute as much or as little as you like —  no pressure here. No yoga or disability know-how is required\, all we ask is you be your perfectly imperfect self!  Let’s bridge the gap between yoga and community in this new zoom room\, just for us!
URL:https://www.mindbodysolutions.org/event/chat-amongst-ourselves-monthly-meet-up/2026-09-30/
CATEGORIES:General Event
ATTACH;FMTTYPE=image/png:https://www.mindbodysolutions.org/wp-content/uploads/2024/03/Chat-Amongst-logo-final-600-x-300-px-e1718280337409.png
END:VEVENT
BEGIN:VEVENT
DTSTART;TZID=America/Chicago:20261028T130000
DTEND;TZID=America/Chicago:20261028T143000
DTSTAMP:20260424T042110
CREATED:20250303T205054Z
LAST-MODIFIED:20250303T205054Z
UID:55310-1793192400-1793197800@www.mindbodysolutions.org
SUMMARY:Chat Amongst Ourselves - Monthly Meet Up
DESCRIPTION:Grab a cuppa and join us for a light-hearted chat. This will be a low-key\, safe space where we can hang out and find our own voice. It’s an opportunity for us to keep each other company and talk all things disability and yoga. Contribute as much or as little as you like —  no pressure here. No yoga or disability know-how is required\, all we ask is you be your perfectly imperfect self!  Let’s bridge the gap between yoga and community in this new zoom room\, just for us!
URL:https://www.mindbodysolutions.org/event/chat-amongst-ourselves-monthly-meet-up/2026-10-28/
CATEGORIES:General Event
ATTACH;FMTTYPE=image/png:https://www.mindbodysolutions.org/wp-content/uploads/2024/03/Chat-Amongst-logo-final-600-x-300-px-e1718280337409.png
END:VEVENT
BEGIN:VEVENT
DTSTART;TZID=America/Chicago:20261125T130000
DTEND;TZID=America/Chicago:20261125T143000
DTSTAMP:20260424T042110
CREATED:20250303T205054Z
LAST-MODIFIED:20250303T205054Z
UID:55311-1795611600-1795617000@www.mindbodysolutions.org
SUMMARY:Chat Amongst Ourselves - Monthly Meet Up
DESCRIPTION:Grab a cuppa and join us for a light-hearted chat. This will be a low-key\, safe space where we can hang out and find our own voice. It’s an opportunity for us to keep each other company and talk all things disability and yoga. Contribute as much or as little as you like —  no pressure here. No yoga or disability know-how is required\, all we ask is you be your perfectly imperfect self!  Let’s bridge the gap between yoga and community in this new zoom room\, just for us!
URL:https://www.mindbodysolutions.org/event/chat-amongst-ourselves-monthly-meet-up/2026-11-25/
CATEGORIES:General Event
ATTACH;FMTTYPE=image/png:https://www.mindbodysolutions.org/wp-content/uploads/2024/03/Chat-Amongst-logo-final-600-x-300-px-e1718280337409.png
END:VEVENT
BEGIN:VEVENT
DTSTART;TZID=America/Chicago:20261230T130000
DTEND;TZID=America/Chicago:20261230T143000
DTSTAMP:20260424T042110
CREATED:20250303T205054Z
LAST-MODIFIED:20250303T205054Z
UID:55312-1798635600-1798641000@www.mindbodysolutions.org
SUMMARY:Chat Amongst Ourselves - Monthly Meet Up
DESCRIPTION:Grab a cuppa and join us for a light-hearted chat. This will be a low-key\, safe space where we can hang out and find our own voice. It’s an opportunity for us to keep each other company and talk all things disability and yoga. Contribute as much or as little as you like —  no pressure here. No yoga or disability know-how is required\, all we ask is you be your perfectly imperfect self!  Let’s bridge the gap between yoga and community in this new zoom room\, just for us!
URL:https://www.mindbodysolutions.org/event/chat-amongst-ourselves-monthly-meet-up/2026-12-30/
CATEGORIES:General Event
ATTACH;FMTTYPE=image/png:https://www.mindbodysolutions.org/wp-content/uploads/2024/03/Chat-Amongst-logo-final-600-x-300-px-e1718280337409.png
END:VEVENT
BEGIN:VEVENT
DTSTART;TZID=America/Chicago:20270127T130000
DTEND;TZID=America/Chicago:20270127T143000
DTSTAMP:20260424T042110
CREATED:20250303T205054Z
LAST-MODIFIED:20250303T205054Z
UID:55313-1801054800-1801060200@www.mindbodysolutions.org
SUMMARY:Chat Amongst Ourselves - Monthly Meet Up
DESCRIPTION:Grab a cuppa and join us for a light-hearted chat. This will be a low-key\, safe space where we can hang out and find our own voice. It’s an opportunity for us to keep each other company and talk all things disability and yoga. Contribute as much or as little as you like —  no pressure here. No yoga or disability know-how is required\, all we ask is you be your perfectly imperfect self!  Let’s bridge the gap between yoga and community in this new zoom room\, just for us!
URL:https://www.mindbodysolutions.org/event/chat-amongst-ourselves-monthly-meet-up/2027-01-27/
CATEGORIES:General Event
ATTACH;FMTTYPE=image/png:https://www.mindbodysolutions.org/wp-content/uploads/2024/03/Chat-Amongst-logo-final-600-x-300-px-e1718280337409.png
END:VEVENT
BEGIN:VEVENT
DTSTART;TZID=America/Chicago:20270224T130000
DTEND;TZID=America/Chicago:20270224T143000
DTSTAMP:20260424T042110
CREATED:20250303T205054Z
LAST-MODIFIED:20250303T205054Z
UID:55314-1803474000-1803479400@www.mindbodysolutions.org
SUMMARY:Chat Amongst Ourselves - Monthly Meet Up
DESCRIPTION:Grab a cuppa and join us for a light-hearted chat. This will be a low-key\, safe space where we can hang out and find our own voice. It’s an opportunity for us to keep each other company and talk all things disability and yoga. Contribute as much or as little as you like —  no pressure here. No yoga or disability know-how is required\, all we ask is you be your perfectly imperfect self!  Let’s bridge the gap between yoga and community in this new zoom room\, just for us!
URL:https://www.mindbodysolutions.org/event/chat-amongst-ourselves-monthly-meet-up/2027-02-24/
CATEGORIES:General Event
ATTACH;FMTTYPE=image/png:https://www.mindbodysolutions.org/wp-content/uploads/2024/03/Chat-Amongst-logo-final-600-x-300-px-e1718280337409.png
END:VEVENT
BEGIN:VEVENT
DTSTART;TZID=America/Chicago:20270331T130000
DTEND;TZID=America/Chicago:20270331T143000
DTSTAMP:20260424T042110
CREATED:20250303T205054Z
LAST-MODIFIED:20250303T205054Z
UID:55315-1806498000-1806503400@www.mindbodysolutions.org
SUMMARY:Chat Amongst Ourselves - Monthly Meet Up
DESCRIPTION:Grab a cuppa and join us for a light-hearted chat. This will be a low-key\, safe space where we can hang out and find our own voice. It’s an opportunity for us to keep each other company and talk all things disability and yoga. Contribute as much or as little as you like —  no pressure here. No yoga or disability know-how is required\, all we ask is you be your perfectly imperfect self!  Let’s bridge the gap between yoga and community in this new zoom room\, just for us!
URL:https://www.mindbodysolutions.org/event/chat-amongst-ourselves-monthly-meet-up/2027-03-31/
CATEGORIES:General Event
ATTACH;FMTTYPE=image/png:https://www.mindbodysolutions.org/wp-content/uploads/2024/03/Chat-Amongst-logo-final-600-x-300-px-e1718280337409.png
END:VEVENT
BEGIN:VEVENT
DTSTART;TZID=America/Chicago:20270428T130000
DTEND;TZID=America/Chicago:20270428T143000
DTSTAMP:20260424T042110
CREATED:20250303T205054Z
LAST-MODIFIED:20250303T205054Z
UID:55316-1808917200-1808922600@www.mindbodysolutions.org
SUMMARY:Chat Amongst Ourselves - Monthly Meet Up
DESCRIPTION:Grab a cuppa and join us for a light-hearted chat. This will be a low-key\, safe space where we can hang out and find our own voice. It’s an opportunity for us to keep each other company and talk all things disability and yoga. Contribute as much or as little as you like —  no pressure here. No yoga or disability know-how is required\, all we ask is you be your perfectly imperfect self!  Let’s bridge the gap between yoga and community in this new zoom room\, just for us!
URL:https://www.mindbodysolutions.org/event/chat-amongst-ourselves-monthly-meet-up/2027-04-28/
CATEGORIES:General Event
ATTACH;FMTTYPE=image/png:https://www.mindbodysolutions.org/wp-content/uploads/2024/03/Chat-Amongst-logo-final-600-x-300-px-e1718280337409.png
END:VEVENT
BEGIN:VEVENT
DTSTART;TZID=America/Chicago:20270526T130000
DTEND;TZID=America/Chicago:20270526T143000
DTSTAMP:20260424T042110
CREATED:20250303T205054Z
LAST-MODIFIED:20250303T205054Z
UID:55317-1811336400-1811341800@www.mindbodysolutions.org
SUMMARY:Chat Amongst Ourselves - Monthly Meet Up
DESCRIPTION:Grab a cuppa and join us for a light-hearted chat. This will be a low-key\, safe space where we can hang out and find our own voice. It’s an opportunity for us to keep each other company and talk all things disability and yoga. Contribute as much or as little as you like —  no pressure here. No yoga or disability know-how is required\, all we ask is you be your perfectly imperfect self!  Let’s bridge the gap between yoga and community in this new zoom room\, just for us!
URL:https://www.mindbodysolutions.org/event/chat-amongst-ourselves-monthly-meet-up/2027-05-26/
CATEGORIES:General Event
ATTACH;FMTTYPE=image/png:https://www.mindbodysolutions.org/wp-content/uploads/2024/03/Chat-Amongst-logo-final-600-x-300-px-e1718280337409.png
END:VEVENT
BEGIN:VEVENT
DTSTART;TZID=America/Chicago:20270630T130000
DTEND;TZID=America/Chicago:20270630T143000
DTSTAMP:20260424T042110
CREATED:20250303T205054Z
LAST-MODIFIED:20250303T205054Z
UID:55318-1814360400-1814365800@www.mindbodysolutions.org
SUMMARY:Chat Amongst Ourselves - Monthly Meet Up
DESCRIPTION:Grab a cuppa and join us for a light-hearted chat. This will be a low-key\, safe space where we can hang out and find our own voice. It’s an opportunity for us to keep each other company and talk all things disability and yoga. Contribute as much or as little as you like —  no pressure here. No yoga or disability know-how is required\, all we ask is you be your perfectly imperfect self!  Let’s bridge the gap between yoga and community in this new zoom room\, just for us!
URL:https://www.mindbodysolutions.org/event/chat-amongst-ourselves-monthly-meet-up/2027-06-30/
CATEGORIES:General Event
ATTACH;FMTTYPE=image/png:https://www.mindbodysolutions.org/wp-content/uploads/2024/03/Chat-Amongst-logo-final-600-x-300-px-e1718280337409.png
END:VEVENT
BEGIN:VEVENT
DTSTART;TZID=America/Chicago:20270728T130000
DTEND;TZID=America/Chicago:20270728T143000
DTSTAMP:20260424T042110
CREATED:20250303T205054Z
LAST-MODIFIED:20250303T205054Z
UID:55319-1816779600-1816785000@www.mindbodysolutions.org
SUMMARY:Chat Amongst Ourselves - Monthly Meet Up
DESCRIPTION:Grab a cuppa and join us for a light-hearted chat. This will be a low-key\, safe space where we can hang out and find our own voice. It’s an opportunity for us to keep each other company and talk all things disability and yoga. Contribute as much or as little as you like —  no pressure here. No yoga or disability know-how is required\, all we ask is you be your perfectly imperfect self!  Let’s bridge the gap between yoga and community in this new zoom room\, just for us!
URL:https://www.mindbodysolutions.org/event/chat-amongst-ourselves-monthly-meet-up/2027-07-28/
CATEGORIES:General Event
ATTACH;FMTTYPE=image/png:https://www.mindbodysolutions.org/wp-content/uploads/2024/03/Chat-Amongst-logo-final-600-x-300-px-e1718280337409.png
END:VEVENT
BEGIN:VEVENT
DTSTART;TZID=America/Chicago:20270825T130000
DTEND;TZID=America/Chicago:20270825T143000
DTSTAMP:20260424T042110
CREATED:20250303T205054Z
LAST-MODIFIED:20250303T205054Z
UID:55320-1819198800-1819204200@www.mindbodysolutions.org
SUMMARY:Chat Amongst Ourselves - Monthly Meet Up
DESCRIPTION:Grab a cuppa and join us for a light-hearted chat. This will be a low-key\, safe space where we can hang out and find our own voice. It’s an opportunity for us to keep each other company and talk all things disability and yoga. Contribute as much or as little as you like —  no pressure here. No yoga or disability know-how is required\, all we ask is you be your perfectly imperfect self!  Let’s bridge the gap between yoga and community in this new zoom room\, just for us!
URL:https://www.mindbodysolutions.org/event/chat-amongst-ourselves-monthly-meet-up/2027-08-25/
CATEGORIES:General Event
ATTACH;FMTTYPE=image/png:https://www.mindbodysolutions.org/wp-content/uploads/2024/03/Chat-Amongst-logo-final-600-x-300-px-e1718280337409.png
END:VEVENT
BEGIN:VEVENT
DTSTART;TZID=America/Chicago:20270929T130000
DTEND;TZID=America/Chicago:20270929T143000
DTSTAMP:20260424T042110
CREATED:20250303T205054Z
LAST-MODIFIED:20250303T205054Z
UID:55321-1822222800-1822228200@www.mindbodysolutions.org
SUMMARY:Chat Amongst Ourselves - Monthly Meet Up
DESCRIPTION:Grab a cuppa and join us for a light-hearted chat. This will be a low-key\, safe space where we can hang out and find our own voice. It’s an opportunity for us to keep each other company and talk all things disability and yoga. Contribute as much or as little as you like —  no pressure here. No yoga or disability know-how is required\, all we ask is you be your perfectly imperfect self!  Let’s bridge the gap between yoga and community in this new zoom room\, just for us!
URL:https://www.mindbodysolutions.org/event/chat-amongst-ourselves-monthly-meet-up/2027-09-29/
CATEGORIES:General Event
ATTACH;FMTTYPE=image/png:https://www.mindbodysolutions.org/wp-content/uploads/2024/03/Chat-Amongst-logo-final-600-x-300-px-e1718280337409.png
END:VEVENT
BEGIN:VEVENT
DTSTART;TZID=America/Chicago:20271027T130000
DTEND;TZID=America/Chicago:20271027T143000
DTSTAMP:20260424T042110
CREATED:20250303T205054Z
LAST-MODIFIED:20250303T205054Z
UID:55322-1824642000-1824647400@www.mindbodysolutions.org
SUMMARY:Chat Amongst Ourselves - Monthly Meet Up
DESCRIPTION:Grab a cuppa and join us for a light-hearted chat. This will be a low-key\, safe space where we can hang out and find our own voice. It’s an opportunity for us to keep each other company and talk all things disability and yoga. Contribute as much or as little as you like —  no pressure here. No yoga or disability know-how is required\, all we ask is you be your perfectly imperfect self!  Let’s bridge the gap between yoga and community in this new zoom room\, just for us!
URL:https://www.mindbodysolutions.org/event/chat-amongst-ourselves-monthly-meet-up/2027-10-27/
CATEGORIES:General Event
ATTACH;FMTTYPE=image/png:https://www.mindbodysolutions.org/wp-content/uploads/2024/03/Chat-Amongst-logo-final-600-x-300-px-e1718280337409.png
END:VEVENT
BEGIN:VEVENT
DTSTART;TZID=America/Chicago:20271124T130000
DTEND;TZID=America/Chicago:20271124T143000
DTSTAMP:20260424T042110
CREATED:20250303T205054Z
LAST-MODIFIED:20250303T205054Z
UID:55323-1827061200-1827066600@www.mindbodysolutions.org
SUMMARY:Chat Amongst Ourselves - Monthly Meet Up
DESCRIPTION:Grab a cuppa and join us for a light-hearted chat. This will be a low-key\, safe space where we can hang out and find our own voice. It’s an opportunity for us to keep each other company and talk all things disability and yoga. Contribute as much or as little as you like —  no pressure here. No yoga or disability know-how is required\, all we ask is you be your perfectly imperfect self!  Let’s bridge the gap between yoga and community in this new zoom room\, just for us!
URL:https://www.mindbodysolutions.org/event/chat-amongst-ourselves-monthly-meet-up/2027-11-24/
CATEGORIES:General Event
ATTACH;FMTTYPE=image/png:https://www.mindbodysolutions.org/wp-content/uploads/2024/03/Chat-Amongst-logo-final-600-x-300-px-e1718280337409.png
END:VEVENT
BEGIN:VEVENT
DTSTART;TZID=America/Chicago:20271229T130000
DTEND;TZID=America/Chicago:20271229T143000
DTSTAMP:20260424T042110
CREATED:20250303T205054Z
LAST-MODIFIED:20250303T205054Z
UID:55324-1830085200-1830090600@www.mindbodysolutions.org
SUMMARY:Chat Amongst Ourselves - Monthly Meet Up
DESCRIPTION:Grab a cuppa and join us for a light-hearted chat. This will be a low-key\, safe space where we can hang out and find our own voice. It’s an opportunity for us to keep each other company and talk all things disability and yoga. Contribute as much or as little as you like —  no pressure here. No yoga or disability know-how is required\, all we ask is you be your perfectly imperfect self!  Let’s bridge the gap between yoga and community in this new zoom room\, just for us!
URL:https://www.mindbodysolutions.org/event/chat-amongst-ourselves-monthly-meet-up/2027-12-29/
CATEGORIES:General Event
ATTACH;FMTTYPE=image/png:https://www.mindbodysolutions.org/wp-content/uploads/2024/03/Chat-Amongst-logo-final-600-x-300-px-e1718280337409.png
END:VEVENT
END:VCALENDAR