BEGIN:VCALENDAR
VERSION:2.0
PRODID:-//Mind Body Solutions - ECPv6.15.20//NONSGML v1.0//EN
CALSCALE:GREGORIAN
METHOD:PUBLISH
X-ORIGINAL-URL:https://www.mindbodysolutions.org
X-WR-CALDESC:Events for Mind Body Solutions
REFRESH-INTERVAL;VALUE=DURATION:PT1H
X-Robots-Tag:noindex
X-PUBLISHED-TTL:PT1H
BEGIN:VTIMEZONE
TZID:America/Chicago
BEGIN:DAYLIGHT
TZOFFSETFROM:-0600
TZOFFSETTO:-0500
TZNAME:CDT
DTSTART:20250309T080000
END:DAYLIGHT
BEGIN:STANDARD
TZOFFSETFROM:-0500
TZOFFSETTO:-0600
TZNAME:CST
DTSTART:20251102T070000
END:STANDARD
BEGIN:DAYLIGHT
TZOFFSETFROM:-0600
TZOFFSETTO:-0500
TZNAME:CDT
DTSTART:20260308T080000
END:DAYLIGHT
BEGIN:STANDARD
TZOFFSETFROM:-0500
TZOFFSETTO:-0600
TZNAME:CST
DTSTART:20261101T070000
END:STANDARD
BEGIN:DAYLIGHT
TZOFFSETFROM:-0600
TZOFFSETTO:-0500
TZNAME:CDT
DTSTART:20270314T080000
END:DAYLIGHT
BEGIN:STANDARD
TZOFFSETFROM:-0500
TZOFFSETTO:-0600
TZNAME:CST
DTSTART:20271107T070000
END:STANDARD
END:VTIMEZONE
BEGIN:VEVENT
DTSTART;TZID=America/Chicago:20260514T120000
DTEND;TZID=America/Chicago:20260514T130000
DTSTAMP:20260424T073706
CREATED:20260208T193722Z
LAST-MODIFIED:20260208T194116Z
UID:55379-1778760000-1778763600@www.mindbodysolutions.org
SUMMARY:2026 Sandbox Sessions - Complete Series
DESCRIPTION:Each month we will discuss a topic related to teaching adaptive yoga – yoga for Every Body! Join us the second Thursday of each month for these lively\, free discussions!! Register for Sandbox Series here. You will receive a link an hour before our gathering each month and are welcome to join any and all of the sessions!! \n2026 Session Dates and Discussion Topics \nFebruary 12\, 12-1PM CT – Welcomings and Introductions\nMarch 12\, 12-1PM CT – Sensations Before Shapes\nApril 9\, 12-1PM CT – The Art of Invitations\nMay 14\, 12-1PM CT – Honoring Awareness\nJune 11\, 12-1PM CT – Practical Matters\nJuly 9\, 12-1PM CT – Pose Play Part One\nAugust 13\, 12-1PM CT – Pacing\nSeptember 10\, 12-1PM CT – Off the Matt and Into the World\nOctober 8\, 12-1PM CT – Using What You Have\nNovember 12\, 12-1PM CT – Pose Play Part Two\nDecember 10\, 12-1PM CT – End of Year Reflections
URL:https://www.mindbodysolutions.org/event/2026-sandbox-sessions-complete-series/2026-05-14/
CATEGORIES:General Event
ATTACH;FMTTYPE=image/png:https://www.mindbodysolutions.org/wp-content/uploads/2025/01/Website-graphic.png
END:VEVENT
BEGIN:VEVENT
DTSTART;TZID=America/Chicago:20260611T120000
DTEND;TZID=America/Chicago:20260611T130000
DTSTAMP:20260424T073706
CREATED:20260208T193722Z
LAST-MODIFIED:20260208T194117Z
UID:55380-1781179200-1781182800@www.mindbodysolutions.org
SUMMARY:2026 Sandbox Sessions - Complete Series
DESCRIPTION:Each month we will discuss a topic related to teaching adaptive yoga – yoga for Every Body! Join us the second Thursday of each month for these lively\, free discussions!! Register for Sandbox Series here. You will receive a link an hour before our gathering each month and are welcome to join any and all of the sessions!! \n2026 Session Dates and Discussion Topics \nFebruary 12\, 12-1PM CT – Welcomings and Introductions\nMarch 12\, 12-1PM CT – Sensations Before Shapes\nApril 9\, 12-1PM CT – The Art of Invitations\nMay 14\, 12-1PM CT – Honoring Awareness\nJune 11\, 12-1PM CT – Practical Matters\nJuly 9\, 12-1PM CT – Pose Play Part One\nAugust 13\, 12-1PM CT – Pacing\nSeptember 10\, 12-1PM CT – Off the Matt and Into the World\nOctober 8\, 12-1PM CT – Using What You Have\nNovember 12\, 12-1PM CT – Pose Play Part Two\nDecember 10\, 12-1PM CT – End of Year Reflections
URL:https://www.mindbodysolutions.org/event/2026-sandbox-sessions-complete-series/2026-06-11/
CATEGORIES:General Event
ATTACH;FMTTYPE=image/png:https://www.mindbodysolutions.org/wp-content/uploads/2025/01/Website-graphic.png
END:VEVENT
BEGIN:VEVENT
DTSTART;TZID=America/Chicago:20260709T120000
DTEND;TZID=America/Chicago:20260709T130000
DTSTAMP:20260424T073706
CREATED:20260208T193722Z
LAST-MODIFIED:20260208T194117Z
UID:55381-1783598400-1783602000@www.mindbodysolutions.org
SUMMARY:2026 Sandbox Sessions - Complete Series
DESCRIPTION:Each month we will discuss a topic related to teaching adaptive yoga – yoga for Every Body! Join us the second Thursday of each month for these lively\, free discussions!! Register for Sandbox Series here. You will receive a link an hour before our gathering each month and are welcome to join any and all of the sessions!! \n2026 Session Dates and Discussion Topics \nFebruary 12\, 12-1PM CT – Welcomings and Introductions\nMarch 12\, 12-1PM CT – Sensations Before Shapes\nApril 9\, 12-1PM CT – The Art of Invitations\nMay 14\, 12-1PM CT – Honoring Awareness\nJune 11\, 12-1PM CT – Practical Matters\nJuly 9\, 12-1PM CT – Pose Play Part One\nAugust 13\, 12-1PM CT – Pacing\nSeptember 10\, 12-1PM CT – Off the Matt and Into the World\nOctober 8\, 12-1PM CT – Using What You Have\nNovember 12\, 12-1PM CT – Pose Play Part Two\nDecember 10\, 12-1PM CT – End of Year Reflections
URL:https://www.mindbodysolutions.org/event/2026-sandbox-sessions-complete-series/2026-07-09/
CATEGORIES:General Event
ATTACH;FMTTYPE=image/png:https://www.mindbodysolutions.org/wp-content/uploads/2025/01/Website-graphic.png
END:VEVENT
BEGIN:VEVENT
DTSTART;TZID=America/Chicago:20260813T120000
DTEND;TZID=America/Chicago:20260813T130000
DTSTAMP:20260424T073706
CREATED:20260208T193722Z
LAST-MODIFIED:20260208T194117Z
UID:55382-1786622400-1786626000@www.mindbodysolutions.org
SUMMARY:2026 Sandbox Sessions - Complete Series
DESCRIPTION:Each month we will discuss a topic related to teaching adaptive yoga – yoga for Every Body! Join us the second Thursday of each month for these lively\, free discussions!! Register for Sandbox Series here. You will receive a link an hour before our gathering each month and are welcome to join any and all of the sessions!! \n2026 Session Dates and Discussion Topics \nFebruary 12\, 12-1PM CT – Welcomings and Introductions\nMarch 12\, 12-1PM CT – Sensations Before Shapes\nApril 9\, 12-1PM CT – The Art of Invitations\nMay 14\, 12-1PM CT – Honoring Awareness\nJune 11\, 12-1PM CT – Practical Matters\nJuly 9\, 12-1PM CT – Pose Play Part One\nAugust 13\, 12-1PM CT – Pacing\nSeptember 10\, 12-1PM CT – Off the Matt and Into the World\nOctober 8\, 12-1PM CT – Using What You Have\nNovember 12\, 12-1PM CT – Pose Play Part Two\nDecember 10\, 12-1PM CT – End of Year Reflections
URL:https://www.mindbodysolutions.org/event/2026-sandbox-sessions-complete-series/2026-08-13/
CATEGORIES:General Event
ATTACH;FMTTYPE=image/png:https://www.mindbodysolutions.org/wp-content/uploads/2025/01/Website-graphic.png
END:VEVENT
BEGIN:VEVENT
DTSTART;TZID=America/Chicago:20260910T120000
DTEND;TZID=America/Chicago:20260910T130000
DTSTAMP:20260424T073706
CREATED:20260208T193722Z
LAST-MODIFIED:20260208T194118Z
UID:55383-1789041600-1789045200@www.mindbodysolutions.org
SUMMARY:2026 Sandbox Sessions - Complete Series
DESCRIPTION:Each month we will discuss a topic related to teaching adaptive yoga – yoga for Every Body! Join us the second Thursday of each month for these lively\, free discussions!! Register for Sandbox Series here. You will receive a link an hour before our gathering each month and are welcome to join any and all of the sessions!! \n2026 Session Dates and Discussion Topics \nFebruary 12\, 12-1PM CT – Welcomings and Introductions\nMarch 12\, 12-1PM CT – Sensations Before Shapes\nApril 9\, 12-1PM CT – The Art of Invitations\nMay 14\, 12-1PM CT – Honoring Awareness\nJune 11\, 12-1PM CT – Practical Matters\nJuly 9\, 12-1PM CT – Pose Play Part One\nAugust 13\, 12-1PM CT – Pacing\nSeptember 10\, 12-1PM CT – Off the Matt and Into the World\nOctober 8\, 12-1PM CT – Using What You Have\nNovember 12\, 12-1PM CT – Pose Play Part Two\nDecember 10\, 12-1PM CT – End of Year Reflections
URL:https://www.mindbodysolutions.org/event/2026-sandbox-sessions-complete-series/2026-09-10/
CATEGORIES:General Event
ATTACH;FMTTYPE=image/png:https://www.mindbodysolutions.org/wp-content/uploads/2025/01/Website-graphic.png
END:VEVENT
BEGIN:VEVENT
DTSTART;TZID=America/Chicago:20261008T120000
DTEND;TZID=America/Chicago:20261008T130000
DTSTAMP:20260424T073706
CREATED:20260208T193722Z
LAST-MODIFIED:20260208T194118Z
UID:55384-1791460800-1791464400@www.mindbodysolutions.org
SUMMARY:2026 Sandbox Sessions - Complete Series
DESCRIPTION:Each month we will discuss a topic related to teaching adaptive yoga – yoga for Every Body! Join us the second Thursday of each month for these lively\, free discussions!! Register for Sandbox Series here. You will receive a link an hour before our gathering each month and are welcome to join any and all of the sessions!! \n2026 Session Dates and Discussion Topics \nFebruary 12\, 12-1PM CT – Welcomings and Introductions\nMarch 12\, 12-1PM CT – Sensations Before Shapes\nApril 9\, 12-1PM CT – The Art of Invitations\nMay 14\, 12-1PM CT – Honoring Awareness\nJune 11\, 12-1PM CT – Practical Matters\nJuly 9\, 12-1PM CT – Pose Play Part One\nAugust 13\, 12-1PM CT – Pacing\nSeptember 10\, 12-1PM CT – Off the Matt and Into the World\nOctober 8\, 12-1PM CT – Using What You Have\nNovember 12\, 12-1PM CT – Pose Play Part Two\nDecember 10\, 12-1PM CT – End of Year Reflections
URL:https://www.mindbodysolutions.org/event/2026-sandbox-sessions-complete-series/2026-10-08/
CATEGORIES:General Event
ATTACH;FMTTYPE=image/png:https://www.mindbodysolutions.org/wp-content/uploads/2025/01/Website-graphic.png
END:VEVENT
BEGIN:VEVENT
DTSTART;TZID=America/Chicago:20261112T120000
DTEND;TZID=America/Chicago:20261112T130000
DTSTAMP:20260424T073706
CREATED:20260208T193722Z
LAST-MODIFIED:20260208T194118Z
UID:55385-1794484800-1794488400@www.mindbodysolutions.org
SUMMARY:2026 Sandbox Sessions - Complete Series
DESCRIPTION:Each month we will discuss a topic related to teaching adaptive yoga – yoga for Every Body! Join us the second Thursday of each month for these lively\, free discussions!! Register for Sandbox Series here. You will receive a link an hour before our gathering each month and are welcome to join any and all of the sessions!! \n2026 Session Dates and Discussion Topics \nFebruary 12\, 12-1PM CT – Welcomings and Introductions\nMarch 12\, 12-1PM CT – Sensations Before Shapes\nApril 9\, 12-1PM CT – The Art of Invitations\nMay 14\, 12-1PM CT – Honoring Awareness\nJune 11\, 12-1PM CT – Practical Matters\nJuly 9\, 12-1PM CT – Pose Play Part One\nAugust 13\, 12-1PM CT – Pacing\nSeptember 10\, 12-1PM CT – Off the Matt and Into the World\nOctober 8\, 12-1PM CT – Using What You Have\nNovember 12\, 12-1PM CT – Pose Play Part Two\nDecember 10\, 12-1PM CT – End of Year Reflections
URL:https://www.mindbodysolutions.org/event/2026-sandbox-sessions-complete-series/2026-11-12/
CATEGORIES:General Event
ATTACH;FMTTYPE=image/png:https://www.mindbodysolutions.org/wp-content/uploads/2025/01/Website-graphic.png
END:VEVENT
BEGIN:VEVENT
DTSTART;TZID=America/Chicago:20261210T120000
DTEND;TZID=America/Chicago:20261210T130000
DTSTAMP:20260424T073706
CREATED:20260208T193722Z
LAST-MODIFIED:20260208T194119Z
UID:55386-1796904000-1796907600@www.mindbodysolutions.org
SUMMARY:2026 Sandbox Sessions - Complete Series
DESCRIPTION:Each month we will discuss a topic related to teaching adaptive yoga – yoga for Every Body! Join us the second Thursday of each month for these lively\, free discussions!! Register for Sandbox Series here. You will receive a link an hour before our gathering each month and are welcome to join any and all of the sessions!! \n2026 Session Dates and Discussion Topics \nFebruary 12\, 12-1PM CT – Welcomings and Introductions\nMarch 12\, 12-1PM CT – Sensations Before Shapes\nApril 9\, 12-1PM CT – The Art of Invitations\nMay 14\, 12-1PM CT – Honoring Awareness\nJune 11\, 12-1PM CT – Practical Matters\nJuly 9\, 12-1PM CT – Pose Play Part One\nAugust 13\, 12-1PM CT – Pacing\nSeptember 10\, 12-1PM CT – Off the Matt and Into the World\nOctober 8\, 12-1PM CT – Using What You Have\nNovember 12\, 12-1PM CT – Pose Play Part Two\nDecember 10\, 12-1PM CT – End of Year Reflections
URL:https://www.mindbodysolutions.org/event/2026-sandbox-sessions-complete-series/2026-12-10/
CATEGORIES:General Event
ATTACH;FMTTYPE=image/png:https://www.mindbodysolutions.org/wp-content/uploads/2025/01/Website-graphic.png
END:VEVENT
END:VCALENDAR